BEGIN:VCALENDAR
VERSION:2.0
PRODID:-//Temple Sinai - ECPv6.15.20//NONSGML v1.0//EN
CALSCALE:GREGORIAN
METHOD:PUBLISH
X-ORIGINAL-URL:https://www.templesinaidc.org
X-WR-CALDESC:Events for Temple Sinai
REFRESH-INTERVAL;VALUE=DURATION:PT1H
X-Robots-Tag:noindex
X-PUBLISHED-TTL:PT1H
BEGIN:VTIMEZONE
TZID:America/New_York
BEGIN:DAYLIGHT
TZOFFSETFROM:-0500
TZOFFSETTO:-0400
TZNAME:EDT
DTSTART:20240310T070000
END:DAYLIGHT
BEGIN:STANDARD
TZOFFSETFROM:-0400
TZOFFSETTO:-0500
TZNAME:EST
DTSTART:20241103T060000
END:STANDARD
BEGIN:DAYLIGHT
TZOFFSETFROM:-0500
TZOFFSETTO:-0400
TZNAME:EDT
DTSTART:20250309T070000
END:DAYLIGHT
BEGIN:STANDARD
TZOFFSETFROM:-0400
TZOFFSETTO:-0500
TZNAME:EST
DTSTART:20251102T060000
END:STANDARD
BEGIN:DAYLIGHT
TZOFFSETFROM:-0500
TZOFFSETTO:-0400
TZNAME:EDT
DTSTART:20260308T070000
END:DAYLIGHT
BEGIN:STANDARD
TZOFFSETFROM:-0400
TZOFFSETTO:-0500
TZNAME:EST
DTSTART:20261101T060000
END:STANDARD
END:VTIMEZONE
BEGIN:VEVENT
DTSTART;TZID=America/New_York:20251201T103000
DTEND;TZID=America/New_York:20251201T120000
DTSTAMP:20260420T211024
CREATED:20250701T202426Z
LAST-MODIFIED:20250701T202426Z
UID:10003489-1764585000-1764590400@www.templesinaidc.org
SUMMARY:Bereavement Support Group
DESCRIPTION:Sinai Cares Staff Clinical Social Worker Deborah Gordis will be facilitating an 8-week adult bereavement support group\, beginning Monday October 20\, for individuals who have experienced recent loss due to the death of a parent\, sibling\, or spouse/partner. Bereavement groups allow those who have lost a loved one to share and process their grief with others who have experienced a similar loss. \nThe group will meet in person once a week on Monday mornings at 10:30 am; in cases of significant weather or illness challenges we will move to Zoom. The goal of the group is to provide a space for connection and healing within a safe and supportive environment. Group size is limited to 8-10 participants. \n\nIf you have questions about whether this group is right for you\, or if you would like to participate\, please reach out by email to Deb at dgordis@templesinaidc.org.
URL:https://www.templesinaidc.org/event/bereavement-support-group/2025-12-01/
CATEGORIES:Support Groups
END:VEVENT
BEGIN:VEVENT
DTSTART;TZID=America/New_York:20251202T180000
DTEND;TZID=America/New_York:20251202T203000
DTSTAMP:20260420T211024
CREATED:20250820T164310Z
LAST-MODIFIED:20250820T164310Z
UID:10003780-1764698400-1764707400@www.templesinaidc.org
SUMMARY:Noar & Temple Teens
DESCRIPTION:Optional Pizza Dinner: 6:00-6:30 pm \nClasses: 6:30-8:30 pm \n\n\n\nReport an Absence\n\n\n\n 
URL:https://www.templesinaidc.org/event/noar-temple-teens/2025-12-02/
LOCATION:Temple Sinai – 3100 Military Road NW\, Washington\, DC\, United States
CATEGORIES:Religious School,Temple Teens
GEO:38.96926;-77.070949
END:VEVENT
BEGIN:VEVENT
DTSTART;TZID=America/New_York:20251203T193000
DTEND;TZID=America/New_York:20251203T210000
DTSTAMP:20260420T211024
CREATED:20250212T202132Z
LAST-MODIFIED:20260309T190249Z
UID:10001737-1764790200-1764795600@www.templesinaidc.org
SUMMARY:Officers' Meeting
DESCRIPTION:
URL:https://www.templesinaidc.org/event/officers-meeting-10/2025-12-03/
CATEGORIES:Community
LOCATION:https://www.templesinaidc.org/event/officers-meeting-10/2025-12-03/
END:VEVENT
BEGIN:VEVENT
DTSTART;TZID=America/New_York:20251205T163000
DTEND;TZID=America/New_York:20251205T181500
DTSTAMP:20260420T211024
CREATED:20250820T141044Z
LAST-MODIFIED:20260227T162247Z
UID:10003641-1764952200-1764958500@www.templesinaidc.org
SUMMARY:First Friday Oneg Shabbat (Temple Teens)
DESCRIPTION:End the week by coming and having a casual hang with your Temple Sinai friends – old and new.  We’ll gather in the Youth Lounge for snacks\, games\, chats\, and Shabbat vibes.  RSVP is required – cost is free!  Stay for services after if you’d like!  Questions?  Email Tess!  tweiss@templesinaidc.org
URL:https://www.templesinaidc.org/event/first-friday-oneg-shabbat-temple-teens/2025-12-05/
LOCATION:Temple Sinai – 3100 Military Road NW\, Washington\, DC\, United States
CATEGORIES:Religious School,Temple Teens
GEO:38.96926;-77.070949
END:VEVENT
BEGIN:VEVENT
DTSTART;TZID=America/New_York:20251207T100000
DTEND;TZID=America/New_York:20251207T120000
DTSTAMP:20260420T211024
CREATED:20250902T123537Z
LAST-MODIFIED:20250902T123537Z
UID:10003833-1765101600-1765108800@www.templesinaidc.org
SUMMARY:TSWRJ Board Meeting
DESCRIPTION:
URL:https://www.templesinaidc.org/event/tswrj-board-meeting-5/
CATEGORIES:TSWRJ
END:VEVENT
BEGIN:VEVENT
DTSTART;TZID=America/New_York:20251208T103000
DTEND;TZID=America/New_York:20251208T120000
DTSTAMP:20260420T211024
CREATED:20250701T202426Z
LAST-MODIFIED:20250701T202426Z
UID:10003490-1765189800-1765195200@www.templesinaidc.org
SUMMARY:Bereavement Support Group
DESCRIPTION:Sinai Cares Staff Clinical Social Worker Deborah Gordis will be facilitating an 8-week adult bereavement support group\, beginning Monday October 20\, for individuals who have experienced recent loss due to the death of a parent\, sibling\, or spouse/partner. Bereavement groups allow those who have lost a loved one to share and process their grief with others who have experienced a similar loss. \nThe group will meet in person once a week on Monday mornings at 10:30 am; in cases of significant weather or illness challenges we will move to Zoom. The goal of the group is to provide a space for connection and healing within a safe and supportive environment. Group size is limited to 8-10 participants. \n\nIf you have questions about whether this group is right for you\, or if you would like to participate\, please reach out by email to Deb at dgordis@templesinaidc.org.
URL:https://www.templesinaidc.org/event/bereavement-support-group/2025-12-08/
CATEGORIES:Support Groups
END:VEVENT
BEGIN:VEVENT
DTSTART;TZID=America/New_York:20251209T180000
DTEND;TZID=America/New_York:20251209T203000
DTSTAMP:20260420T211024
CREATED:20250820T164310Z
LAST-MODIFIED:20250820T164310Z
UID:10003781-1765303200-1765312200@www.templesinaidc.org
SUMMARY:Noar & Temple Teens
DESCRIPTION:Optional Pizza Dinner: 6:00-6:30 pm \nClasses: 6:30-8:30 pm \n\n\n\nReport an Absence\n\n\n\n 
URL:https://www.templesinaidc.org/event/noar-temple-teens/2025-12-09/
LOCATION:Temple Sinai – 3100 Military Road NW\, Washington\, DC\, United States
CATEGORIES:Religious School,Temple Teens
GEO:38.96926;-77.070949
END:VEVENT
BEGIN:VEVENT
DTSTART;TZID=America/New_York:20251210T190000
DTEND;TZID=America/New_York:20251210T210000
DTSTAMP:20260420T211024
CREATED:20251008T142204Z
LAST-MODIFIED:20251008T142204Z
UID:10003810-1765393200-1765400400@www.templesinaidc.org
SUMMARY:TSMRJ Book Discussion
DESCRIPTION:Join us for a discussion of The Heaven & Earth Grocery Store: A Novel by James McBride. (Note: This is instead of the previously announced selection\, The Commitments by Roddy Doyle\, which was not easily available.)  The story is a murder mystery set in a dilapidated western Pennsylvanian community inhabited by Jewish immigrants and African Americans\, both “(struggling) to survive at the margins of white Christian America and how damaging bigotry\, hypocrisy\, and deceit can be to a community.”   The DC and Montgomery County library systems have multiple copies of the book in various formats.  For more information\, contact Howard Oppenheim.
URL:https://www.templesinaidc.org/event/tsmrj-book-discussion-2/
CATEGORIES:Adult Education,Spotlight,TSMRJ
ATTACH;FMTTYPE=image/jpeg:https://www.templesinaidc.org/wp-content/uploads/2025/09/McBride.jpg
END:VEVENT
BEGIN:VEVENT
DTSTART;TZID=America/New_York:20251212T173000
DTEND;TZID=America/New_York:20251212T183000
DTSTAMP:20260420T211024
CREATED:20250912T152834Z
LAST-MODIFIED:20250912T152834Z
UID:10003886-1765560600-1765564200@www.templesinaidc.org
SUMMARY:Family Shabbat Dinner
DESCRIPTION:Come at 5:30 pm for a casual pizza dinner and activities before the 6:30 pm Shabbat Service. \nRSVP here \nThe cost is $18 per family to ensure this program can continue to thrive. Additional donations are welcome and a zero-cost option is available if this is more appropriate for your family.
URL:https://www.templesinaidc.org/event/family-shabbat-dinner-6/
LOCATION:Temple Sinai – 3100 Military Road NW\, Washington\, DC\, United States
CATEGORIES:Community,Spotlight,Target,Young Families
ATTACH;FMTTYPE=image/png:https://www.templesinaidc.org/wp-content/uploads/2025/07/Family-Shabbats-2025-26.png
GEO:38.96926;-77.070949
END:VEVENT
BEGIN:VEVENT
DTSTART;TZID=America/New_York:20251213T190000
DTEND;TZID=America/New_York:20251213T220000
DTSTAMP:20260420T211024
CREATED:20251031T162104Z
LAST-MODIFIED:20251118T152129Z
UID:10003990-1765652400-1765663200@www.templesinaidc.org
SUMMARY:Chanukah Glow Jam
DESCRIPTION:Black lights\, glow sticks\, neon tees\, a great DJ\, and your Chanukah favorite foods…There isn’t a better way to get ready for Chanukah than to join with teens from ALL OVER the DMV for a Chanukah Party that will be talked about for years! \n\nOpen to all Jewish 8th-12th Graders\n$36/ teen \n\nRegister \n(Finances are not a barrier to participation.  Please email Tess at tweiss@templesinaidc.org for fee reduction) \nWant to help plan?  We’re looking for teen leaders to make this event extra awesome.  Let Tess know by emailing her at tweiss@templesinaidc.org!
URL:https://www.templesinaidc.org/event/chanukah-glow-jam/
CATEGORIES:Chanukah,Holidays,Religious School,Temple Teens
ATTACH;FMTTYPE=image/png:https://www.templesinaidc.org/wp-content/uploads/2025/10/Show-Your-Glow-Graphic-TW.png
END:VEVENT
BEGIN:VEVENT
DTSTART;TZID=America/New_York:20251214T090000
DTEND;TZID=America/New_York:20251214T103000
DTSTAMP:20260420T211024
CREATED:20250212T155202Z
LAST-MODIFIED:20260303T183004Z
UID:10003336-1765702800-1765708200@www.templesinaidc.org
SUMMARY:TSWRJ Hike
DESCRIPTION:Meet the WRJ for a hike in Rock Creek Park. Contact Liz Brenner for the meeting location.
URL:https://www.templesinaidc.org/event/tswrj-hike-3/2025-12-14/
CATEGORIES:TSWRJ
ATTACH;FMTTYPE=image/jpeg:https://www.templesinaidc.org/wp-content/uploads/2025/02/WRJ-Hike.jpg
END:VEVENT
BEGIN:VEVENT
DTSTART;TZID=America/New_York:20251216T180000
DTEND;TZID=America/New_York:20251216T203000
DTSTAMP:20260420T211024
CREATED:20250820T164310Z
LAST-MODIFIED:20250820T164310Z
UID:10003782-1765908000-1765917000@www.templesinaidc.org
SUMMARY:Noar & Temple Teens
DESCRIPTION:Optional Pizza Dinner: 6:00-6:30 pm \nClasses: 6:30-8:30 pm \n\n\n\nReport an Absence\n\n\n\n 
URL:https://www.templesinaidc.org/event/noar-temple-teens/2025-12-16/
LOCATION:Temple Sinai – 3100 Military Road NW\, Washington\, DC\, United States
CATEGORIES:Religious School,Temple Teens
GEO:38.96926;-77.070949
END:VEVENT
BEGIN:VEVENT
DTSTART;TZID=America/New_York:20251217T103000
DTEND;TZID=America/New_York:20251217T113000
DTSTAMP:20260420T211024
CREATED:20250212T172144Z
LAST-MODIFIED:20250612T122207Z
UID:10001638-1765967400-1765971000@www.templesinaidc.org
SUMMARY:Daytimers Social
DESCRIPTION:Attention retirees! Please join us the 3rd Wednesday of the month for an in-person social hour in our beautiful new space. We will provide the coffee and homemade cake\, and you will provide the company and conversation. If you can\, please let Karen Auerbach know if you are coming. You are also welcome to just show up!
URL:https://www.templesinaidc.org/event/daytimers-social-10/2025-12-17/
LOCATION:Temple Sinai – 3100 Military Road NW\, Washington\, DC\, United States
CATEGORIES:Community
GEO:38.96926;-77.070949
END:VEVENT
BEGIN:VEVENT
DTSTART;TZID=America/New_York:20251217T103000
DTEND;TZID=America/New_York:20251217T113000
DTSTAMP:20260420T211024
CREATED:20250212T203322Z
LAST-MODIFIED:20251218T200117Z
UID:10003840-1765967400-1765971000@www.templesinaidc.org
SUMMARY:Caregivers Drop-In Group
DESCRIPTION:Are you caregiving for a loved one? Are you seeking a safe space to talk about the stresses and challenges of caring for someone with dementia/Alzheimer’s\, stroke\, cancer and other debilitating chronic illnesses? Please join us for a monthly drop-in group\, usually on the last Wednesday of the month at 10:30 am\, informally facilitated by Sinai Cares Staff Social Worker Deborah Gordis. These sessions provide an unstructured opportunity for peer support\, sharing and connection. All are welcome. Please reach out to Deb with any questions at dgordis@templesinaidc.org.
URL:https://www.templesinaidc.org/event/caregivers-drop-in-group-9/2025-12-17/
LOCATION:Temple Sinai – 3100 Military Road NW\, Washington\, DC\, United States
CATEGORIES:Support Groups
GEO:38.96926;-77.070949
END:VEVENT
BEGIN:VEVENT
DTSTART;TZID=America/New_York:20251217T193000
DTEND;TZID=America/New_York:20251217T213000
DTSTAMP:20260420T211024
CREATED:20250212T202348Z
LAST-MODIFIED:20250520T130740Z
UID:10001798-1765999800-1766007000@www.templesinaidc.org
SUMMARY:Board of Trustees Meeting
DESCRIPTION:
URL:https://www.templesinaidc.org/event/board-of-trustees-meeting-8/2025-12-17/
LOCATION:Temple Sinai – 3100 Military Road NW\, Washington\, DC\, United States
CATEGORIES:Community
GEO:38.96926;-77.070949
END:VEVENT
BEGIN:VEVENT
DTSTART;TZID=America/New_York:20251218T100000
DTEND;TZID=America/New_York:20251218T120000
DTSTAMP:20260420T211024
CREATED:20250820T193342Z
LAST-MODIFIED:20250912T160508Z
UID:10003802-1766052000-1766059200@www.templesinaidc.org
SUMMARY:Volunteering at A Wider Circle
DESCRIPTION:Volunteer at A Wider Circle with your fellow TS members! Lunch is not included in this program but those interested in going to Parkway Deli afterwards are more than welcome! If you have questions\, please contact Jim Jaffe or Ed Cohen. \nRSVP
URL:https://www.templesinaidc.org/event/volunteering-at-a-wider-circle-4/2025-12-18/
LOCATION:A Wider Circle – 9159 Brookville Rd\, Silver Spring\, MD\, United States
CATEGORIES:Davis Center for Social Justice,Social Action,Spotlight,TSMRJ
ATTACH;FMTTYPE=image/jpeg:https://www.templesinaidc.org/wp-content/uploads/2025/02/TSMRJ-Wider-Circle-scaled.jpg
GEO:39.003109;-77.029648
END:VEVENT
BEGIN:VEVENT
DTSTART;TZID=America/New_York:20251218T193000
DTEND;TZID=America/New_York:20251218T213000
DTSTAMP:20260420T211024
CREATED:20250212T202607Z
LAST-MODIFIED:20250611T122228Z
UID:10001858-1766086200-1766093400@www.templesinaidc.org
SUMMARY:YAWS Meeting
DESCRIPTION:We are a group of parents of young adults and teens who are struggling with life. Examples of such difficulties might be: isolation\, social difficulties\, school avoidance\, school failure or other learning differences\, vocational struggles\, inhibitions around launching and independence or strained relations with friends and family. Many struggle with mental illness\, learning disabilities\, Asperger’s\, substance abuse or autism. Some are undiagnosed\, just not living up to society’s expectations. \n\n\nWe meet once a month and support and encourage one another as we look at strategies for helping our young adults. We understand the journey\, which has many twists and turns\, often not what we expected when thinking about raising a child. We laugh\, cry\, share resources\, and support one another. Occasionally\, we have speakers join us and supplement our knowledge of resources available\, including housing options\, legal remedies\, new medications or treatments\, etc. \n\nThe group meets monthly and is open to anyone interested. All information shared is completely confidential. Should you have any questions\, please call the Temple Sinai office at (202) 363-6394.
URL:https://www.templesinaidc.org/event/yaws-meeting-6/2025-12-18/
LOCATION:Temple Sinai – 3100 Military Road NW\, Washington\, DC\, United States
CATEGORIES:Support Groups
GEO:38.96926;-77.070949
END:VEVENT
BEGIN:VEVENT
DTSTART;TZID=America/New_York:20251220T100000
DTEND;TZID=America/New_York:20251220T113000
DTSTAMP:20260420T211024
CREATED:20250813T141835Z
LAST-MODIFIED:20251121T171809Z
UID:10002865-1766224800-1766230200@www.templesinaidc.org
SUMMARY:Tot Chanukah Celebration
DESCRIPTION:Celebrate Chanukah with us! We will welcome local author Pamela Ehrenberg who will read her book Queen of the Hanukkah Dosas. We will also sing and dance to Chanukah favorites with Rabbi Goldstein\, make Chanukah crafts\, play dreidel\, light candles\, and eat Chanukah treats (and dosas too!). \nRSVP here \nThis event is best for children ages 0-5 and their families\, including grandparents! \n 
URL:https://www.templesinaidc.org/event/tot-chanukah-celebration/
CATEGORIES:Chanukah,Holidays,Spotlight,Young Families
ATTACH;FMTTYPE=image/jpeg:https://www.templesinaidc.org/wp-content/uploads/2025/08/Tot-Chanukah-Email.jpg
END:VEVENT
END:VCALENDAR