BEGIN:VCALENDAR
VERSION:2.0
PRODID:-//Temple Sinai - ECPv6.15.20//NONSGML v1.0//EN
CALSCALE:GREGORIAN
METHOD:PUBLISH
X-WR-CALNAME:Temple Sinai
X-ORIGINAL-URL:https://www.templesinaidc.org
X-WR-CALDESC:Events for Temple Sinai
REFRESH-INTERVAL;VALUE=DURATION:PT1H
X-Robots-Tag:noindex
X-PUBLISHED-TTL:PT1H
BEGIN:VTIMEZONE
TZID:America/New_York
BEGIN:DAYLIGHT
TZOFFSETFROM:-0500
TZOFFSETTO:-0400
TZNAME:EDT
DTSTART:20250309T070000
END:DAYLIGHT
BEGIN:STANDARD
TZOFFSETFROM:-0400
TZOFFSETTO:-0500
TZNAME:EST
DTSTART:20251102T060000
END:STANDARD
BEGIN:DAYLIGHT
TZOFFSETFROM:-0500
TZOFFSETTO:-0400
TZNAME:EDT
DTSTART:20260308T070000
END:DAYLIGHT
BEGIN:STANDARD
TZOFFSETFROM:-0400
TZOFFSETTO:-0500
TZNAME:EST
DTSTART:20261101T060000
END:STANDARD
BEGIN:DAYLIGHT
TZOFFSETFROM:-0500
TZOFFSETTO:-0400
TZNAME:EDT
DTSTART:20270314T070000
END:DAYLIGHT
BEGIN:STANDARD
TZOFFSETFROM:-0400
TZOFFSETTO:-0500
TZNAME:EST
DTSTART:20271107T060000
END:STANDARD
END:VTIMEZONE
BEGIN:VEVENT
DTSTART;TZID=America/New_York:20260114T183000
DTEND;TZID=America/New_York:20260114T213000
DTSTAMP:20260421T013553
CREATED:20251218T161008Z
LAST-MODIFIED:20251218T201556Z
UID:10003631-1768415400-1768426200@www.templesinaidc.org
SUMMARY:TSMRJ Poker Night
DESCRIPTION:Enjoy a  night of friendly poker including Texas Hold ‘Em\, Omaha\, 5-Card Draw stud\, or whatever each dealer chooses – within reason 😉.   Buy-ins will be set at $20\, with a maximum raise and limits on number raises per round of bidding. We will have a tournament-like payout with a 66/33 split between the top winner and second-place.  The Brotherhood will provide dinner and beverages (beer\, soft drinks\, water). RSVP to Gary Falk.
URL:https://www.templesinaidc.org/event/tsmrj-poker-night-2/
CATEGORIES:Spotlight,TSMRJ
END:VEVENT
END:VCALENDAR