BEGIN:VCALENDAR
VERSION:2.0
PRODID:-//Temple Sinai - ECPv6.15.20//NONSGML v1.0//EN
CALSCALE:GREGORIAN
METHOD:PUBLISH
X-WR-CALNAME:Temple Sinai
X-ORIGINAL-URL:https://www.templesinaidc.org
X-WR-CALDESC:Events for Temple Sinai
REFRESH-INTERVAL;VALUE=DURATION:PT1H
X-Robots-Tag:noindex
X-PUBLISHED-TTL:PT1H
BEGIN:VTIMEZONE
TZID:America/New_York
BEGIN:DAYLIGHT
TZOFFSETFROM:-0500
TZOFFSETTO:-0400
TZNAME:EDT
DTSTART:20250309T070000
END:DAYLIGHT
BEGIN:STANDARD
TZOFFSETFROM:-0400
TZOFFSETTO:-0500
TZNAME:EST
DTSTART:20251102T060000
END:STANDARD
BEGIN:DAYLIGHT
TZOFFSETFROM:-0500
TZOFFSETTO:-0400
TZNAME:EDT
DTSTART:20260308T070000
END:DAYLIGHT
BEGIN:STANDARD
TZOFFSETFROM:-0400
TZOFFSETTO:-0500
TZNAME:EST
DTSTART:20261101T060000
END:STANDARD
BEGIN:DAYLIGHT
TZOFFSETFROM:-0500
TZOFFSETTO:-0400
TZNAME:EDT
DTSTART:20270314T070000
END:DAYLIGHT
BEGIN:STANDARD
TZOFFSETFROM:-0400
TZOFFSETTO:-0500
TZNAME:EST
DTSTART:20271107T060000
END:STANDARD
END:VTIMEZONE
BEGIN:VEVENT
DTSTART;TZID=America/New_York:20260213T183000
DTEND;TZID=America/New_York:20260213T193000
DTSTAMP:20260420T135957
CREATED:20260108T165126Z
LAST-MODIFIED:20260116T180658Z
UID:10002217-1771007400-1771011000@www.templesinaidc.org
SUMMARY:Repro/TSWRJ Shabbat Service
DESCRIPTION:The Davis Center‘s Reproductive Health & Rights Group and Temple Sinai Women of Reform Judaism will join together in celebrating Repro/TSWRJ Shabbat\, honoring the Jewish value of reproductive freedom. \nWe are delighted to welcome Allison Tombros Korman\, Founder and Executive Director of the Red Tent Fund\, as our guest speaker. The Red Tent Fund is a national abortion fund rooted in the Jewish teachings that affirm the right to abortion for all. The recent Maj Fun Day raised over $12\,000 to support the Red Tent Fund\, with whom Temple Sinai is a congregational partner. \nAt the service we will honor TSWRJ leaders and temple members who provide\, advocate for\, educate about\, and protest for abortion and reproductive health care. \nClick here for livestream. \nServices will be followed by an oneg\, sponsored by the Davis Center\, TSWRJ\, and the Wolman family in celebration of Juliet Davey Wolman’s baby naming. \nDuring the Oneg following services\, attendees will have the opportunity to create handwritten encouragement cards that will accompany the care items we are donating to abortion patients at CARE Reproductive Health Care. Attendees will also be encouraged to write postcards to Secretary of Health and Human Services Robert F. Kennedy\, Jr. in response to the Administration’s recent actions targeting medication abortion and access to mifepristone. \n  \nCelebrate TSWRJ/Repro Shabbat in song by joining the pop-up choir! No prior music training necessary- just come sing with us. We will meet at 6:00 pm to rehearse and will sing during the service. To RSVP\, please email Gail Sell at gsell@templesinaidc.org.
URL:https://www.templesinaidc.org/event/shabbat-service-6-19/
LOCATION:Temple Sinai – 3100 Military Road NW\, Washington\, DC\, United States
CATEGORIES:Social Action,Spotlight,TSWRJ,Worship
ATTACH;FMTTYPE=image/jpeg:https://www.templesinaidc.org/wp-content/uploads/2025/02/2026-Repro-WRJ-Shabbat.jpg
GEO:38.96926;-77.070949
END:VEVENT
END:VCALENDAR