BEGIN:VCALENDAR
VERSION:2.0
PRODID:-//Temple Sinai - ECPv6.15.20//NONSGML v1.0//EN
CALSCALE:GREGORIAN
METHOD:PUBLISH
X-WR-CALNAME:Temple Sinai
X-ORIGINAL-URL:https://www.templesinaidc.org
X-WR-CALDESC:Events for Temple Sinai
REFRESH-INTERVAL;VALUE=DURATION:PT1H
X-Robots-Tag:noindex
X-PUBLISHED-TTL:PT1H
BEGIN:VTIMEZONE
TZID:America/New_York
BEGIN:DAYLIGHT
TZOFFSETFROM:-0500
TZOFFSETTO:-0400
TZNAME:EDT
DTSTART:20250309T070000
END:DAYLIGHT
BEGIN:STANDARD
TZOFFSETFROM:-0400
TZOFFSETTO:-0500
TZNAME:EST
DTSTART:20251102T060000
END:STANDARD
BEGIN:DAYLIGHT
TZOFFSETFROM:-0500
TZOFFSETTO:-0400
TZNAME:EDT
DTSTART:20260308T070000
END:DAYLIGHT
BEGIN:STANDARD
TZOFFSETFROM:-0400
TZOFFSETTO:-0500
TZNAME:EST
DTSTART:20261101T060000
END:STANDARD
BEGIN:DAYLIGHT
TZOFFSETFROM:-0500
TZOFFSETTO:-0400
TZNAME:EDT
DTSTART:20270314T070000
END:DAYLIGHT
BEGIN:STANDARD
TZOFFSETFROM:-0400
TZOFFSETTO:-0500
TZNAME:EST
DTSTART:20271107T060000
END:STANDARD
END:VTIMEZONE
BEGIN:VEVENT
DTSTART;TZID=America/New_York:20260412T093000
DTEND;TZID=America/New_York:20260412T130000
DTSTAMP:20260420T124342
CREATED:20260303T174453Z
LAST-MODIFIED:20260303T174453Z
UID:10004295-1775986200-1775998800@www.templesinaidc.org
SUMMARY:TSWRJ Board Meeting & Day of Action
DESCRIPTION:On Sunday\, April 12\, Women of Reform Judaism is calling on chapters nationwide to come together for its Day of Action — and TSWRJ is answering that call. \nJoin us as we gather to help assemble Words of Our Hearts\, Temple Sinai’s collaborative art installation.  It’s a wonderful opportunity to do a mitzvah for Temple Sinai\, create something lasting alongside your Sisterhood friends\, and enjoy a light lunch together afterward. RSVP. \n\n9:30 am gather\, coffee\, tea\, snack\n10 am board meeting\n11 am work on the art project\nnoon-1 pm light lunch\n\nCheck out the video to see what we’ll be doing\, with help and guidance from TS Art Committee Chair Candace Kaller. \n 
URL:https://www.templesinaidc.org/event/tswrj-board-meeting-day-of-action/
CATEGORIES:Spotlight,TSWRJ
END:VEVENT
BEGIN:VEVENT
DTSTART;TZID=America/New_York:20260412T120000
DTEND;TZID=America/New_York:20260412T150000
DTSTAMP:20260420T124342
CREATED:20260331T161617Z
LAST-MODIFIED:20260331T161617Z
UID:10004340-1775995200-1776006000@www.templesinaidc.org
SUMMARY:JCRC Yom HaShoah Commemoration
DESCRIPTION:Join the Jewish Community Relations Council in Fairfax for their annual Yom Ha’Shoah Commemoration that brings the DMV community together to honor the victims\, survivors and family members living in the region. Holocaust survivor Irene Fogel Weiss\, a Northern Virginia resident\, will be our keynote speaker. \nThe exact location will be provided to registrants closer to the event date. Space is limited. The program will also be recorded and posted on the JCRC YouTube channel for those who are unable to attend. \nRegister \n  \nThere will also be a special teen interfaith conversation with Holocaust Survivor Peter Feigl\, planned just for Jewish teens and their peers from around our region. The event promises to be meaningful and educational\, and the added interfaith component will have an impact even beyond our immediate community. This event will also take place on Sunday\, April 12th from 12-1:15 in Northern Virginia. Lunch will be provided. RSVP HERE no later than April 7th.
URL:https://www.templesinaidc.org/event/jcrc-yom-hashoah-commemoration-2/
LOCATION:Bender JCC of Greater Washington\, 6125 Montrose Road\, Rockville\, Maryland
CATEGORIES:Community,Holidays,Temple Teens,Worship
ATTACH;FMTTYPE=image/png:https://www.templesinaidc.org/wp-content/uploads/2026/03/04-12-26-YHS-event-logos-v2.png
END:VEVENT
END:VCALENDAR