BEGIN:VCALENDAR
VERSION:2.0
PRODID:-//Temple Sinai - ECPv6.15.20//NONSGML v1.0//EN
CALSCALE:GREGORIAN
METHOD:PUBLISH
X-ORIGINAL-URL:https://www.templesinaidc.org
X-WR-CALDESC:Events for Temple Sinai
REFRESH-INTERVAL;VALUE=DURATION:PT1H
X-Robots-Tag:noindex
X-PUBLISHED-TTL:PT1H
BEGIN:VTIMEZONE
TZID:America/New_York
BEGIN:DAYLIGHT
TZOFFSETFROM:-0500
TZOFFSETTO:-0400
TZNAME:EDT
DTSTART:20250309T070000
END:DAYLIGHT
BEGIN:STANDARD
TZOFFSETFROM:-0400
TZOFFSETTO:-0500
TZNAME:EST
DTSTART:20251102T060000
END:STANDARD
BEGIN:DAYLIGHT
TZOFFSETFROM:-0500
TZOFFSETTO:-0400
TZNAME:EDT
DTSTART:20260308T070000
END:DAYLIGHT
BEGIN:STANDARD
TZOFFSETFROM:-0400
TZOFFSETTO:-0500
TZNAME:EST
DTSTART:20261101T060000
END:STANDARD
BEGIN:DAYLIGHT
TZOFFSETFROM:-0500
TZOFFSETTO:-0400
TZNAME:EDT
DTSTART:20270314T070000
END:DAYLIGHT
BEGIN:STANDARD
TZOFFSETFROM:-0400
TZOFFSETTO:-0500
TZNAME:EST
DTSTART:20271107T060000
END:STANDARD
END:VTIMEZONE
BEGIN:VEVENT
DTSTART;TZID=America/New_York:20260420T150000
DTEND;TZID=America/New_York:20260420T170000
DTSTAMP:20260420T095024
CREATED:20250813T142029Z
LAST-MODIFIED:20250926T120606Z
UID:10003896-1776697200-1776704400@www.templesinaidc.org
SUMMARY:TSWRJ Play Reading Group
DESCRIPTION:The Playreading Group is calling for Readers for our 2025-26 program. Enthusiasm is the only essential prerequisite. You absolutely do not need a drama background to join in the fun of briefly adopting another persona\, and delivering lines — without the stress and effort of memorizing a part or time-consuming rehearsal. \nOur group focuses on plays of Jewish interest. This season’s theme is JEWISH LIFE IN THE AMERICAN SOUTH\, and the 3 plays we will read are by Jewish men and women. \nSchedule of Readings:\n• Tuesday\, Oct 28\, 2025\, 3:00-5:00 pm: The Little Foxes by Lillian Hellman (1939)\n• Wednesday\, Feb 25\, 2026\, 3:00-5:00 pm: Driving Miss Daisy by Alfred Uhry (1987)\n• Monday April 20\, 2026\, 3:00-5:00 pm: Caroline\, or Change by Tony Kushner (2003) (We’ll tackle selections from this musical.) \nIf you will be able to participate in at least one of the three Readings\, please diarize the dates\, and register\, NOW. Registration: Email Myra Jacobs — myrajacobs@gmail.com. \nCost: $10.00 per person. (covers reproduction costs for a set of copies of the 3 plays)\nPay by check or Venmo to Myra Jacobs who will respond to your registration with payment details. There is no other cost for participation in the Readings. All Temple Sinai members welcome!
URL:https://www.templesinaidc.org/event/tswrj-play-reading-group-2/2026-04-20/
CATEGORIES:Adult Education,TSWRJ
ATTACH;FMTTYPE=image/png:https://www.templesinaidc.org/wp-content/uploads/2025/08/Play-Reading-Group.png
END:VEVENT
BEGIN:VEVENT
DTSTART;TZID=America/New_York:20260421T180000
DTEND;TZID=America/New_York:20260421T203000
DTSTAMP:20260420T095024
CREATED:20250820T164310Z
LAST-MODIFIED:20250820T164310Z
UID:10003796-1776794400-1776803400@www.templesinaidc.org
SUMMARY:Noar & Temple Teens
DESCRIPTION:Optional Pizza Dinner: 6:00-6:30 pm \nClasses: 6:30-8:30 pm \n\n\n\nReport an Absence\n\n\n\n 
URL:https://www.templesinaidc.org/event/noar-temple-teens/2026-04-21/
LOCATION:Temple Sinai – 3100 Military Road NW\, Washington\, DC\, United States
CATEGORIES:Religious School,Temple Teens
GEO:38.96926;-77.070949
END:VEVENT
BEGIN:VEVENT
DTSTART;TZID=America/New_York:20260423T190000
DTEND;TZID=America/New_York:20260423T210000
DTSTAMP:20260420T095024
CREATED:20250827T192633Z
LAST-MODIFIED:20251009T150339Z
UID:10003823-1776970800-1776978000@www.templesinaidc.org
SUMMARY:TSMRJ Offsite Gathering
DESCRIPTION:The Brotherhood will gather at local restaurant each month on the fourth Thursday (but not in November; we’ll compete in World of Beer’s Trivia Night on the 3rd Tuesday that month) to socialize and discuss upcoming Brotherhood events. To RSVP and get this month’s location\, contact Gary Falk.
URL:https://www.templesinaidc.org/event/tsmrj-gathering/2026-04-23/
CATEGORIES:TSMRJ
END:VEVENT
BEGIN:VEVENT
DTSTART;TZID=America/New_York:20260425T093000
DTEND;TZID=America/New_York:20260425T103000
DTSTAMP:20260420T095024
CREATED:20250714T194323Z
LAST-MODIFIED:20250714T194526Z
UID:10003506-1777109400-1777113000@www.templesinaidc.org
SUMMARY:Tot Shabbat Playdate
DESCRIPTION:Join us for a tot-friendly service led by our clergy followed by time on the playground. We’ll have challah\, juice\, bagels\, and coffee too! \nRSVP here. \n\nBest for children ages 0-5 and their families.
URL:https://www.templesinaidc.org/event/tot-shabbat-playdate-5-3/2026-04-25/
LOCATION:Temple Sinai – 3100 Military Road NW\, Washington\, DC\, United States
CATEGORIES:Worship,Young Families
ATTACH;FMTTYPE=image/jpeg:https://www.templesinaidc.org/wp-content/uploads/2025/02/Tot-Shabbat-Playdate-scaled.jpg
GEO:38.96926;-77.070949
END:VEVENT
BEGIN:VEVENT
DTSTART;TZID=America/New_York:20260428T180000
DTEND;TZID=America/New_York:20260428T203000
DTSTAMP:20260420T095024
CREATED:20250820T164310Z
LAST-MODIFIED:20250820T164310Z
UID:10003797-1777399200-1777408200@www.templesinaidc.org
SUMMARY:Noar & Temple Teens
DESCRIPTION:Optional Pizza Dinner: 6:00-6:30 pm \nClasses: 6:30-8:30 pm \n\n\n\nReport an Absence\n\n\n\n 
URL:https://www.templesinaidc.org/event/noar-temple-teens/2026-04-28/
LOCATION:Temple Sinai – 3100 Military Road NW\, Washington\, DC\, United States
CATEGORIES:Religious School,Temple Teens
GEO:38.96926;-77.070949
END:VEVENT
BEGIN:VEVENT
DTSTART;TZID=America/New_York:20260429T103000
DTEND;TZID=America/New_York:20260429T113000
DTSTAMP:20260420T095024
CREATED:20260407T130700Z
LAST-MODIFIED:20260407T130721Z
UID:10004194-1777458600-1777462200@www.templesinaidc.org
SUMMARY:Caregivers Drop-In Group
DESCRIPTION:Are you caregiving for a loved one? Are you seeking a safe space to talk about the stresses and challenges of caring for someone with dementia/Alzheimer’s\, stroke\, cancer and other debilitating chronic illnesses? Please join us for a monthly drop-in group\, usually on the last Wednesday of the month at 10:30 am\, informally facilitated by Sinai Cares Staff Social Worker Deborah Gordis. These sessions provide an unstructured opportunity for peer support\, sharing and connection. All are welcome. Please reach out to Deb with any questions at dgordis@templesinaidc.org.
URL:https://www.templesinaidc.org/event/caregivers-drop-in-group-9-2-2-2/2026-04-29/
CATEGORIES:Support Groups
END:VEVENT
END:VCALENDAR