BEGIN:VCALENDAR
VERSION:2.0
PRODID:-//Temple Sinai - ECPv6.15.20//NONSGML v1.0//EN
CALSCALE:GREGORIAN
METHOD:PUBLISH
X-WR-CALNAME:Temple Sinai
X-ORIGINAL-URL:https://www.templesinaidc.org
X-WR-CALDESC:Events for Temple Sinai
REFRESH-INTERVAL;VALUE=DURATION:PT1H
X-Robots-Tag:noindex
X-PUBLISHED-TTL:PT1H
BEGIN:VTIMEZONE
TZID:America/New_York
BEGIN:DAYLIGHT
TZOFFSETFROM:-0500
TZOFFSETTO:-0400
TZNAME:EDT
DTSTART:20260308T070000
END:DAYLIGHT
BEGIN:STANDARD
TZOFFSETFROM:-0400
TZOFFSETTO:-0500
TZNAME:EST
DTSTART:20261101T060000
END:STANDARD
BEGIN:DAYLIGHT
TZOFFSETFROM:-0500
TZOFFSETTO:-0400
TZNAME:EDT
DTSTART:20270314T070000
END:DAYLIGHT
BEGIN:STANDARD
TZOFFSETFROM:-0400
TZOFFSETTO:-0500
TZNAME:EST
DTSTART:20271107T060000
END:STANDARD
BEGIN:DAYLIGHT
TZOFFSETFROM:-0500
TZOFFSETTO:-0400
TZNAME:EDT
DTSTART:20280312T070000
END:DAYLIGHT
BEGIN:STANDARD
TZOFFSETFROM:-0400
TZOFFSETTO:-0500
TZNAME:EST
DTSTART:20281105T060000
END:STANDARD
BEGIN:DAYLIGHT
TZOFFSETFROM:-0500
TZOFFSETTO:-0400
TZNAME:EDT
DTSTART:20290311T070000
END:DAYLIGHT
BEGIN:STANDARD
TZOFFSETFROM:-0400
TZOFFSETTO:-0500
TZNAME:EST
DTSTART:20291104T060000
END:STANDARD
END:VTIMEZONE
BEGIN:VEVENT
DTSTART;TZID=America/New_York:20271103T193000
DTEND;TZID=America/New_York:20271103T210000
DTSTAMP:20260421T065428
CREATED:20250212T202132Z
LAST-MODIFIED:20260309T190249Z
UID:10001760-1825270200-1825275600@www.templesinaidc.org
SUMMARY:Officers' Meeting
DESCRIPTION:
URL:https://www.templesinaidc.org/event/officers-meeting-10/2027-11-03/
LOCATION:https://www.templesinaidc.org/event/officers-meeting-10/2027-11-03/
CATEGORIES:Community
END:VEVENT
BEGIN:VEVENT
DTSTART;TZID=America/New_York:20271117T103000
DTEND;TZID=America/New_York:20271117T113000
DTSTAMP:20260421T065428
CREATED:20250212T172144Z
LAST-MODIFIED:20250612T122207Z
UID:10001661-1826447400-1826451000@www.templesinaidc.org
SUMMARY:Daytimers Social
DESCRIPTION:Attention retirees! Please join us the 3rd Wednesday of the month for an in-person social hour in our beautiful new space. We will provide the coffee and homemade cake\, and you will provide the company and conversation. If you can\, please let Karen Auerbach know if you are coming. You are also welcome to just show up!
URL:https://www.templesinaidc.org/event/daytimers-social-10/2027-11-17/
LOCATION:Temple Sinai – 3100 Military Road NW\, Washington\, DC\, United States
CATEGORIES:Community
GEO:38.96926;-77.070949
END:VEVENT
BEGIN:VEVENT
DTSTART;TZID=America/New_York:20271117T193000
DTEND;TZID=America/New_York:20271117T213000
DTSTAMP:20260421T065428
CREATED:20250212T202348Z
LAST-MODIFIED:20250520T130740Z
UID:10001821-1826479800-1826487000@www.templesinaidc.org
SUMMARY:Board of Trustees Meeting
DESCRIPTION:
URL:https://www.templesinaidc.org/event/board-of-trustees-meeting-8/2027-11-17/
LOCATION:Temple Sinai – 3100 Military Road NW\, Washington\, DC\, United States
CATEGORIES:Community
GEO:38.96926;-77.070949
END:VEVENT
BEGIN:VEVENT
DTSTART;TZID=America/New_York:20271118T193000
DTEND;TZID=America/New_York:20271118T213000
DTSTAMP:20260421T065428
CREATED:20250212T202607Z
LAST-MODIFIED:20250611T122228Z
UID:10001881-1826566200-1826573400@www.templesinaidc.org
SUMMARY:YAWS Meeting
DESCRIPTION:We are a group of parents of young adults and teens who are struggling with life. Examples of such difficulties might be: isolation\, social difficulties\, school avoidance\, school failure or other learning differences\, vocational struggles\, inhibitions around launching and independence or strained relations with friends and family. Many struggle with mental illness\, learning disabilities\, Asperger’s\, substance abuse or autism. Some are undiagnosed\, just not living up to society’s expectations. \n\n\nWe meet once a month and support and encourage one another as we look at strategies for helping our young adults. We understand the journey\, which has many twists and turns\, often not what we expected when thinking about raising a child. We laugh\, cry\, share resources\, and support one another. Occasionally\, we have speakers join us and supplement our knowledge of resources available\, including housing options\, legal remedies\, new medications or treatments\, etc. \n\nThe group meets monthly and is open to anyone interested. All information shared is completely confidential. Should you have any questions\, please call the Temple Sinai office at (202) 363-6394.
URL:https://www.templesinaidc.org/event/yaws-meeting-6/2027-11-18/
LOCATION:Temple Sinai – 3100 Military Road NW\, Washington\, DC\, United States
CATEGORIES:Support Groups
GEO:38.96926;-77.070949
END:VEVENT
BEGIN:VEVENT
DTSTART;TZID=America/New_York:20271120T093000
DTEND;TZID=America/New_York:20271120T103000
DTSTAMP:20260421T065428
CREATED:20250212T204115Z
LAST-MODIFIED:20250512T193811Z
UID:10002062-1826703000-1826706600@www.templesinaidc.org
SUMMARY:Tot Shabbat Storytime
DESCRIPTION:Head to the TSLibrary for a special Shabbat Storytime with librarian Ruth Polk. We’ll also enjoy challah\, juice\, crafts\, and have some time to browse the shelves! \nRSVP here. \n\nBest for children ages 0-5 and their families.\n\nVisit the library any time! Check out the online catalogue.
URL:https://www.templesinaidc.org/event/tot-shabbat-storytime-4/2027-11-20/
LOCATION:Temple Sinai – 3100 Military Road NW\, Washington\, DC\, United States
CATEGORIES:Spotlight,Young Families
ATTACH;FMTTYPE=image/jpeg:https://www.templesinaidc.org/wp-content/uploads/2025/02/Library-Ruth-Polk-Storytime-scaled.jpg
GEO:38.96926;-77.070949
END:VEVENT
BEGIN:VEVENT
DTSTART;TZID=America/New_York:20271127T093000
DTEND;TZID=America/New_York:20271127T103000
DTSTAMP:20260421T065428
CREATED:20250714T194323Z
LAST-MODIFIED:20250714T194526Z
UID:10003525-1827307800-1827311400@www.templesinaidc.org
SUMMARY:Tot Shabbat Playdate
DESCRIPTION:Join us for a tot-friendly service led by our clergy followed by time on the playground. We’ll have challah\, juice\, bagels\, and coffee too! \nRSVP here. \n\nBest for children ages 0-5 and their families.
URL:https://www.templesinaidc.org/event/tot-shabbat-playdate-5-3/2027-11-27/
LOCATION:Temple Sinai – 3100 Military Road NW\, Washington\, DC\, United States
CATEGORIES:Worship,Young Families
ATTACH;FMTTYPE=image/jpeg:https://www.templesinaidc.org/wp-content/uploads/2025/02/Tot-Shabbat-Playdate-scaled.jpg
GEO:38.96926;-77.070949
END:VEVENT
BEGIN:VEVENT
DTSTART;TZID=America/New_York:20271201T193000
DTEND;TZID=America/New_York:20271201T210000
DTSTAMP:20260421T065428
CREATED:20250212T202132Z
LAST-MODIFIED:20260309T190249Z
UID:10001761-1827689400-1827694800@www.templesinaidc.org
SUMMARY:Officers' Meeting
DESCRIPTION:
URL:https://www.templesinaidc.org/event/officers-meeting-10/2027-12-01/
LOCATION:https://www.templesinaidc.org/event/officers-meeting-10/2027-12-01/
CATEGORIES:Community
END:VEVENT
BEGIN:VEVENT
DTSTART;TZID=America/New_York:20271215T103000
DTEND;TZID=America/New_York:20271215T113000
DTSTAMP:20260421T065428
CREATED:20250212T172144Z
LAST-MODIFIED:20250612T122207Z
UID:10001662-1828866600-1828870200@www.templesinaidc.org
SUMMARY:Daytimers Social
DESCRIPTION:Attention retirees! Please join us the 3rd Wednesday of the month for an in-person social hour in our beautiful new space. We will provide the coffee and homemade cake\, and you will provide the company and conversation. If you can\, please let Karen Auerbach know if you are coming. You are also welcome to just show up!
URL:https://www.templesinaidc.org/event/daytimers-social-10/2027-12-15/
LOCATION:Temple Sinai – 3100 Military Road NW\, Washington\, DC\, United States
CATEGORIES:Community
GEO:38.96926;-77.070949
END:VEVENT
BEGIN:VEVENT
DTSTART;TZID=America/New_York:20271215T193000
DTEND;TZID=America/New_York:20271215T213000
DTSTAMP:20260421T065428
CREATED:20250212T202348Z
LAST-MODIFIED:20250520T130740Z
UID:10001822-1828899000-1828906200@www.templesinaidc.org
SUMMARY:Board of Trustees Meeting
DESCRIPTION:
URL:https://www.templesinaidc.org/event/board-of-trustees-meeting-8/2027-12-15/
LOCATION:Temple Sinai – 3100 Military Road NW\, Washington\, DC\, United States
CATEGORIES:Community
GEO:38.96926;-77.070949
END:VEVENT
BEGIN:VEVENT
DTSTART;TZID=America/New_York:20271216T193000
DTEND;TZID=America/New_York:20271216T213000
DTSTAMP:20260421T065428
CREATED:20250212T202607Z
LAST-MODIFIED:20250611T122228Z
UID:10001882-1828985400-1828992600@www.templesinaidc.org
SUMMARY:YAWS Meeting
DESCRIPTION:We are a group of parents of young adults and teens who are struggling with life. Examples of such difficulties might be: isolation\, social difficulties\, school avoidance\, school failure or other learning differences\, vocational struggles\, inhibitions around launching and independence or strained relations with friends and family. Many struggle with mental illness\, learning disabilities\, Asperger’s\, substance abuse or autism. Some are undiagnosed\, just not living up to society’s expectations. \n\n\nWe meet once a month and support and encourage one another as we look at strategies for helping our young adults. We understand the journey\, which has many twists and turns\, often not what we expected when thinking about raising a child. We laugh\, cry\, share resources\, and support one another. Occasionally\, we have speakers join us and supplement our knowledge of resources available\, including housing options\, legal remedies\, new medications or treatments\, etc. \n\nThe group meets monthly and is open to anyone interested. All information shared is completely confidential. Should you have any questions\, please call the Temple Sinai office at (202) 363-6394.
URL:https://www.templesinaidc.org/event/yaws-meeting-6/2027-12-16/
LOCATION:Temple Sinai – 3100 Military Road NW\, Washington\, DC\, United States
CATEGORIES:Support Groups
GEO:38.96926;-77.070949
END:VEVENT
BEGIN:VEVENT
DTSTART;TZID=America/New_York:20271218T093000
DTEND;TZID=America/New_York:20271218T103000
DTSTAMP:20260421T065428
CREATED:20250212T204115Z
LAST-MODIFIED:20250512T193811Z
UID:10002063-1829122200-1829125800@www.templesinaidc.org
SUMMARY:Tot Shabbat Storytime
DESCRIPTION:Head to the TSLibrary for a special Shabbat Storytime with librarian Ruth Polk. We’ll also enjoy challah\, juice\, crafts\, and have some time to browse the shelves! \nRSVP here. \n\nBest for children ages 0-5 and their families.\n\nVisit the library any time! Check out the online catalogue.
URL:https://www.templesinaidc.org/event/tot-shabbat-storytime-4/2027-12-18/
LOCATION:Temple Sinai – 3100 Military Road NW\, Washington\, DC\, United States
CATEGORIES:Spotlight,Young Families
ATTACH;FMTTYPE=image/jpeg:https://www.templesinaidc.org/wp-content/uploads/2025/02/Library-Ruth-Polk-Storytime-scaled.jpg
GEO:38.96926;-77.070949
END:VEVENT
BEGIN:VEVENT
DTSTART;TZID=America/New_York:20271225T093000
DTEND;TZID=America/New_York:20271225T103000
DTSTAMP:20260421T065428
CREATED:20250714T194323Z
LAST-MODIFIED:20250714T194526Z
UID:10003526-1829727000-1829730600@www.templesinaidc.org
SUMMARY:Tot Shabbat Playdate
DESCRIPTION:Join us for a tot-friendly service led by our clergy followed by time on the playground. We’ll have challah\, juice\, bagels\, and coffee too! \nRSVP here. \n\nBest for children ages 0-5 and their families.
URL:https://www.templesinaidc.org/event/tot-shabbat-playdate-5-3/2027-12-25/
LOCATION:Temple Sinai – 3100 Military Road NW\, Washington\, DC\, United States
CATEGORIES:Worship,Young Families
ATTACH;FMTTYPE=image/jpeg:https://www.templesinaidc.org/wp-content/uploads/2025/02/Tot-Shabbat-Playdate-scaled.jpg
GEO:38.96926;-77.070949
END:VEVENT
BEGIN:VEVENT
DTSTART;TZID=America/New_York:20271229T103000
DTEND;TZID=America/New_York:20271229T113000
DTSTAMP:20260421T065428
CREATED:20260407T130700Z
LAST-MODIFIED:20260407T130721Z
UID:10004349-1830076200-1830079800@www.templesinaidc.org
SUMMARY:Caregivers Drop-In Group
DESCRIPTION:Are you caregiving for a loved one? Are you seeking a safe space to talk about the stresses and challenges of caring for someone with dementia/Alzheimer’s\, stroke\, cancer and other debilitating chronic illnesses? Please join us for a monthly drop-in group\, usually on the last Wednesday of the month at 10:30 am\, informally facilitated by Sinai Cares Staff Social Worker Deborah Gordis. These sessions provide an unstructured opportunity for peer support\, sharing and connection. All are welcome. Please reach out to Deb with any questions at dgordis@templesinaidc.org.
URL:https://www.templesinaidc.org/event/caregivers-drop-in-group-9-2-2-2/2027-12-29/
LOCATION:DC
CATEGORIES:Support Groups
END:VEVENT
BEGIN:VEVENT
DTSTART;TZID=America/New_York:20271231T183000
DTEND;TZID=America/New_York:20271231T193000
DTSTAMP:20260421T065428
CREATED:20250610T130222Z
LAST-MODIFIED:20250807T130421Z
UID:10003046-1830277800-1830281400@www.templesinaidc.org
SUMMARY:Shabbat Healing Service
DESCRIPTION:Join us in person or virtually for a service that will offer the opportunity for communal singing\, reflective meditation\, and an extended healing liturgy. \nClick here for livestream.  \n\nServices are preceded by an oneg beginning at 6:00 pm.
URL:https://www.templesinaidc.org/event/shabbat-healing-service/2027-12-31/
LOCATION:Temple Sinai – 3100 Military Road NW\, Washington\, DC\, United States
CATEGORIES:Support Groups,Worship
ATTACH;FMTTYPE=image/jpeg:https://www.templesinaidc.org/wp-content/uploads/2025/02/Boxcast-.jpg
GEO:38.96926;-77.070949
END:VEVENT
BEGIN:VEVENT
DTSTART;TZID=America/New_York:20280105T193000
DTEND;TZID=America/New_York:20280105T210000
DTSTAMP:20260421T065428
CREATED:20250212T202132Z
LAST-MODIFIED:20260309T190249Z
UID:10001762-1830713400-1830718800@www.templesinaidc.org
SUMMARY:Officers' Meeting
DESCRIPTION:
URL:https://www.templesinaidc.org/event/officers-meeting-10/2028-01-05/
LOCATION:https://www.templesinaidc.org/event/officers-meeting-10/2028-01-05/
CATEGORIES:Community
END:VEVENT
BEGIN:VEVENT
DTSTART;TZID=America/New_York:20280115T093000
DTEND;TZID=America/New_York:20280115T103000
DTSTAMP:20260421T065428
CREATED:20250212T204115Z
LAST-MODIFIED:20250512T193811Z
UID:10002064-1831541400-1831545000@www.templesinaidc.org
SUMMARY:Tot Shabbat Storytime
DESCRIPTION:Head to the TSLibrary for a special Shabbat Storytime with librarian Ruth Polk. We’ll also enjoy challah\, juice\, crafts\, and have some time to browse the shelves! \nRSVP here. \n\nBest for children ages 0-5 and their families.\n\nVisit the library any time! Check out the online catalogue.
URL:https://www.templesinaidc.org/event/tot-shabbat-storytime-4/2028-01-15/
LOCATION:Temple Sinai – 3100 Military Road NW\, Washington\, DC\, United States
CATEGORIES:Spotlight,Young Families
ATTACH;FMTTYPE=image/jpeg:https://www.templesinaidc.org/wp-content/uploads/2025/02/Library-Ruth-Polk-Storytime-scaled.jpg
GEO:38.96926;-77.070949
END:VEVENT
BEGIN:VEVENT
DTSTART;TZID=America/New_York:20280119T103000
DTEND;TZID=America/New_York:20280119T113000
DTSTAMP:20260421T065428
CREATED:20250212T172144Z
LAST-MODIFIED:20250612T122207Z
UID:10001663-1831890600-1831894200@www.templesinaidc.org
SUMMARY:Daytimers Social
DESCRIPTION:Attention retirees! Please join us the 3rd Wednesday of the month for an in-person social hour in our beautiful new space. We will provide the coffee and homemade cake\, and you will provide the company and conversation. If you can\, please let Karen Auerbach know if you are coming. You are also welcome to just show up!
URL:https://www.templesinaidc.org/event/daytimers-social-10/2028-01-19/
LOCATION:Temple Sinai – 3100 Military Road NW\, Washington\, DC\, United States
CATEGORIES:Community
GEO:38.96926;-77.070949
END:VEVENT
BEGIN:VEVENT
DTSTART;TZID=America/New_York:20280119T193000
DTEND;TZID=America/New_York:20280119T213000
DTSTAMP:20260421T065428
CREATED:20250212T202348Z
LAST-MODIFIED:20250520T130740Z
UID:10001823-1831923000-1831930200@www.templesinaidc.org
SUMMARY:Board of Trustees Meeting
DESCRIPTION:
URL:https://www.templesinaidc.org/event/board-of-trustees-meeting-8/2028-01-19/
LOCATION:Temple Sinai – 3100 Military Road NW\, Washington\, DC\, United States
CATEGORIES:Community
GEO:38.96926;-77.070949
END:VEVENT
BEGIN:VEVENT
DTSTART;TZID=America/New_York:20280120T193000
DTEND;TZID=America/New_York:20280120T213000
DTSTAMP:20260421T065428
CREATED:20250212T202607Z
LAST-MODIFIED:20250611T122228Z
UID:10001883-1832009400-1832016600@www.templesinaidc.org
SUMMARY:YAWS Meeting
DESCRIPTION:We are a group of parents of young adults and teens who are struggling with life. Examples of such difficulties might be: isolation\, social difficulties\, school avoidance\, school failure or other learning differences\, vocational struggles\, inhibitions around launching and independence or strained relations with friends and family. Many struggle with mental illness\, learning disabilities\, Asperger’s\, substance abuse or autism. Some are undiagnosed\, just not living up to society’s expectations. \n\n\nWe meet once a month and support and encourage one another as we look at strategies for helping our young adults. We understand the journey\, which has many twists and turns\, often not what we expected when thinking about raising a child. We laugh\, cry\, share resources\, and support one another. Occasionally\, we have speakers join us and supplement our knowledge of resources available\, including housing options\, legal remedies\, new medications or treatments\, etc. \n\nThe group meets monthly and is open to anyone interested. All information shared is completely confidential. Should you have any questions\, please call the Temple Sinai office at (202) 363-6394.
URL:https://www.templesinaidc.org/event/yaws-meeting-6/2028-01-20/
LOCATION:Temple Sinai – 3100 Military Road NW\, Washington\, DC\, United States
CATEGORIES:Support Groups
GEO:38.96926;-77.070949
END:VEVENT
BEGIN:VEVENT
DTSTART;TZID=America/New_York:20280122T093000
DTEND;TZID=America/New_York:20280122T103000
DTSTAMP:20260421T065428
CREATED:20250714T194323Z
LAST-MODIFIED:20250714T194526Z
UID:10003527-1832146200-1832149800@www.templesinaidc.org
SUMMARY:Tot Shabbat Playdate
DESCRIPTION:Join us for a tot-friendly service led by our clergy followed by time on the playground. We’ll have challah\, juice\, bagels\, and coffee too! \nRSVP here. \n\nBest for children ages 0-5 and their families.
URL:https://www.templesinaidc.org/event/tot-shabbat-playdate-5-3/2028-01-22/
LOCATION:Temple Sinai – 3100 Military Road NW\, Washington\, DC\, United States
CATEGORIES:Worship,Young Families
ATTACH;FMTTYPE=image/jpeg:https://www.templesinaidc.org/wp-content/uploads/2025/02/Tot-Shabbat-Playdate-scaled.jpg
GEO:38.96926;-77.070949
END:VEVENT
BEGIN:VEVENT
DTSTART;TZID=America/New_York:20280202T193000
DTEND;TZID=America/New_York:20280202T210000
DTSTAMP:20260421T065428
CREATED:20250212T202132Z
LAST-MODIFIED:20260309T190249Z
UID:10001763-1833132600-1833138000@www.templesinaidc.org
SUMMARY:Officers' Meeting
DESCRIPTION:
URL:https://www.templesinaidc.org/event/officers-meeting-10/2028-02-02/
LOCATION:https://www.templesinaidc.org/event/officers-meeting-10/2028-02-02/
CATEGORIES:Community
END:VEVENT
BEGIN:VEVENT
DTSTART;TZID=America/New_York:20280216T103000
DTEND;TZID=America/New_York:20280216T113000
DTSTAMP:20260421T065428
CREATED:20250212T172144Z
LAST-MODIFIED:20250612T122207Z
UID:10001664-1834309800-1834313400@www.templesinaidc.org
SUMMARY:Daytimers Social
DESCRIPTION:Attention retirees! Please join us the 3rd Wednesday of the month for an in-person social hour in our beautiful new space. We will provide the coffee and homemade cake\, and you will provide the company and conversation. If you can\, please let Karen Auerbach know if you are coming. You are also welcome to just show up!
URL:https://www.templesinaidc.org/event/daytimers-social-10/2028-02-16/
LOCATION:Temple Sinai – 3100 Military Road NW\, Washington\, DC\, United States
CATEGORIES:Community
GEO:38.96926;-77.070949
END:VEVENT
BEGIN:VEVENT
DTSTART;TZID=America/New_York:20280216T193000
DTEND;TZID=America/New_York:20280216T213000
DTSTAMP:20260421T065428
CREATED:20250212T202348Z
LAST-MODIFIED:20250520T130740Z
UID:10001824-1834342200-1834349400@www.templesinaidc.org
SUMMARY:Board of Trustees Meeting
DESCRIPTION:
URL:https://www.templesinaidc.org/event/board-of-trustees-meeting-8/2028-02-16/
LOCATION:Temple Sinai – 3100 Military Road NW\, Washington\, DC\, United States
CATEGORIES:Community
GEO:38.96926;-77.070949
END:VEVENT
BEGIN:VEVENT
DTSTART;TZID=America/New_York:20280217T193000
DTEND;TZID=America/New_York:20280217T213000
DTSTAMP:20260421T065428
CREATED:20250212T202607Z
LAST-MODIFIED:20250611T122228Z
UID:10001884-1834428600-1834435800@www.templesinaidc.org
SUMMARY:YAWS Meeting
DESCRIPTION:We are a group of parents of young adults and teens who are struggling with life. Examples of such difficulties might be: isolation\, social difficulties\, school avoidance\, school failure or other learning differences\, vocational struggles\, inhibitions around launching and independence or strained relations with friends and family. Many struggle with mental illness\, learning disabilities\, Asperger’s\, substance abuse or autism. Some are undiagnosed\, just not living up to society’s expectations. \n\n\nWe meet once a month and support and encourage one another as we look at strategies for helping our young adults. We understand the journey\, which has many twists and turns\, often not what we expected when thinking about raising a child. We laugh\, cry\, share resources\, and support one another. Occasionally\, we have speakers join us and supplement our knowledge of resources available\, including housing options\, legal remedies\, new medications or treatments\, etc. \n\nThe group meets monthly and is open to anyone interested. All information shared is completely confidential. Should you have any questions\, please call the Temple Sinai office at (202) 363-6394.
URL:https://www.templesinaidc.org/event/yaws-meeting-6/2028-02-17/
LOCATION:Temple Sinai – 3100 Military Road NW\, Washington\, DC\, United States
CATEGORIES:Support Groups
GEO:38.96926;-77.070949
END:VEVENT
BEGIN:VEVENT
DTSTART;TZID=America/New_York:20280219T093000
DTEND;TZID=America/New_York:20280219T103000
DTSTAMP:20260421T065428
CREATED:20250212T204115Z
LAST-MODIFIED:20250512T193811Z
UID:10002065-1834565400-1834569000@www.templesinaidc.org
SUMMARY:Tot Shabbat Storytime
DESCRIPTION:Head to the TSLibrary for a special Shabbat Storytime with librarian Ruth Polk. We’ll also enjoy challah\, juice\, crafts\, and have some time to browse the shelves! \nRSVP here. \n\nBest for children ages 0-5 and their families.\n\nVisit the library any time! Check out the online catalogue.
URL:https://www.templesinaidc.org/event/tot-shabbat-storytime-4/2028-02-19/
LOCATION:Temple Sinai – 3100 Military Road NW\, Washington\, DC\, United States
CATEGORIES:Spotlight,Young Families
ATTACH;FMTTYPE=image/jpeg:https://www.templesinaidc.org/wp-content/uploads/2025/02/Library-Ruth-Polk-Storytime-scaled.jpg
GEO:38.96926;-77.070949
END:VEVENT
BEGIN:VEVENT
DTSTART;TZID=America/New_York:20280226T093000
DTEND;TZID=America/New_York:20280226T103000
DTSTAMP:20260421T065428
CREATED:20250714T194323Z
LAST-MODIFIED:20250714T194526Z
UID:10003528-1835170200-1835173800@www.templesinaidc.org
SUMMARY:Tot Shabbat Playdate
DESCRIPTION:Join us for a tot-friendly service led by our clergy followed by time on the playground. We’ll have challah\, juice\, bagels\, and coffee too! \nRSVP here. \n\nBest for children ages 0-5 and their families.
URL:https://www.templesinaidc.org/event/tot-shabbat-playdate-5-3/2028-02-26/
LOCATION:Temple Sinai – 3100 Military Road NW\, Washington\, DC\, United States
CATEGORIES:Worship,Young Families
ATTACH;FMTTYPE=image/jpeg:https://www.templesinaidc.org/wp-content/uploads/2025/02/Tot-Shabbat-Playdate-scaled.jpg
GEO:38.96926;-77.070949
END:VEVENT
BEGIN:VEVENT
DTSTART;TZID=America/New_York:20280301T193000
DTEND;TZID=America/New_York:20280301T210000
DTSTAMP:20260421T065428
CREATED:20250212T202132Z
LAST-MODIFIED:20260309T190249Z
UID:10001764-1835551800-1835557200@www.templesinaidc.org
SUMMARY:Officers' Meeting
DESCRIPTION:
URL:https://www.templesinaidc.org/event/officers-meeting-10/2028-03-01/
LOCATION:https://www.templesinaidc.org/event/officers-meeting-10/2028-03-01/
CATEGORIES:Community
END:VEVENT
BEGIN:VEVENT
DTSTART;TZID=America/New_York:20280315T103000
DTEND;TZID=America/New_York:20280315T113000
DTSTAMP:20260421T065428
CREATED:20250212T172144Z
LAST-MODIFIED:20250612T122207Z
UID:10001665-1836729000-1836732600@www.templesinaidc.org
SUMMARY:Daytimers Social
DESCRIPTION:Attention retirees! Please join us the 3rd Wednesday of the month for an in-person social hour in our beautiful new space. We will provide the coffee and homemade cake\, and you will provide the company and conversation. If you can\, please let Karen Auerbach know if you are coming. You are also welcome to just show up!
URL:https://www.templesinaidc.org/event/daytimers-social-10/2028-03-15/
LOCATION:Temple Sinai – 3100 Military Road NW\, Washington\, DC\, United States
CATEGORIES:Community
GEO:38.96926;-77.070949
END:VEVENT
BEGIN:VEVENT
DTSTART;TZID=America/New_York:20280315T193000
DTEND;TZID=America/New_York:20280315T213000
DTSTAMP:20260421T065428
CREATED:20250212T202348Z
LAST-MODIFIED:20250520T130740Z
UID:10001825-1836761400-1836768600@www.templesinaidc.org
SUMMARY:Board of Trustees Meeting
DESCRIPTION:
URL:https://www.templesinaidc.org/event/board-of-trustees-meeting-8/2028-03-15/
LOCATION:Temple Sinai – 3100 Military Road NW\, Washington\, DC\, United States
CATEGORIES:Community
GEO:38.96926;-77.070949
END:VEVENT
BEGIN:VEVENT
DTSTART;TZID=America/New_York:20280316T193000
DTEND;TZID=America/New_York:20280316T213000
DTSTAMP:20260421T065428
CREATED:20250212T202607Z
LAST-MODIFIED:20250611T122228Z
UID:10001885-1836847800-1836855000@www.templesinaidc.org
SUMMARY:YAWS Meeting
DESCRIPTION:We are a group of parents of young adults and teens who are struggling with life. Examples of such difficulties might be: isolation\, social difficulties\, school avoidance\, school failure or other learning differences\, vocational struggles\, inhibitions around launching and independence or strained relations with friends and family. Many struggle with mental illness\, learning disabilities\, Asperger’s\, substance abuse or autism. Some are undiagnosed\, just not living up to society’s expectations. \n\n\nWe meet once a month and support and encourage one another as we look at strategies for helping our young adults. We understand the journey\, which has many twists and turns\, often not what we expected when thinking about raising a child. We laugh\, cry\, share resources\, and support one another. Occasionally\, we have speakers join us and supplement our knowledge of resources available\, including housing options\, legal remedies\, new medications or treatments\, etc. \n\nThe group meets monthly and is open to anyone interested. All information shared is completely confidential. Should you have any questions\, please call the Temple Sinai office at (202) 363-6394.
URL:https://www.templesinaidc.org/event/yaws-meeting-6/2028-03-16/
LOCATION:Temple Sinai – 3100 Military Road NW\, Washington\, DC\, United States
CATEGORIES:Support Groups
GEO:38.96926;-77.070949
END:VEVENT
END:VCALENDAR