BEGIN:VCALENDAR
VERSION:2.0
PRODID:-//Temple Sinai - ECPv6.15.20//NONSGML v1.0//EN
CALSCALE:GREGORIAN
METHOD:PUBLISH
X-WR-CALNAME:Temple Sinai
X-ORIGINAL-URL:https://www.templesinaidc.org
X-WR-CALDESC:Events for Temple Sinai
REFRESH-INTERVAL;VALUE=DURATION:PT1H
X-Robots-Tag:noindex
X-PUBLISHED-TTL:PT1H
BEGIN:VTIMEZONE
TZID:America/New_York
BEGIN:DAYLIGHT
TZOFFSETFROM:-0500
TZOFFSETTO:-0400
TZNAME:EDT
DTSTART:20250309T070000
END:DAYLIGHT
BEGIN:STANDARD
TZOFFSETFROM:-0400
TZOFFSETTO:-0500
TZNAME:EST
DTSTART:20251102T060000
END:STANDARD
BEGIN:DAYLIGHT
TZOFFSETFROM:-0500
TZOFFSETTO:-0400
TZNAME:EDT
DTSTART:20260308T070000
END:DAYLIGHT
BEGIN:STANDARD
TZOFFSETFROM:-0400
TZOFFSETTO:-0500
TZNAME:EST
DTSTART:20261101T060000
END:STANDARD
BEGIN:DAYLIGHT
TZOFFSETFROM:-0500
TZOFFSETTO:-0400
TZNAME:EDT
DTSTART:20270314T070000
END:DAYLIGHT
BEGIN:STANDARD
TZOFFSETFROM:-0400
TZOFFSETTO:-0500
TZNAME:EST
DTSTART:20271107T060000
END:STANDARD
END:VTIMEZONE
BEGIN:VEVENT
DTSTART;TZID=America/New_York:20260219T193000
DTEND;TZID=America/New_York:20260219T213000
DTSTAMP:20260421T141848
CREATED:20250212T202607Z
LAST-MODIFIED:20250611T122228Z
UID:10001860-1771529400-1771536600@www.templesinaidc.org
SUMMARY:YAWS Meeting
DESCRIPTION:We are a group of parents of young adults and teens who are struggling with life. Examples of such difficulties might be: isolation\, social difficulties\, school avoidance\, school failure or other learning differences\, vocational struggles\, inhibitions around launching and independence or strained relations with friends and family. Many struggle with mental illness\, learning disabilities\, Asperger’s\, substance abuse or autism. Some are undiagnosed\, just not living up to society’s expectations. \n\n\nWe meet once a month and support and encourage one another as we look at strategies for helping our young adults. We understand the journey\, which has many twists and turns\, often not what we expected when thinking about raising a child. We laugh\, cry\, share resources\, and support one another. Occasionally\, we have speakers join us and supplement our knowledge of resources available\, including housing options\, legal remedies\, new medications or treatments\, etc. \n\nThe group meets monthly and is open to anyone interested. All information shared is completely confidential. Should you have any questions\, please call the Temple Sinai office at (202) 363-6394.
URL:https://www.templesinaidc.org/event/yaws-meeting-6/2026-02-19/
LOCATION:Temple Sinai – 3100 Military Road NW\, Washington\, DC\, United States
CATEGORIES:Support Groups
GEO:38.96926;-77.070949
END:VEVENT
BEGIN:VEVENT
DTSTART;TZID=America/New_York:20260225T103000
DTEND;TZID=America/New_York:20260225T113000
DTSTAMP:20260421T141848
CREATED:20260128T170451Z
LAST-MODIFIED:20260128T170457Z
UID:10004115-1772015400-1772019000@www.templesinaidc.org
SUMMARY:Caregivers Drop-In Group
DESCRIPTION:Are you caregiving for a loved one? Are you seeking a safe space to talk about the stresses and challenges of caring for someone with dementia/Alzheimer’s\, stroke\, cancer and other debilitating chronic illnesses? Please join us for a monthly drop-in group\, usually on the last Wednesday of the month at 10:30 am\, informally facilitated by Sinai Cares Staff Social Worker Deborah Gordis. These sessions provide an unstructured opportunity for peer support\, sharing and connection. All are welcome. Please reach out to Deb with any questions at dgordis@templesinaidc.org.
URL:https://www.templesinaidc.org/event/caregivers-drop-in-group-9-2-2/2026-02-25/
CATEGORIES:Support Groups
END:VEVENT
END:VCALENDAR