BEGIN:VCALENDAR
VERSION:2.0
PRODID:-//Temple Sinai - ECPv6.15.20//NONSGML v1.0//EN
CALSCALE:GREGORIAN
METHOD:PUBLISH
X-ORIGINAL-URL:https://www.templesinaidc.org
X-WR-CALDESC:Events for Temple Sinai
REFRESH-INTERVAL;VALUE=DURATION:PT1H
X-Robots-Tag:noindex
X-PUBLISHED-TTL:PT1H
BEGIN:VTIMEZONE
TZID:America/New_York
BEGIN:DAYLIGHT
TZOFFSETFROM:-0500
TZOFFSETTO:-0400
TZNAME:EDT
DTSTART:20250309T070000
END:DAYLIGHT
BEGIN:STANDARD
TZOFFSETFROM:-0400
TZOFFSETTO:-0500
TZNAME:EST
DTSTART:20251102T060000
END:STANDARD
BEGIN:DAYLIGHT
TZOFFSETFROM:-0500
TZOFFSETTO:-0400
TZNAME:EDT
DTSTART:20260308T070000
END:DAYLIGHT
BEGIN:STANDARD
TZOFFSETFROM:-0400
TZOFFSETTO:-0500
TZNAME:EST
DTSTART:20261101T060000
END:STANDARD
BEGIN:DAYLIGHT
TZOFFSETFROM:-0500
TZOFFSETTO:-0400
TZNAME:EDT
DTSTART:20270314T070000
END:DAYLIGHT
BEGIN:STANDARD
TZOFFSETFROM:-0400
TZOFFSETTO:-0500
TZNAME:EST
DTSTART:20271107T060000
END:STANDARD
END:VTIMEZONE
BEGIN:VEVENT
DTSTART;TZID=America/New_York:20260521T193000
DTEND;TZID=America/New_York:20260521T213000
DTSTAMP:20260421T113642
CREATED:20250212T202607Z
LAST-MODIFIED:20250611T122228Z
UID:10001863-1779391800-1779399000@www.templesinaidc.org
SUMMARY:YAWS Meeting
DESCRIPTION:We are a group of parents of young adults and teens who are struggling with life. Examples of such difficulties might be: isolation\, social difficulties\, school avoidance\, school failure or other learning differences\, vocational struggles\, inhibitions around launching and independence or strained relations with friends and family. Many struggle with mental illness\, learning disabilities\, Asperger’s\, substance abuse or autism. Some are undiagnosed\, just not living up to society’s expectations. \n\n\nWe meet once a month and support and encourage one another as we look at strategies for helping our young adults. We understand the journey\, which has many twists and turns\, often not what we expected when thinking about raising a child. We laugh\, cry\, share resources\, and support one another. Occasionally\, we have speakers join us and supplement our knowledge of resources available\, including housing options\, legal remedies\, new medications or treatments\, etc. \n\nThe group meets monthly and is open to anyone interested. All information shared is completely confidential. Should you have any questions\, please call the Temple Sinai office at (202) 363-6394.
URL:https://www.templesinaidc.org/event/yaws-meeting-6/2026-05-21/
LOCATION:Temple Sinai – 3100 Military Road NW\, Washington\, DC\, United States
CATEGORIES:Support Groups
GEO:38.96926;-77.070949
END:VEVENT
BEGIN:VEVENT
DTSTART;TZID=America/New_York:20260529T183000
DTEND;TZID=America/New_York:20260529T193000
DTSTAMP:20260421T113642
CREATED:20250610T130222Z
LAST-MODIFIED:20250807T130421Z
UID:10003039-1780079400-1780083000@www.templesinaidc.org
SUMMARY:Shabbat Healing Service
DESCRIPTION:Join us in person or virtually for a service that will offer the opportunity for communal singing\, reflective meditation\, and an extended healing liturgy. \nClick here for livestream.  \n\nServices are preceded by an oneg beginning at 6:00 pm.
URL:https://www.templesinaidc.org/event/shabbat-healing-service/2026-05-29/
LOCATION:Temple Sinai – 3100 Military Road NW\, Washington\, DC\, United States
CATEGORIES:Support Groups,Worship
ATTACH;FMTTYPE=image/jpeg:https://www.templesinaidc.org/wp-content/uploads/2025/02/Boxcast-.jpg
GEO:38.96926;-77.070949
END:VEVENT
END:VCALENDAR