BEGIN:VCALENDAR
VERSION:2.0
PRODID:-//Temple Sinai - ECPv6.15.20//NONSGML v1.0//EN
CALSCALE:GREGORIAN
METHOD:PUBLISH
X-ORIGINAL-URL:https://www.templesinaidc.org
X-WR-CALDESC:Events for Temple Sinai
REFRESH-INTERVAL;VALUE=DURATION:PT1H
X-Robots-Tag:noindex
X-PUBLISHED-TTL:PT1H
BEGIN:VTIMEZONE
TZID:America/New_York
BEGIN:DAYLIGHT
TZOFFSETFROM:-0500
TZOFFSETTO:-0400
TZNAME:EDT
DTSTART:20250309T070000
END:DAYLIGHT
BEGIN:STANDARD
TZOFFSETFROM:-0400
TZOFFSETTO:-0500
TZNAME:EST
DTSTART:20251102T060000
END:STANDARD
BEGIN:DAYLIGHT
TZOFFSETFROM:-0500
TZOFFSETTO:-0400
TZNAME:EDT
DTSTART:20260308T070000
END:DAYLIGHT
BEGIN:STANDARD
TZOFFSETFROM:-0400
TZOFFSETTO:-0500
TZNAME:EST
DTSTART:20261101T060000
END:STANDARD
BEGIN:DAYLIGHT
TZOFFSETFROM:-0500
TZOFFSETTO:-0400
TZNAME:EDT
DTSTART:20270314T070000
END:DAYLIGHT
BEGIN:STANDARD
TZOFFSETFROM:-0400
TZOFFSETTO:-0500
TZNAME:EST
DTSTART:20271107T060000
END:STANDARD
BEGIN:DAYLIGHT
TZOFFSETFROM:-0500
TZOFFSETTO:-0400
TZNAME:EDT
DTSTART:20280312T070000
END:DAYLIGHT
BEGIN:STANDARD
TZOFFSETFROM:-0400
TZOFFSETTO:-0500
TZNAME:EST
DTSTART:20281105T060000
END:STANDARD
BEGIN:DAYLIGHT
TZOFFSETFROM:-0500
TZOFFSETTO:-0400
TZNAME:EDT
DTSTART:20290311T070000
END:DAYLIGHT
BEGIN:STANDARD
TZOFFSETFROM:-0400
TZOFFSETTO:-0500
TZNAME:EST
DTSTART:20291104T060000
END:STANDARD
END:VTIMEZONE
BEGIN:VEVENT
DTSTART;TZID=America/New_York:20261219T093000
DTEND;TZID=America/New_York:20261219T103000
DTSTAMP:20260424T095929
CREATED:20250212T204115Z
LAST-MODIFIED:20250512T193811Z
UID:10002051-1797672600-1797676200@www.templesinaidc.org
SUMMARY:Tot Shabbat Storytime
DESCRIPTION:Head to the TSLibrary for a special Shabbat Storytime with librarian Ruth Polk. We’ll also enjoy challah\, juice\, crafts\, and have some time to browse the shelves! \nRSVP here. \n\nBest for children ages 0-5 and their families.\n\nVisit the library any time! Check out the online catalogue.
URL:https://www.templesinaidc.org/event/tot-shabbat-storytime-4/2026-12-19/
LOCATION:Temple Sinai – 3100 Military Road NW\, Washington\, DC\, United States
CATEGORIES:Spotlight,Young Families
ATTACH;FMTTYPE=image/jpeg:https://www.templesinaidc.org/wp-content/uploads/2025/02/Library-Ruth-Polk-Storytime-scaled.jpg
GEO:38.96926;-77.070949
END:VEVENT
BEGIN:VEVENT
DTSTART;TZID=America/New_York:20261226T093000
DTEND;TZID=America/New_York:20261226T103000
DTSTAMP:20260424T095929
CREATED:20250714T194323Z
LAST-MODIFIED:20250714T194526Z
UID:10003514-1798277400-1798281000@www.templesinaidc.org
SUMMARY:Tot Shabbat Playdate
DESCRIPTION:Join us for a tot-friendly service led by our clergy followed by time on the playground. We’ll have challah\, juice\, bagels\, and coffee too! \nRSVP here. \n\nBest for children ages 0-5 and their families.
URL:https://www.templesinaidc.org/event/tot-shabbat-playdate-5-3/2026-12-26/
LOCATION:Temple Sinai – 3100 Military Road NW\, Washington\, DC\, United States
CATEGORIES:Worship,Young Families
ATTACH;FMTTYPE=image/jpeg:https://www.templesinaidc.org/wp-content/uploads/2025/02/Tot-Shabbat-Playdate-scaled.jpg
GEO:38.96926;-77.070949
END:VEVENT
BEGIN:VEVENT
DTSTART;TZID=America/New_York:20270116T093000
DTEND;TZID=America/New_York:20270116T103000
DTSTAMP:20260424T095929
CREATED:20250212T204115Z
LAST-MODIFIED:20250512T193811Z
UID:10002052-1800091800-1800095400@www.templesinaidc.org
SUMMARY:Tot Shabbat Storytime
DESCRIPTION:Head to the TSLibrary for a special Shabbat Storytime with librarian Ruth Polk. We’ll also enjoy challah\, juice\, crafts\, and have some time to browse the shelves! \nRSVP here. \n\nBest for children ages 0-5 and their families.\n\nVisit the library any time! Check out the online catalogue.
URL:https://www.templesinaidc.org/event/tot-shabbat-storytime-4/2027-01-16/
LOCATION:Temple Sinai – 3100 Military Road NW\, Washington\, DC\, United States
CATEGORIES:Spotlight,Young Families
ATTACH;FMTTYPE=image/jpeg:https://www.templesinaidc.org/wp-content/uploads/2025/02/Library-Ruth-Polk-Storytime-scaled.jpg
GEO:38.96926;-77.070949
END:VEVENT
BEGIN:VEVENT
DTSTART;TZID=America/New_York:20270123T093000
DTEND;TZID=America/New_York:20270123T103000
DTSTAMP:20260424T095929
CREATED:20250714T194323Z
LAST-MODIFIED:20250714T194526Z
UID:10003515-1800696600-1800700200@www.templesinaidc.org
SUMMARY:Tot Shabbat Playdate
DESCRIPTION:Join us for a tot-friendly service led by our clergy followed by time on the playground. We’ll have challah\, juice\, bagels\, and coffee too! \nRSVP here. \n\nBest for children ages 0-5 and their families.
URL:https://www.templesinaidc.org/event/tot-shabbat-playdate-5-3/2027-01-23/
LOCATION:Temple Sinai – 3100 Military Road NW\, Washington\, DC\, United States
CATEGORIES:Worship,Young Families
ATTACH;FMTTYPE=image/jpeg:https://www.templesinaidc.org/wp-content/uploads/2025/02/Tot-Shabbat-Playdate-scaled.jpg
GEO:38.96926;-77.070949
END:VEVENT
BEGIN:VEVENT
DTSTART;TZID=America/New_York:20270220T093000
DTEND;TZID=America/New_York:20270220T103000
DTSTAMP:20260424T095929
CREATED:20250212T204115Z
LAST-MODIFIED:20250512T193811Z
UID:10002053-1803115800-1803119400@www.templesinaidc.org
SUMMARY:Tot Shabbat Storytime
DESCRIPTION:Head to the TSLibrary for a special Shabbat Storytime with librarian Ruth Polk. We’ll also enjoy challah\, juice\, crafts\, and have some time to browse the shelves! \nRSVP here. \n\nBest for children ages 0-5 and their families.\n\nVisit the library any time! Check out the online catalogue.
URL:https://www.templesinaidc.org/event/tot-shabbat-storytime-4/2027-02-20/
LOCATION:Temple Sinai – 3100 Military Road NW\, Washington\, DC\, United States
CATEGORIES:Spotlight,Young Families
ATTACH;FMTTYPE=image/jpeg:https://www.templesinaidc.org/wp-content/uploads/2025/02/Library-Ruth-Polk-Storytime-scaled.jpg
GEO:38.96926;-77.070949
END:VEVENT
BEGIN:VEVENT
DTSTART;TZID=America/New_York:20270227T093000
DTEND;TZID=America/New_York:20270227T103000
DTSTAMP:20260424T095929
CREATED:20250714T194323Z
LAST-MODIFIED:20250714T194526Z
UID:10003516-1803720600-1803724200@www.templesinaidc.org
SUMMARY:Tot Shabbat Playdate
DESCRIPTION:Join us for a tot-friendly service led by our clergy followed by time on the playground. We’ll have challah\, juice\, bagels\, and coffee too! \nRSVP here. \n\nBest for children ages 0-5 and their families.
URL:https://www.templesinaidc.org/event/tot-shabbat-playdate-5-3/2027-02-27/
LOCATION:Temple Sinai – 3100 Military Road NW\, Washington\, DC\, United States
CATEGORIES:Worship,Young Families
ATTACH;FMTTYPE=image/jpeg:https://www.templesinaidc.org/wp-content/uploads/2025/02/Tot-Shabbat-Playdate-scaled.jpg
GEO:38.96926;-77.070949
END:VEVENT
BEGIN:VEVENT
DTSTART;TZID=America/New_York:20270320T093000
DTEND;TZID=America/New_York:20270320T103000
DTSTAMP:20260424T095929
CREATED:20250212T204115Z
LAST-MODIFIED:20250512T193811Z
UID:10002054-1805535000-1805538600@www.templesinaidc.org
SUMMARY:Tot Shabbat Storytime
DESCRIPTION:Head to the TSLibrary for a special Shabbat Storytime with librarian Ruth Polk. We’ll also enjoy challah\, juice\, crafts\, and have some time to browse the shelves! \nRSVP here. \n\nBest for children ages 0-5 and their families.\n\nVisit the library any time! Check out the online catalogue.
URL:https://www.templesinaidc.org/event/tot-shabbat-storytime-4/2027-03-20/
LOCATION:Temple Sinai – 3100 Military Road NW\, Washington\, DC\, United States
CATEGORIES:Spotlight,Young Families
ATTACH;FMTTYPE=image/jpeg:https://www.templesinaidc.org/wp-content/uploads/2025/02/Library-Ruth-Polk-Storytime-scaled.jpg
GEO:38.96926;-77.070949
END:VEVENT
BEGIN:VEVENT
DTSTART;TZID=America/New_York:20270327T093000
DTEND;TZID=America/New_York:20270327T103000
DTSTAMP:20260424T095929
CREATED:20250714T194323Z
LAST-MODIFIED:20250714T194526Z
UID:10003517-1806139800-1806143400@www.templesinaidc.org
SUMMARY:Tot Shabbat Playdate
DESCRIPTION:Join us for a tot-friendly service led by our clergy followed by time on the playground. We’ll have challah\, juice\, bagels\, and coffee too! \nRSVP here. \n\nBest for children ages 0-5 and their families.
URL:https://www.templesinaidc.org/event/tot-shabbat-playdate-5-3/2027-03-27/
LOCATION:Temple Sinai – 3100 Military Road NW\, Washington\, DC\, United States
CATEGORIES:Worship,Young Families
ATTACH;FMTTYPE=image/jpeg:https://www.templesinaidc.org/wp-content/uploads/2025/02/Tot-Shabbat-Playdate-scaled.jpg
GEO:38.96926;-77.070949
END:VEVENT
BEGIN:VEVENT
DTSTART;TZID=America/New_York:20270417T093000
DTEND;TZID=America/New_York:20270417T103000
DTSTAMP:20260424T095929
CREATED:20250212T204115Z
LAST-MODIFIED:20250512T193811Z
UID:10002055-1807954200-1807957800@www.templesinaidc.org
SUMMARY:Tot Shabbat Storytime
DESCRIPTION:Head to the TSLibrary for a special Shabbat Storytime with librarian Ruth Polk. We’ll also enjoy challah\, juice\, crafts\, and have some time to browse the shelves! \nRSVP here. \n\nBest for children ages 0-5 and their families.\n\nVisit the library any time! Check out the online catalogue.
URL:https://www.templesinaidc.org/event/tot-shabbat-storytime-4/2027-04-17/
LOCATION:Temple Sinai – 3100 Military Road NW\, Washington\, DC\, United States
CATEGORIES:Spotlight,Young Families
ATTACH;FMTTYPE=image/jpeg:https://www.templesinaidc.org/wp-content/uploads/2025/02/Library-Ruth-Polk-Storytime-scaled.jpg
GEO:38.96926;-77.070949
END:VEVENT
BEGIN:VEVENT
DTSTART;TZID=America/New_York:20270424T093000
DTEND;TZID=America/New_York:20270424T103000
DTSTAMP:20260424T095929
CREATED:20250714T194323Z
LAST-MODIFIED:20250714T194526Z
UID:10003518-1808559000-1808562600@www.templesinaidc.org
SUMMARY:Tot Shabbat Playdate
DESCRIPTION:Join us for a tot-friendly service led by our clergy followed by time on the playground. We’ll have challah\, juice\, bagels\, and coffee too! \nRSVP here. \n\nBest for children ages 0-5 and their families.
URL:https://www.templesinaidc.org/event/tot-shabbat-playdate-5-3/2027-04-24/
LOCATION:Temple Sinai – 3100 Military Road NW\, Washington\, DC\, United States
CATEGORIES:Worship,Young Families
ATTACH;FMTTYPE=image/jpeg:https://www.templesinaidc.org/wp-content/uploads/2025/02/Tot-Shabbat-Playdate-scaled.jpg
GEO:38.96926;-77.070949
END:VEVENT
BEGIN:VEVENT
DTSTART;TZID=America/New_York:20270515T093000
DTEND;TZID=America/New_York:20270515T103000
DTSTAMP:20260424T095929
CREATED:20250212T204115Z
LAST-MODIFIED:20250512T193811Z
UID:10002056-1810373400-1810377000@www.templesinaidc.org
SUMMARY:Tot Shabbat Storytime
DESCRIPTION:Head to the TSLibrary for a special Shabbat Storytime with librarian Ruth Polk. We’ll also enjoy challah\, juice\, crafts\, and have some time to browse the shelves! \nRSVP here. \n\nBest for children ages 0-5 and their families.\n\nVisit the library any time! Check out the online catalogue.
URL:https://www.templesinaidc.org/event/tot-shabbat-storytime-4/2027-05-15/
LOCATION:Temple Sinai – 3100 Military Road NW\, Washington\, DC\, United States
CATEGORIES:Spotlight,Young Families
ATTACH;FMTTYPE=image/jpeg:https://www.templesinaidc.org/wp-content/uploads/2025/02/Library-Ruth-Polk-Storytime-scaled.jpg
GEO:38.96926;-77.070949
END:VEVENT
BEGIN:VEVENT
DTSTART;TZID=America/New_York:20270522T093000
DTEND;TZID=America/New_York:20270522T103000
DTSTAMP:20260424T095929
CREATED:20250714T194323Z
LAST-MODIFIED:20250714T194526Z
UID:10003519-1810978200-1810981800@www.templesinaidc.org
SUMMARY:Tot Shabbat Playdate
DESCRIPTION:Join us for a tot-friendly service led by our clergy followed by time on the playground. We’ll have challah\, juice\, bagels\, and coffee too! \nRSVP here. \n\nBest for children ages 0-5 and their families.
URL:https://www.templesinaidc.org/event/tot-shabbat-playdate-5-3/2027-05-22/
LOCATION:Temple Sinai – 3100 Military Road NW\, Washington\, DC\, United States
CATEGORIES:Worship,Young Families
ATTACH;FMTTYPE=image/jpeg:https://www.templesinaidc.org/wp-content/uploads/2025/02/Tot-Shabbat-Playdate-scaled.jpg
GEO:38.96926;-77.070949
END:VEVENT
BEGIN:VEVENT
DTSTART;TZID=America/New_York:20270619T093000
DTEND;TZID=America/New_York:20270619T103000
DTSTAMP:20260424T095929
CREATED:20250212T204115Z
LAST-MODIFIED:20250512T193811Z
UID:10002057-1813397400-1813401000@www.templesinaidc.org
SUMMARY:Tot Shabbat Storytime
DESCRIPTION:Head to the TSLibrary for a special Shabbat Storytime with librarian Ruth Polk. We’ll also enjoy challah\, juice\, crafts\, and have some time to browse the shelves! \nRSVP here. \n\nBest for children ages 0-5 and their families.\n\nVisit the library any time! Check out the online catalogue.
URL:https://www.templesinaidc.org/event/tot-shabbat-storytime-4/2027-06-19/
LOCATION:Temple Sinai – 3100 Military Road NW\, Washington\, DC\, United States
CATEGORIES:Spotlight,Young Families
ATTACH;FMTTYPE=image/jpeg:https://www.templesinaidc.org/wp-content/uploads/2025/02/Library-Ruth-Polk-Storytime-scaled.jpg
GEO:38.96926;-77.070949
END:VEVENT
BEGIN:VEVENT
DTSTART;TZID=America/New_York:20270626T093000
DTEND;TZID=America/New_York:20270626T103000
DTSTAMP:20260424T095929
CREATED:20250714T194323Z
LAST-MODIFIED:20250714T194526Z
UID:10003520-1814002200-1814005800@www.templesinaidc.org
SUMMARY:Tot Shabbat Playdate
DESCRIPTION:Join us for a tot-friendly service led by our clergy followed by time on the playground. We’ll have challah\, juice\, bagels\, and coffee too! \nRSVP here. \n\nBest for children ages 0-5 and their families.
URL:https://www.templesinaidc.org/event/tot-shabbat-playdate-5-3/2027-06-26/
LOCATION:Temple Sinai – 3100 Military Road NW\, Washington\, DC\, United States
CATEGORIES:Worship,Young Families
ATTACH;FMTTYPE=image/jpeg:https://www.templesinaidc.org/wp-content/uploads/2025/02/Tot-Shabbat-Playdate-scaled.jpg
GEO:38.96926;-77.070949
END:VEVENT
BEGIN:VEVENT
DTSTART;TZID=America/New_York:20270717T093000
DTEND;TZID=America/New_York:20270717T103000
DTSTAMP:20260424T095929
CREATED:20250212T204115Z
LAST-MODIFIED:20250512T193811Z
UID:10002058-1815816600-1815820200@www.templesinaidc.org
SUMMARY:Tot Shabbat Storytime
DESCRIPTION:Head to the TSLibrary for a special Shabbat Storytime with librarian Ruth Polk. We’ll also enjoy challah\, juice\, crafts\, and have some time to browse the shelves! \nRSVP here. \n\nBest for children ages 0-5 and their families.\n\nVisit the library any time! Check out the online catalogue.
URL:https://www.templesinaidc.org/event/tot-shabbat-storytime-4/2027-07-17/
LOCATION:Temple Sinai – 3100 Military Road NW\, Washington\, DC\, United States
CATEGORIES:Spotlight,Young Families
ATTACH;FMTTYPE=image/jpeg:https://www.templesinaidc.org/wp-content/uploads/2025/02/Library-Ruth-Polk-Storytime-scaled.jpg
GEO:38.96926;-77.070949
END:VEVENT
BEGIN:VEVENT
DTSTART;TZID=America/New_York:20270724T093000
DTEND;TZID=America/New_York:20270724T103000
DTSTAMP:20260424T095929
CREATED:20250714T194323Z
LAST-MODIFIED:20250714T194526Z
UID:10003521-1816421400-1816425000@www.templesinaidc.org
SUMMARY:Tot Shabbat Playdate
DESCRIPTION:Join us for a tot-friendly service led by our clergy followed by time on the playground. We’ll have challah\, juice\, bagels\, and coffee too! \nRSVP here. \n\nBest for children ages 0-5 and their families.
URL:https://www.templesinaidc.org/event/tot-shabbat-playdate-5-3/2027-07-24/
LOCATION:Temple Sinai – 3100 Military Road NW\, Washington\, DC\, United States
CATEGORIES:Worship,Young Families
ATTACH;FMTTYPE=image/jpeg:https://www.templesinaidc.org/wp-content/uploads/2025/02/Tot-Shabbat-Playdate-scaled.jpg
GEO:38.96926;-77.070949
END:VEVENT
BEGIN:VEVENT
DTSTART;TZID=America/New_York:20270821T093000
DTEND;TZID=America/New_York:20270821T103000
DTSTAMP:20260424T095929
CREATED:20250212T204115Z
LAST-MODIFIED:20250512T193811Z
UID:10002059-1818840600-1818844200@www.templesinaidc.org
SUMMARY:Tot Shabbat Storytime
DESCRIPTION:Head to the TSLibrary for a special Shabbat Storytime with librarian Ruth Polk. We’ll also enjoy challah\, juice\, crafts\, and have some time to browse the shelves! \nRSVP here. \n\nBest for children ages 0-5 and their families.\n\nVisit the library any time! Check out the online catalogue.
URL:https://www.templesinaidc.org/event/tot-shabbat-storytime-4/2027-08-21/
LOCATION:Temple Sinai – 3100 Military Road NW\, Washington\, DC\, United States
CATEGORIES:Spotlight,Young Families
ATTACH;FMTTYPE=image/jpeg:https://www.templesinaidc.org/wp-content/uploads/2025/02/Library-Ruth-Polk-Storytime-scaled.jpg
GEO:38.96926;-77.070949
END:VEVENT
BEGIN:VEVENT
DTSTART;TZID=America/New_York:20270828T093000
DTEND;TZID=America/New_York:20270828T103000
DTSTAMP:20260424T095929
CREATED:20250714T194323Z
LAST-MODIFIED:20250714T194526Z
UID:10003522-1819445400-1819449000@www.templesinaidc.org
SUMMARY:Tot Shabbat Playdate
DESCRIPTION:Join us for a tot-friendly service led by our clergy followed by time on the playground. We’ll have challah\, juice\, bagels\, and coffee too! \nRSVP here. \n\nBest for children ages 0-5 and their families.
URL:https://www.templesinaidc.org/event/tot-shabbat-playdate-5-3/2027-08-28/
LOCATION:Temple Sinai – 3100 Military Road NW\, Washington\, DC\, United States
CATEGORIES:Worship,Young Families
ATTACH;FMTTYPE=image/jpeg:https://www.templesinaidc.org/wp-content/uploads/2025/02/Tot-Shabbat-Playdate-scaled.jpg
GEO:38.96926;-77.070949
END:VEVENT
BEGIN:VEVENT
DTSTART;TZID=America/New_York:20270918T093000
DTEND;TZID=America/New_York:20270918T103000
DTSTAMP:20260424T095929
CREATED:20250212T204115Z
LAST-MODIFIED:20250512T193811Z
UID:10002060-1821259800-1821263400@www.templesinaidc.org
SUMMARY:Tot Shabbat Storytime
DESCRIPTION:Head to the TSLibrary for a special Shabbat Storytime with librarian Ruth Polk. We’ll also enjoy challah\, juice\, crafts\, and have some time to browse the shelves! \nRSVP here. \n\nBest for children ages 0-5 and their families.\n\nVisit the library any time! Check out the online catalogue.
URL:https://www.templesinaidc.org/event/tot-shabbat-storytime-4/2027-09-18/
LOCATION:Temple Sinai – 3100 Military Road NW\, Washington\, DC\, United States
CATEGORIES:Spotlight,Young Families
ATTACH;FMTTYPE=image/jpeg:https://www.templesinaidc.org/wp-content/uploads/2025/02/Library-Ruth-Polk-Storytime-scaled.jpg
GEO:38.96926;-77.070949
END:VEVENT
BEGIN:VEVENT
DTSTART;TZID=America/New_York:20270925T093000
DTEND;TZID=America/New_York:20270925T103000
DTSTAMP:20260424T095929
CREATED:20250714T194323Z
LAST-MODIFIED:20250714T194526Z
UID:10003523-1821864600-1821868200@www.templesinaidc.org
SUMMARY:Tot Shabbat Playdate
DESCRIPTION:Join us for a tot-friendly service led by our clergy followed by time on the playground. We’ll have challah\, juice\, bagels\, and coffee too! \nRSVP here. \n\nBest for children ages 0-5 and their families.
URL:https://www.templesinaidc.org/event/tot-shabbat-playdate-5-3/2027-09-25/
LOCATION:Temple Sinai – 3100 Military Road NW\, Washington\, DC\, United States
CATEGORIES:Worship,Young Families
ATTACH;FMTTYPE=image/jpeg:https://www.templesinaidc.org/wp-content/uploads/2025/02/Tot-Shabbat-Playdate-scaled.jpg
GEO:38.96926;-77.070949
END:VEVENT
BEGIN:VEVENT
DTSTART;TZID=America/New_York:20271016T093000
DTEND;TZID=America/New_York:20271016T103000
DTSTAMP:20260424T095929
CREATED:20250212T204115Z
LAST-MODIFIED:20250512T193811Z
UID:10002061-1823679000-1823682600@www.templesinaidc.org
SUMMARY:Tot Shabbat Storytime
DESCRIPTION:Head to the TSLibrary for a special Shabbat Storytime with librarian Ruth Polk. We’ll also enjoy challah\, juice\, crafts\, and have some time to browse the shelves! \nRSVP here. \n\nBest for children ages 0-5 and their families.\n\nVisit the library any time! Check out the online catalogue.
URL:https://www.templesinaidc.org/event/tot-shabbat-storytime-4/2027-10-16/
LOCATION:Temple Sinai – 3100 Military Road NW\, Washington\, DC\, United States
CATEGORIES:Spotlight,Young Families
ATTACH;FMTTYPE=image/jpeg:https://www.templesinaidc.org/wp-content/uploads/2025/02/Library-Ruth-Polk-Storytime-scaled.jpg
GEO:38.96926;-77.070949
END:VEVENT
BEGIN:VEVENT
DTSTART;TZID=America/New_York:20271023T093000
DTEND;TZID=America/New_York:20271023T103000
DTSTAMP:20260424T095929
CREATED:20250714T194323Z
LAST-MODIFIED:20250714T194526Z
UID:10003524-1824283800-1824287400@www.templesinaidc.org
SUMMARY:Tot Shabbat Playdate
DESCRIPTION:Join us for a tot-friendly service led by our clergy followed by time on the playground. We’ll have challah\, juice\, bagels\, and coffee too! \nRSVP here. \n\nBest for children ages 0-5 and their families.
URL:https://www.templesinaidc.org/event/tot-shabbat-playdate-5-3/2027-10-23/
LOCATION:Temple Sinai – 3100 Military Road NW\, Washington\, DC\, United States
CATEGORIES:Worship,Young Families
ATTACH;FMTTYPE=image/jpeg:https://www.templesinaidc.org/wp-content/uploads/2025/02/Tot-Shabbat-Playdate-scaled.jpg
GEO:38.96926;-77.070949
END:VEVENT
BEGIN:VEVENT
DTSTART;TZID=America/New_York:20271120T093000
DTEND;TZID=America/New_York:20271120T103000
DTSTAMP:20260424T095929
CREATED:20250212T204115Z
LAST-MODIFIED:20250512T193811Z
UID:10002062-1826703000-1826706600@www.templesinaidc.org
SUMMARY:Tot Shabbat Storytime
DESCRIPTION:Head to the TSLibrary for a special Shabbat Storytime with librarian Ruth Polk. We’ll also enjoy challah\, juice\, crafts\, and have some time to browse the shelves! \nRSVP here. \n\nBest for children ages 0-5 and their families.\n\nVisit the library any time! Check out the online catalogue.
URL:https://www.templesinaidc.org/event/tot-shabbat-storytime-4/2027-11-20/
LOCATION:Temple Sinai – 3100 Military Road NW\, Washington\, DC\, United States
CATEGORIES:Spotlight,Young Families
ATTACH;FMTTYPE=image/jpeg:https://www.templesinaidc.org/wp-content/uploads/2025/02/Library-Ruth-Polk-Storytime-scaled.jpg
GEO:38.96926;-77.070949
END:VEVENT
BEGIN:VEVENT
DTSTART;TZID=America/New_York:20271127T093000
DTEND;TZID=America/New_York:20271127T103000
DTSTAMP:20260424T095929
CREATED:20250714T194323Z
LAST-MODIFIED:20250714T194526Z
UID:10003525-1827307800-1827311400@www.templesinaidc.org
SUMMARY:Tot Shabbat Playdate
DESCRIPTION:Join us for a tot-friendly service led by our clergy followed by time on the playground. We’ll have challah\, juice\, bagels\, and coffee too! \nRSVP here. \n\nBest for children ages 0-5 and their families.
URL:https://www.templesinaidc.org/event/tot-shabbat-playdate-5-3/2027-11-27/
LOCATION:Temple Sinai – 3100 Military Road NW\, Washington\, DC\, United States
CATEGORIES:Worship,Young Families
ATTACH;FMTTYPE=image/jpeg:https://www.templesinaidc.org/wp-content/uploads/2025/02/Tot-Shabbat-Playdate-scaled.jpg
GEO:38.96926;-77.070949
END:VEVENT
BEGIN:VEVENT
DTSTART;TZID=America/New_York:20271218T093000
DTEND;TZID=America/New_York:20271218T103000
DTSTAMP:20260424T095929
CREATED:20250212T204115Z
LAST-MODIFIED:20250512T193811Z
UID:10002063-1829122200-1829125800@www.templesinaidc.org
SUMMARY:Tot Shabbat Storytime
DESCRIPTION:Head to the TSLibrary for a special Shabbat Storytime with librarian Ruth Polk. We’ll also enjoy challah\, juice\, crafts\, and have some time to browse the shelves! \nRSVP here. \n\nBest for children ages 0-5 and their families.\n\nVisit the library any time! Check out the online catalogue.
URL:https://www.templesinaidc.org/event/tot-shabbat-storytime-4/2027-12-18/
LOCATION:Temple Sinai – 3100 Military Road NW\, Washington\, DC\, United States
CATEGORIES:Spotlight,Young Families
ATTACH;FMTTYPE=image/jpeg:https://www.templesinaidc.org/wp-content/uploads/2025/02/Library-Ruth-Polk-Storytime-scaled.jpg
GEO:38.96926;-77.070949
END:VEVENT
BEGIN:VEVENT
DTSTART;TZID=America/New_York:20271225T093000
DTEND;TZID=America/New_York:20271225T103000
DTSTAMP:20260424T095929
CREATED:20250714T194323Z
LAST-MODIFIED:20250714T194526Z
UID:10003526-1829727000-1829730600@www.templesinaidc.org
SUMMARY:Tot Shabbat Playdate
DESCRIPTION:Join us for a tot-friendly service led by our clergy followed by time on the playground. We’ll have challah\, juice\, bagels\, and coffee too! \nRSVP here. \n\nBest for children ages 0-5 and their families.
URL:https://www.templesinaidc.org/event/tot-shabbat-playdate-5-3/2027-12-25/
LOCATION:Temple Sinai – 3100 Military Road NW\, Washington\, DC\, United States
CATEGORIES:Worship,Young Families
ATTACH;FMTTYPE=image/jpeg:https://www.templesinaidc.org/wp-content/uploads/2025/02/Tot-Shabbat-Playdate-scaled.jpg
GEO:38.96926;-77.070949
END:VEVENT
BEGIN:VEVENT
DTSTART;TZID=America/New_York:20280115T093000
DTEND;TZID=America/New_York:20280115T103000
DTSTAMP:20260424T095929
CREATED:20250212T204115Z
LAST-MODIFIED:20250512T193811Z
UID:10002064-1831541400-1831545000@www.templesinaidc.org
SUMMARY:Tot Shabbat Storytime
DESCRIPTION:Head to the TSLibrary for a special Shabbat Storytime with librarian Ruth Polk. We’ll also enjoy challah\, juice\, crafts\, and have some time to browse the shelves! \nRSVP here. \n\nBest for children ages 0-5 and their families.\n\nVisit the library any time! Check out the online catalogue.
URL:https://www.templesinaidc.org/event/tot-shabbat-storytime-4/2028-01-15/
LOCATION:Temple Sinai – 3100 Military Road NW\, Washington\, DC\, United States
CATEGORIES:Spotlight,Young Families
ATTACH;FMTTYPE=image/jpeg:https://www.templesinaidc.org/wp-content/uploads/2025/02/Library-Ruth-Polk-Storytime-scaled.jpg
GEO:38.96926;-77.070949
END:VEVENT
BEGIN:VEVENT
DTSTART;TZID=America/New_York:20280122T093000
DTEND;TZID=America/New_York:20280122T103000
DTSTAMP:20260424T095929
CREATED:20250714T194323Z
LAST-MODIFIED:20250714T194526Z
UID:10003527-1832146200-1832149800@www.templesinaidc.org
SUMMARY:Tot Shabbat Playdate
DESCRIPTION:Join us for a tot-friendly service led by our clergy followed by time on the playground. We’ll have challah\, juice\, bagels\, and coffee too! \nRSVP here. \n\nBest for children ages 0-5 and their families.
URL:https://www.templesinaidc.org/event/tot-shabbat-playdate-5-3/2028-01-22/
LOCATION:Temple Sinai – 3100 Military Road NW\, Washington\, DC\, United States
CATEGORIES:Worship,Young Families
ATTACH;FMTTYPE=image/jpeg:https://www.templesinaidc.org/wp-content/uploads/2025/02/Tot-Shabbat-Playdate-scaled.jpg
GEO:38.96926;-77.070949
END:VEVENT
BEGIN:VEVENT
DTSTART;TZID=America/New_York:20280219T093000
DTEND;TZID=America/New_York:20280219T103000
DTSTAMP:20260424T095929
CREATED:20250212T204115Z
LAST-MODIFIED:20250512T193811Z
UID:10002065-1834565400-1834569000@www.templesinaidc.org
SUMMARY:Tot Shabbat Storytime
DESCRIPTION:Head to the TSLibrary for a special Shabbat Storytime with librarian Ruth Polk. We’ll also enjoy challah\, juice\, crafts\, and have some time to browse the shelves! \nRSVP here. \n\nBest for children ages 0-5 and their families.\n\nVisit the library any time! Check out the online catalogue.
URL:https://www.templesinaidc.org/event/tot-shabbat-storytime-4/2028-02-19/
LOCATION:Temple Sinai – 3100 Military Road NW\, Washington\, DC\, United States
CATEGORIES:Spotlight,Young Families
ATTACH;FMTTYPE=image/jpeg:https://www.templesinaidc.org/wp-content/uploads/2025/02/Library-Ruth-Polk-Storytime-scaled.jpg
GEO:38.96926;-77.070949
END:VEVENT
BEGIN:VEVENT
DTSTART;TZID=America/New_York:20280226T093000
DTEND;TZID=America/New_York:20280226T103000
DTSTAMP:20260424T095929
CREATED:20250714T194323Z
LAST-MODIFIED:20250714T194526Z
UID:10003528-1835170200-1835173800@www.templesinaidc.org
SUMMARY:Tot Shabbat Playdate
DESCRIPTION:Join us for a tot-friendly service led by our clergy followed by time on the playground. We’ll have challah\, juice\, bagels\, and coffee too! \nRSVP here. \n\nBest for children ages 0-5 and their families.
URL:https://www.templesinaidc.org/event/tot-shabbat-playdate-5-3/2028-02-26/
LOCATION:Temple Sinai – 3100 Military Road NW\, Washington\, DC\, United States
CATEGORIES:Worship,Young Families
ATTACH;FMTTYPE=image/jpeg:https://www.templesinaidc.org/wp-content/uploads/2025/02/Tot-Shabbat-Playdate-scaled.jpg
GEO:38.96926;-77.070949
END:VEVENT
END:VCALENDAR