BEGIN:VCALENDAR
VERSION:2.0
PRODID:-//Temple Sinai - ECPv6.15.20//NONSGML v1.0//EN
CALSCALE:GREGORIAN
METHOD:PUBLISH
X-ORIGINAL-URL:https://www.templesinaidc.org
X-WR-CALDESC:Events for Temple Sinai
REFRESH-INTERVAL;VALUE=DURATION:PT1H
X-Robots-Tag:noindex
X-PUBLISHED-TTL:PT1H
BEGIN:VTIMEZONE
TZID:America/New_York
BEGIN:DAYLIGHT
TZOFFSETFROM:-0500
TZOFFSETTO:-0400
TZNAME:EDT
DTSTART:20260308T070000
END:DAYLIGHT
BEGIN:STANDARD
TZOFFSETFROM:-0400
TZOFFSETTO:-0500
TZNAME:EST
DTSTART:20261101T060000
END:STANDARD
BEGIN:DAYLIGHT
TZOFFSETFROM:-0500
TZOFFSETTO:-0400
TZNAME:EDT
DTSTART:20270314T070000
END:DAYLIGHT
BEGIN:STANDARD
TZOFFSETFROM:-0400
TZOFFSETTO:-0500
TZNAME:EST
DTSTART:20271107T060000
END:STANDARD
BEGIN:DAYLIGHT
TZOFFSETFROM:-0500
TZOFFSETTO:-0400
TZNAME:EDT
DTSTART:20280312T070000
END:DAYLIGHT
BEGIN:STANDARD
TZOFFSETFROM:-0400
TZOFFSETTO:-0500
TZNAME:EST
DTSTART:20281105T060000
END:STANDARD
BEGIN:DAYLIGHT
TZOFFSETFROM:-0500
TZOFFSETTO:-0400
TZNAME:EDT
DTSTART:20290311T070000
END:DAYLIGHT
BEGIN:STANDARD
TZOFFSETFROM:-0400
TZOFFSETTO:-0500
TZNAME:EST
DTSTART:20291104T060000
END:STANDARD
BEGIN:DAYLIGHT
TZOFFSETFROM:-0500
TZOFFSETTO:-0400
TZNAME:EDT
DTSTART:20300310T070000
END:DAYLIGHT
BEGIN:STANDARD
TZOFFSETFROM:-0400
TZOFFSETTO:-0500
TZNAME:EST
DTSTART:20301103T060000
END:STANDARD
END:VTIMEZONE
BEGIN:VEVENT
DTSTART;TZID=America/New_York:20271218T093000
DTEND;TZID=America/New_York:20271218T103000
DTSTAMP:20260424T162107
CREATED:20250212T204115Z
LAST-MODIFIED:20250512T193811Z
UID:10002063-1829122200-1829125800@www.templesinaidc.org
SUMMARY:Tot Shabbat Storytime
DESCRIPTION:Head to the TSLibrary for a special Shabbat Storytime with librarian Ruth Polk. We’ll also enjoy challah\, juice\, crafts\, and have some time to browse the shelves! \nRSVP here. \n\nBest for children ages 0-5 and their families.\n\nVisit the library any time! Check out the online catalogue.
URL:https://www.templesinaidc.org/event/tot-shabbat-storytime-4/2027-12-18/
LOCATION:Temple Sinai – 3100 Military Road NW\, Washington\, DC\, United States
CATEGORIES:Spotlight,Young Families
ATTACH;FMTTYPE=image/jpeg:https://www.templesinaidc.org/wp-content/uploads/2025/02/Library-Ruth-Polk-Storytime-scaled.jpg
GEO:38.96926;-77.070949
END:VEVENT
BEGIN:VEVENT
DTSTART;TZID=America/New_York:20271225T093000
DTEND;TZID=America/New_York:20271225T103000
DTSTAMP:20260424T162107
CREATED:20250714T194323Z
LAST-MODIFIED:20250714T194526Z
UID:10003526-1829727000-1829730600@www.templesinaidc.org
SUMMARY:Tot Shabbat Playdate
DESCRIPTION:Join us for a tot-friendly service led by our clergy followed by time on the playground. We’ll have challah\, juice\, bagels\, and coffee too! \nRSVP here. \n\nBest for children ages 0-5 and their families.
URL:https://www.templesinaidc.org/event/tot-shabbat-playdate-5-3/2027-12-25/
LOCATION:Temple Sinai – 3100 Military Road NW\, Washington\, DC\, United States
CATEGORIES:Worship,Young Families
ATTACH;FMTTYPE=image/jpeg:https://www.templesinaidc.org/wp-content/uploads/2025/02/Tot-Shabbat-Playdate-scaled.jpg
GEO:38.96926;-77.070949
END:VEVENT
BEGIN:VEVENT
DTSTART;TZID=America/New_York:20280115T093000
DTEND;TZID=America/New_York:20280115T103000
DTSTAMP:20260424T162107
CREATED:20250212T204115Z
LAST-MODIFIED:20250512T193811Z
UID:10002064-1831541400-1831545000@www.templesinaidc.org
SUMMARY:Tot Shabbat Storytime
DESCRIPTION:Head to the TSLibrary for a special Shabbat Storytime with librarian Ruth Polk. We’ll also enjoy challah\, juice\, crafts\, and have some time to browse the shelves! \nRSVP here. \n\nBest for children ages 0-5 and their families.\n\nVisit the library any time! Check out the online catalogue.
URL:https://www.templesinaidc.org/event/tot-shabbat-storytime-4/2028-01-15/
LOCATION:Temple Sinai – 3100 Military Road NW\, Washington\, DC\, United States
CATEGORIES:Spotlight,Young Families
ATTACH;FMTTYPE=image/jpeg:https://www.templesinaidc.org/wp-content/uploads/2025/02/Library-Ruth-Polk-Storytime-scaled.jpg
GEO:38.96926;-77.070949
END:VEVENT
BEGIN:VEVENT
DTSTART;TZID=America/New_York:20280122T093000
DTEND;TZID=America/New_York:20280122T103000
DTSTAMP:20260424T162107
CREATED:20250714T194323Z
LAST-MODIFIED:20250714T194526Z
UID:10003527-1832146200-1832149800@www.templesinaidc.org
SUMMARY:Tot Shabbat Playdate
DESCRIPTION:Join us for a tot-friendly service led by our clergy followed by time on the playground. We’ll have challah\, juice\, bagels\, and coffee too! \nRSVP here. \n\nBest for children ages 0-5 and their families.
URL:https://www.templesinaidc.org/event/tot-shabbat-playdate-5-3/2028-01-22/
LOCATION:Temple Sinai – 3100 Military Road NW\, Washington\, DC\, United States
CATEGORIES:Worship,Young Families
ATTACH;FMTTYPE=image/jpeg:https://www.templesinaidc.org/wp-content/uploads/2025/02/Tot-Shabbat-Playdate-scaled.jpg
GEO:38.96926;-77.070949
END:VEVENT
BEGIN:VEVENT
DTSTART;TZID=America/New_York:20280219T093000
DTEND;TZID=America/New_York:20280219T103000
DTSTAMP:20260424T162108
CREATED:20250212T204115Z
LAST-MODIFIED:20250512T193811Z
UID:10002065-1834565400-1834569000@www.templesinaidc.org
SUMMARY:Tot Shabbat Storytime
DESCRIPTION:Head to the TSLibrary for a special Shabbat Storytime with librarian Ruth Polk. We’ll also enjoy challah\, juice\, crafts\, and have some time to browse the shelves! \nRSVP here. \n\nBest for children ages 0-5 and their families.\n\nVisit the library any time! Check out the online catalogue.
URL:https://www.templesinaidc.org/event/tot-shabbat-storytime-4/2028-02-19/
LOCATION:Temple Sinai – 3100 Military Road NW\, Washington\, DC\, United States
CATEGORIES:Spotlight,Young Families
ATTACH;FMTTYPE=image/jpeg:https://www.templesinaidc.org/wp-content/uploads/2025/02/Library-Ruth-Polk-Storytime-scaled.jpg
GEO:38.96926;-77.070949
END:VEVENT
BEGIN:VEVENT
DTSTART;TZID=America/New_York:20280226T093000
DTEND;TZID=America/New_York:20280226T103000
DTSTAMP:20260424T162108
CREATED:20250714T194323Z
LAST-MODIFIED:20250714T194526Z
UID:10003528-1835170200-1835173800@www.templesinaidc.org
SUMMARY:Tot Shabbat Playdate
DESCRIPTION:Join us for a tot-friendly service led by our clergy followed by time on the playground. We’ll have challah\, juice\, bagels\, and coffee too! \nRSVP here. \n\nBest for children ages 0-5 and their families.
URL:https://www.templesinaidc.org/event/tot-shabbat-playdate-5-3/2028-02-26/
LOCATION:Temple Sinai – 3100 Military Road NW\, Washington\, DC\, United States
CATEGORIES:Worship,Young Families
ATTACH;FMTTYPE=image/jpeg:https://www.templesinaidc.org/wp-content/uploads/2025/02/Tot-Shabbat-Playdate-scaled.jpg
GEO:38.96926;-77.070949
END:VEVENT
BEGIN:VEVENT
DTSTART;TZID=America/New_York:20280318T093000
DTEND;TZID=America/New_York:20280318T103000
DTSTAMP:20260424T162108
CREATED:20250212T204115Z
LAST-MODIFIED:20250512T193811Z
UID:10002066-1836984600-1836988200@www.templesinaidc.org
SUMMARY:Tot Shabbat Storytime
DESCRIPTION:Head to the TSLibrary for a special Shabbat Storytime with librarian Ruth Polk. We’ll also enjoy challah\, juice\, crafts\, and have some time to browse the shelves! \nRSVP here. \n\nBest for children ages 0-5 and their families.\n\nVisit the library any time! Check out the online catalogue.
URL:https://www.templesinaidc.org/event/tot-shabbat-storytime-4/2028-03-18/
LOCATION:Temple Sinai – 3100 Military Road NW\, Washington\, DC\, United States
CATEGORIES:Spotlight,Young Families
ATTACH;FMTTYPE=image/jpeg:https://www.templesinaidc.org/wp-content/uploads/2025/02/Library-Ruth-Polk-Storytime-scaled.jpg
GEO:38.96926;-77.070949
END:VEVENT
BEGIN:VEVENT
DTSTART;TZID=America/New_York:20280325T093000
DTEND;TZID=America/New_York:20280325T103000
DTSTAMP:20260424T162108
CREATED:20250714T194323Z
LAST-MODIFIED:20250714T194526Z
UID:10003529-1837589400-1837593000@www.templesinaidc.org
SUMMARY:Tot Shabbat Playdate
DESCRIPTION:Join us for a tot-friendly service led by our clergy followed by time on the playground. We’ll have challah\, juice\, bagels\, and coffee too! \nRSVP here. \n\nBest for children ages 0-5 and their families.
URL:https://www.templesinaidc.org/event/tot-shabbat-playdate-5-3/2028-03-25/
LOCATION:Temple Sinai – 3100 Military Road NW\, Washington\, DC\, United States
CATEGORIES:Worship,Young Families
ATTACH;FMTTYPE=image/jpeg:https://www.templesinaidc.org/wp-content/uploads/2025/02/Tot-Shabbat-Playdate-scaled.jpg
GEO:38.96926;-77.070949
END:VEVENT
BEGIN:VEVENT
DTSTART;TZID=America/New_York:20280415T093000
DTEND;TZID=America/New_York:20280415T103000
DTSTAMP:20260424T162108
CREATED:20250212T204115Z
LAST-MODIFIED:20250512T193811Z
UID:10002067-1839403800-1839407400@www.templesinaidc.org
SUMMARY:Tot Shabbat Storytime
DESCRIPTION:Head to the TSLibrary for a special Shabbat Storytime with librarian Ruth Polk. We’ll also enjoy challah\, juice\, crafts\, and have some time to browse the shelves! \nRSVP here. \n\nBest for children ages 0-5 and their families.\n\nVisit the library any time! Check out the online catalogue.
URL:https://www.templesinaidc.org/event/tot-shabbat-storytime-4/2028-04-15/
LOCATION:Temple Sinai – 3100 Military Road NW\, Washington\, DC\, United States
CATEGORIES:Spotlight,Young Families
ATTACH;FMTTYPE=image/jpeg:https://www.templesinaidc.org/wp-content/uploads/2025/02/Library-Ruth-Polk-Storytime-scaled.jpg
GEO:38.96926;-77.070949
END:VEVENT
BEGIN:VEVENT
DTSTART;TZID=America/New_York:20280422T093000
DTEND;TZID=America/New_York:20280422T103000
DTSTAMP:20260424T162108
CREATED:20250714T194323Z
LAST-MODIFIED:20250714T194526Z
UID:10003530-1840008600-1840012200@www.templesinaidc.org
SUMMARY:Tot Shabbat Playdate
DESCRIPTION:Join us for a tot-friendly service led by our clergy followed by time on the playground. We’ll have challah\, juice\, bagels\, and coffee too! \nRSVP here. \n\nBest for children ages 0-5 and their families.
URL:https://www.templesinaidc.org/event/tot-shabbat-playdate-5-3/2028-04-22/
LOCATION:Temple Sinai – 3100 Military Road NW\, Washington\, DC\, United States
CATEGORIES:Worship,Young Families
ATTACH;FMTTYPE=image/jpeg:https://www.templesinaidc.org/wp-content/uploads/2025/02/Tot-Shabbat-Playdate-scaled.jpg
GEO:38.96926;-77.070949
END:VEVENT
BEGIN:VEVENT
DTSTART;TZID=America/New_York:20280520T093000
DTEND;TZID=America/New_York:20280520T103000
DTSTAMP:20260424T162108
CREATED:20250212T204115Z
LAST-MODIFIED:20250512T193811Z
UID:10002068-1842427800-1842431400@www.templesinaidc.org
SUMMARY:Tot Shabbat Storytime
DESCRIPTION:Head to the TSLibrary for a special Shabbat Storytime with librarian Ruth Polk. We’ll also enjoy challah\, juice\, crafts\, and have some time to browse the shelves! \nRSVP here. \n\nBest for children ages 0-5 and their families.\n\nVisit the library any time! Check out the online catalogue.
URL:https://www.templesinaidc.org/event/tot-shabbat-storytime-4/2028-05-20/
LOCATION:Temple Sinai – 3100 Military Road NW\, Washington\, DC\, United States
CATEGORIES:Spotlight,Young Families
ATTACH;FMTTYPE=image/jpeg:https://www.templesinaidc.org/wp-content/uploads/2025/02/Library-Ruth-Polk-Storytime-scaled.jpg
GEO:38.96926;-77.070949
END:VEVENT
BEGIN:VEVENT
DTSTART;TZID=America/New_York:20280527T093000
DTEND;TZID=America/New_York:20280527T103000
DTSTAMP:20260424T162108
CREATED:20250714T194323Z
LAST-MODIFIED:20250714T194526Z
UID:10003531-1843032600-1843036200@www.templesinaidc.org
SUMMARY:Tot Shabbat Playdate
DESCRIPTION:Join us for a tot-friendly service led by our clergy followed by time on the playground. We’ll have challah\, juice\, bagels\, and coffee too! \nRSVP here. \n\nBest for children ages 0-5 and their families.
URL:https://www.templesinaidc.org/event/tot-shabbat-playdate-5-3/2028-05-27/
LOCATION:Temple Sinai – 3100 Military Road NW\, Washington\, DC\, United States
CATEGORIES:Worship,Young Families
ATTACH;FMTTYPE=image/jpeg:https://www.templesinaidc.org/wp-content/uploads/2025/02/Tot-Shabbat-Playdate-scaled.jpg
GEO:38.96926;-77.070949
END:VEVENT
BEGIN:VEVENT
DTSTART;TZID=America/New_York:20280617T093000
DTEND;TZID=America/New_York:20280617T103000
DTSTAMP:20260424T162108
CREATED:20250212T204115Z
LAST-MODIFIED:20250512T193811Z
UID:10002069-1844847000-1844850600@www.templesinaidc.org
SUMMARY:Tot Shabbat Storytime
DESCRIPTION:Head to the TSLibrary for a special Shabbat Storytime with librarian Ruth Polk. We’ll also enjoy challah\, juice\, crafts\, and have some time to browse the shelves! \nRSVP here. \n\nBest for children ages 0-5 and their families.\n\nVisit the library any time! Check out the online catalogue.
URL:https://www.templesinaidc.org/event/tot-shabbat-storytime-4/2028-06-17/
LOCATION:Temple Sinai – 3100 Military Road NW\, Washington\, DC\, United States
CATEGORIES:Spotlight,Young Families
ATTACH;FMTTYPE=image/jpeg:https://www.templesinaidc.org/wp-content/uploads/2025/02/Library-Ruth-Polk-Storytime-scaled.jpg
GEO:38.96926;-77.070949
END:VEVENT
BEGIN:VEVENT
DTSTART;TZID=America/New_York:20280624T093000
DTEND;TZID=America/New_York:20280624T103000
DTSTAMP:20260424T162108
CREATED:20250714T194323Z
LAST-MODIFIED:20250714T194526Z
UID:10003532-1845451800-1845455400@www.templesinaidc.org
SUMMARY:Tot Shabbat Playdate
DESCRIPTION:Join us for a tot-friendly service led by our clergy followed by time on the playground. We’ll have challah\, juice\, bagels\, and coffee too! \nRSVP here. \n\nBest for children ages 0-5 and their families.
URL:https://www.templesinaidc.org/event/tot-shabbat-playdate-5-3/2028-06-24/
LOCATION:Temple Sinai – 3100 Military Road NW\, Washington\, DC\, United States
CATEGORIES:Worship,Young Families
ATTACH;FMTTYPE=image/jpeg:https://www.templesinaidc.org/wp-content/uploads/2025/02/Tot-Shabbat-Playdate-scaled.jpg
GEO:38.96926;-77.070949
END:VEVENT
BEGIN:VEVENT
DTSTART;TZID=America/New_York:20280715T093000
DTEND;TZID=America/New_York:20280715T103000
DTSTAMP:20260424T162108
CREATED:20250212T204115Z
LAST-MODIFIED:20250512T193811Z
UID:10002070-1847266200-1847269800@www.templesinaidc.org
SUMMARY:Tot Shabbat Storytime
DESCRIPTION:Head to the TSLibrary for a special Shabbat Storytime with librarian Ruth Polk. We’ll also enjoy challah\, juice\, crafts\, and have some time to browse the shelves! \nRSVP here. \n\nBest for children ages 0-5 and their families.\n\nVisit the library any time! Check out the online catalogue.
URL:https://www.templesinaidc.org/event/tot-shabbat-storytime-4/2028-07-15/
LOCATION:Temple Sinai – 3100 Military Road NW\, Washington\, DC\, United States
CATEGORIES:Spotlight,Young Families
ATTACH;FMTTYPE=image/jpeg:https://www.templesinaidc.org/wp-content/uploads/2025/02/Library-Ruth-Polk-Storytime-scaled.jpg
GEO:38.96926;-77.070949
END:VEVENT
BEGIN:VEVENT
DTSTART;TZID=America/New_York:20280722T093000
DTEND;TZID=America/New_York:20280722T103000
DTSTAMP:20260424T162108
CREATED:20250714T194323Z
LAST-MODIFIED:20250714T194526Z
UID:10003533-1847871000-1847874600@www.templesinaidc.org
SUMMARY:Tot Shabbat Playdate
DESCRIPTION:Join us for a tot-friendly service led by our clergy followed by time on the playground. We’ll have challah\, juice\, bagels\, and coffee too! \nRSVP here. \n\nBest for children ages 0-5 and their families.
URL:https://www.templesinaidc.org/event/tot-shabbat-playdate-5-3/2028-07-22/
LOCATION:Temple Sinai – 3100 Military Road NW\, Washington\, DC\, United States
CATEGORIES:Worship,Young Families
ATTACH;FMTTYPE=image/jpeg:https://www.templesinaidc.org/wp-content/uploads/2025/02/Tot-Shabbat-Playdate-scaled.jpg
GEO:38.96926;-77.070949
END:VEVENT
BEGIN:VEVENT
DTSTART;TZID=America/New_York:20280819T093000
DTEND;TZID=America/New_York:20280819T103000
DTSTAMP:20260424T162108
CREATED:20250212T204115Z
LAST-MODIFIED:20250512T193811Z
UID:10002071-1850290200-1850293800@www.templesinaidc.org
SUMMARY:Tot Shabbat Storytime
DESCRIPTION:Head to the TSLibrary for a special Shabbat Storytime with librarian Ruth Polk. We’ll also enjoy challah\, juice\, crafts\, and have some time to browse the shelves! \nRSVP here. \n\nBest for children ages 0-5 and their families.\n\nVisit the library any time! Check out the online catalogue.
URL:https://www.templesinaidc.org/event/tot-shabbat-storytime-4/2028-08-19/
LOCATION:Temple Sinai – 3100 Military Road NW\, Washington\, DC\, United States
CATEGORIES:Spotlight,Young Families
ATTACH;FMTTYPE=image/jpeg:https://www.templesinaidc.org/wp-content/uploads/2025/02/Library-Ruth-Polk-Storytime-scaled.jpg
GEO:38.96926;-77.070949
END:VEVENT
BEGIN:VEVENT
DTSTART;TZID=America/New_York:20280826T093000
DTEND;TZID=America/New_York:20280826T103000
DTSTAMP:20260424T162108
CREATED:20250714T194323Z
LAST-MODIFIED:20250714T194526Z
UID:10003534-1850895000-1850898600@www.templesinaidc.org
SUMMARY:Tot Shabbat Playdate
DESCRIPTION:Join us for a tot-friendly service led by our clergy followed by time on the playground. We’ll have challah\, juice\, bagels\, and coffee too! \nRSVP here. \n\nBest for children ages 0-5 and their families.
URL:https://www.templesinaidc.org/event/tot-shabbat-playdate-5-3/2028-08-26/
LOCATION:Temple Sinai – 3100 Military Road NW\, Washington\, DC\, United States
CATEGORIES:Worship,Young Families
ATTACH;FMTTYPE=image/jpeg:https://www.templesinaidc.org/wp-content/uploads/2025/02/Tot-Shabbat-Playdate-scaled.jpg
GEO:38.96926;-77.070949
END:VEVENT
BEGIN:VEVENT
DTSTART;TZID=America/New_York:20280916T093000
DTEND;TZID=America/New_York:20280916T103000
DTSTAMP:20260424T162108
CREATED:20250212T204115Z
LAST-MODIFIED:20250512T193811Z
UID:10002072-1852709400-1852713000@www.templesinaidc.org
SUMMARY:Tot Shabbat Storytime
DESCRIPTION:Head to the TSLibrary for a special Shabbat Storytime with librarian Ruth Polk. We’ll also enjoy challah\, juice\, crafts\, and have some time to browse the shelves! \nRSVP here. \n\nBest for children ages 0-5 and their families.\n\nVisit the library any time! Check out the online catalogue.
URL:https://www.templesinaidc.org/event/tot-shabbat-storytime-4/2028-09-16/
LOCATION:Temple Sinai – 3100 Military Road NW\, Washington\, DC\, United States
CATEGORIES:Spotlight,Young Families
ATTACH;FMTTYPE=image/jpeg:https://www.templesinaidc.org/wp-content/uploads/2025/02/Library-Ruth-Polk-Storytime-scaled.jpg
GEO:38.96926;-77.070949
END:VEVENT
BEGIN:VEVENT
DTSTART;TZID=America/New_York:20280923T093000
DTEND;TZID=America/New_York:20280923T103000
DTSTAMP:20260424T162108
CREATED:20250714T194323Z
LAST-MODIFIED:20250714T194526Z
UID:10003535-1853314200-1853317800@www.templesinaidc.org
SUMMARY:Tot Shabbat Playdate
DESCRIPTION:Join us for a tot-friendly service led by our clergy followed by time on the playground. We’ll have challah\, juice\, bagels\, and coffee too! \nRSVP here. \n\nBest for children ages 0-5 and their families.
URL:https://www.templesinaidc.org/event/tot-shabbat-playdate-5-3/2028-09-23/
LOCATION:Temple Sinai – 3100 Military Road NW\, Washington\, DC\, United States
CATEGORIES:Worship,Young Families
ATTACH;FMTTYPE=image/jpeg:https://www.templesinaidc.org/wp-content/uploads/2025/02/Tot-Shabbat-Playdate-scaled.jpg
GEO:38.96926;-77.070949
END:VEVENT
BEGIN:VEVENT
DTSTART;TZID=America/New_York:20281021T093000
DTEND;TZID=America/New_York:20281021T103000
DTSTAMP:20260424T162108
CREATED:20250212T204115Z
LAST-MODIFIED:20250512T193811Z
UID:10002073-1855733400-1855737000@www.templesinaidc.org
SUMMARY:Tot Shabbat Storytime
DESCRIPTION:Head to the TSLibrary for a special Shabbat Storytime with librarian Ruth Polk. We’ll also enjoy challah\, juice\, crafts\, and have some time to browse the shelves! \nRSVP here. \n\nBest for children ages 0-5 and their families.\n\nVisit the library any time! Check out the online catalogue.
URL:https://www.templesinaidc.org/event/tot-shabbat-storytime-4/2028-10-21/
LOCATION:Temple Sinai – 3100 Military Road NW\, Washington\, DC\, United States
CATEGORIES:Spotlight,Young Families
ATTACH;FMTTYPE=image/jpeg:https://www.templesinaidc.org/wp-content/uploads/2025/02/Library-Ruth-Polk-Storytime-scaled.jpg
GEO:38.96926;-77.070949
END:VEVENT
BEGIN:VEVENT
DTSTART;TZID=America/New_York:20281028T093000
DTEND;TZID=America/New_York:20281028T103000
DTSTAMP:20260424T162108
CREATED:20250714T194323Z
LAST-MODIFIED:20250714T194526Z
UID:10003536-1856338200-1856341800@www.templesinaidc.org
SUMMARY:Tot Shabbat Playdate
DESCRIPTION:Join us for a tot-friendly service led by our clergy followed by time on the playground. We’ll have challah\, juice\, bagels\, and coffee too! \nRSVP here. \n\nBest for children ages 0-5 and their families.
URL:https://www.templesinaidc.org/event/tot-shabbat-playdate-5-3/2028-10-28/
LOCATION:Temple Sinai – 3100 Military Road NW\, Washington\, DC\, United States
CATEGORIES:Worship,Young Families
ATTACH;FMTTYPE=image/jpeg:https://www.templesinaidc.org/wp-content/uploads/2025/02/Tot-Shabbat-Playdate-scaled.jpg
GEO:38.96926;-77.070949
END:VEVENT
BEGIN:VEVENT
DTSTART;TZID=America/New_York:20281118T093000
DTEND;TZID=America/New_York:20281118T103000
DTSTAMP:20260424T162108
CREATED:20250212T204115Z
LAST-MODIFIED:20250512T193811Z
UID:10002074-1858152600-1858156200@www.templesinaidc.org
SUMMARY:Tot Shabbat Storytime
DESCRIPTION:Head to the TSLibrary for a special Shabbat Storytime with librarian Ruth Polk. We’ll also enjoy challah\, juice\, crafts\, and have some time to browse the shelves! \nRSVP here. \n\nBest for children ages 0-5 and their families.\n\nVisit the library any time! Check out the online catalogue.
URL:https://www.templesinaidc.org/event/tot-shabbat-storytime-4/2028-11-18/
LOCATION:Temple Sinai – 3100 Military Road NW\, Washington\, DC\, United States
CATEGORIES:Spotlight,Young Families
ATTACH;FMTTYPE=image/jpeg:https://www.templesinaidc.org/wp-content/uploads/2025/02/Library-Ruth-Polk-Storytime-scaled.jpg
GEO:38.96926;-77.070949
END:VEVENT
BEGIN:VEVENT
DTSTART;TZID=America/New_York:20281125T093000
DTEND;TZID=America/New_York:20281125T103000
DTSTAMP:20260424T162108
CREATED:20250714T194323Z
LAST-MODIFIED:20250714T194526Z
UID:10003537-1858757400-1858761000@www.templesinaidc.org
SUMMARY:Tot Shabbat Playdate
DESCRIPTION:Join us for a tot-friendly service led by our clergy followed by time on the playground. We’ll have challah\, juice\, bagels\, and coffee too! \nRSVP here. \n\nBest for children ages 0-5 and their families.
URL:https://www.templesinaidc.org/event/tot-shabbat-playdate-5-3/2028-11-25/
LOCATION:Temple Sinai – 3100 Military Road NW\, Washington\, DC\, United States
CATEGORIES:Worship,Young Families
ATTACH;FMTTYPE=image/jpeg:https://www.templesinaidc.org/wp-content/uploads/2025/02/Tot-Shabbat-Playdate-scaled.jpg
GEO:38.96926;-77.070949
END:VEVENT
BEGIN:VEVENT
DTSTART;TZID=America/New_York:20281216T093000
DTEND;TZID=America/New_York:20281216T103000
DTSTAMP:20260424T162108
CREATED:20250212T204115Z
LAST-MODIFIED:20250512T193811Z
UID:10002075-1860571800-1860575400@www.templesinaidc.org
SUMMARY:Tot Shabbat Storytime
DESCRIPTION:Head to the TSLibrary for a special Shabbat Storytime with librarian Ruth Polk. We’ll also enjoy challah\, juice\, crafts\, and have some time to browse the shelves! \nRSVP here. \n\nBest for children ages 0-5 and their families.\n\nVisit the library any time! Check out the online catalogue.
URL:https://www.templesinaidc.org/event/tot-shabbat-storytime-4/2028-12-16/
LOCATION:Temple Sinai – 3100 Military Road NW\, Washington\, DC\, United States
CATEGORIES:Spotlight,Young Families
ATTACH;FMTTYPE=image/jpeg:https://www.templesinaidc.org/wp-content/uploads/2025/02/Library-Ruth-Polk-Storytime-scaled.jpg
GEO:38.96926;-77.070949
END:VEVENT
BEGIN:VEVENT
DTSTART;TZID=America/New_York:20281223T093000
DTEND;TZID=America/New_York:20281223T103000
DTSTAMP:20260424T162108
CREATED:20250714T194323Z
LAST-MODIFIED:20250714T194526Z
UID:10003538-1861176600-1861180200@www.templesinaidc.org
SUMMARY:Tot Shabbat Playdate
DESCRIPTION:Join us for a tot-friendly service led by our clergy followed by time on the playground. We’ll have challah\, juice\, bagels\, and coffee too! \nRSVP here. \n\nBest for children ages 0-5 and their families.
URL:https://www.templesinaidc.org/event/tot-shabbat-playdate-5-3/2028-12-23/
LOCATION:Temple Sinai – 3100 Military Road NW\, Washington\, DC\, United States
CATEGORIES:Worship,Young Families
ATTACH;FMTTYPE=image/jpeg:https://www.templesinaidc.org/wp-content/uploads/2025/02/Tot-Shabbat-Playdate-scaled.jpg
GEO:38.96926;-77.070949
END:VEVENT
BEGIN:VEVENT
DTSTART;TZID=America/New_York:20290120T093000
DTEND;TZID=America/New_York:20290120T103000
DTSTAMP:20260424T162108
CREATED:20250212T204115Z
LAST-MODIFIED:20250512T193811Z
UID:10002076-1863595800-1863599400@www.templesinaidc.org
SUMMARY:Tot Shabbat Storytime
DESCRIPTION:Head to the TSLibrary for a special Shabbat Storytime with librarian Ruth Polk. We’ll also enjoy challah\, juice\, crafts\, and have some time to browse the shelves! \nRSVP here. \n\nBest for children ages 0-5 and their families.\n\nVisit the library any time! Check out the online catalogue.
URL:https://www.templesinaidc.org/event/tot-shabbat-storytime-4/2029-01-20/
LOCATION:Temple Sinai – 3100 Military Road NW\, Washington\, DC\, United States
CATEGORIES:Spotlight,Young Families
ATTACH;FMTTYPE=image/jpeg:https://www.templesinaidc.org/wp-content/uploads/2025/02/Library-Ruth-Polk-Storytime-scaled.jpg
GEO:38.96926;-77.070949
END:VEVENT
BEGIN:VEVENT
DTSTART;TZID=America/New_York:20290127T093000
DTEND;TZID=America/New_York:20290127T103000
DTSTAMP:20260424T162108
CREATED:20250714T194323Z
LAST-MODIFIED:20250714T194526Z
UID:10003539-1864200600-1864204200@www.templesinaidc.org
SUMMARY:Tot Shabbat Playdate
DESCRIPTION:Join us for a tot-friendly service led by our clergy followed by time on the playground. We’ll have challah\, juice\, bagels\, and coffee too! \nRSVP here. \n\nBest for children ages 0-5 and their families.
URL:https://www.templesinaidc.org/event/tot-shabbat-playdate-5-3/2029-01-27/
LOCATION:Temple Sinai – 3100 Military Road NW\, Washington\, DC\, United States
CATEGORIES:Worship,Young Families
ATTACH;FMTTYPE=image/jpeg:https://www.templesinaidc.org/wp-content/uploads/2025/02/Tot-Shabbat-Playdate-scaled.jpg
GEO:38.96926;-77.070949
END:VEVENT
BEGIN:VEVENT
DTSTART;TZID=America/New_York:20290217T093000
DTEND;TZID=America/New_York:20290217T103000
DTSTAMP:20260424T162108
CREATED:20250212T204115Z
LAST-MODIFIED:20250512T193811Z
UID:10002077-1866015000-1866018600@www.templesinaidc.org
SUMMARY:Tot Shabbat Storytime
DESCRIPTION:Head to the TSLibrary for a special Shabbat Storytime with librarian Ruth Polk. We’ll also enjoy challah\, juice\, crafts\, and have some time to browse the shelves! \nRSVP here. \n\nBest for children ages 0-5 and their families.\n\nVisit the library any time! Check out the online catalogue.
URL:https://www.templesinaidc.org/event/tot-shabbat-storytime-4/2029-02-17/
LOCATION:Temple Sinai – 3100 Military Road NW\, Washington\, DC\, United States
CATEGORIES:Spotlight,Young Families
ATTACH;FMTTYPE=image/jpeg:https://www.templesinaidc.org/wp-content/uploads/2025/02/Library-Ruth-Polk-Storytime-scaled.jpg
GEO:38.96926;-77.070949
END:VEVENT
BEGIN:VEVENT
DTSTART;TZID=America/New_York:20290224T093000
DTEND;TZID=America/New_York:20290224T103000
DTSTAMP:20260424T162108
CREATED:20250714T194323Z
LAST-MODIFIED:20250714T194526Z
UID:10003540-1866619800-1866623400@www.templesinaidc.org
SUMMARY:Tot Shabbat Playdate
DESCRIPTION:Join us for a tot-friendly service led by our clergy followed by time on the playground. We’ll have challah\, juice\, bagels\, and coffee too! \nRSVP here. \n\nBest for children ages 0-5 and their families.
URL:https://www.templesinaidc.org/event/tot-shabbat-playdate-5-3/2029-02-24/
LOCATION:Temple Sinai – 3100 Military Road NW\, Washington\, DC\, United States
CATEGORIES:Worship,Young Families
ATTACH;FMTTYPE=image/jpeg:https://www.templesinaidc.org/wp-content/uploads/2025/02/Tot-Shabbat-Playdate-scaled.jpg
GEO:38.96926;-77.070949
END:VEVENT
END:VCALENDAR