BEGIN:VCALENDAR
VERSION:2.0
PRODID:-//Temple Sinai - ECPv6.15.20//NONSGML v1.0//EN
CALSCALE:GREGORIAN
METHOD:PUBLISH
X-WR-CALNAME:Temple Sinai
X-ORIGINAL-URL:https://www.templesinaidc.org
X-WR-CALDESC:Events for Temple Sinai
REFRESH-INTERVAL;VALUE=DURATION:PT1H
X-Robots-Tag:noindex
X-PUBLISHED-TTL:PT1H
BEGIN:VTIMEZONE
TZID:America/New_York
BEGIN:DAYLIGHT
TZOFFSETFROM:-0500
TZOFFSETTO:-0400
TZNAME:EDT
DTSTART:20280312T070000
END:DAYLIGHT
BEGIN:STANDARD
TZOFFSETFROM:-0400
TZOFFSETTO:-0500
TZNAME:EST
DTSTART:20281105T060000
END:STANDARD
BEGIN:DAYLIGHT
TZOFFSETFROM:-0500
TZOFFSETTO:-0400
TZNAME:EDT
DTSTART:20290311T070000
END:DAYLIGHT
BEGIN:STANDARD
TZOFFSETFROM:-0400
TZOFFSETTO:-0500
TZNAME:EST
DTSTART:20291104T060000
END:STANDARD
BEGIN:DAYLIGHT
TZOFFSETFROM:-0500
TZOFFSETTO:-0400
TZNAME:EDT
DTSTART:20300310T070000
END:DAYLIGHT
BEGIN:STANDARD
TZOFFSETFROM:-0400
TZOFFSETTO:-0500
TZNAME:EST
DTSTART:20301103T060000
END:STANDARD
BEGIN:DAYLIGHT
TZOFFSETFROM:-0500
TZOFFSETTO:-0400
TZNAME:EDT
DTSTART:20310309T070000
END:DAYLIGHT
BEGIN:STANDARD
TZOFFSETFROM:-0400
TZOFFSETTO:-0500
TZNAME:EST
DTSTART:20311102T060000
END:STANDARD
END:VTIMEZONE
BEGIN:VEVENT
DTSTART;TZID=America/New_York:20290616T093000
DTEND;TZID=America/New_York:20290616T103000
DTSTAMP:20260424T212923
CREATED:20250212T204115Z
LAST-MODIFIED:20250512T193811Z
UID:10002081-1876296600-1876300200@www.templesinaidc.org
SUMMARY:Tot Shabbat Storytime
DESCRIPTION:Head to the TSLibrary for a special Shabbat Storytime with librarian Ruth Polk. We’ll also enjoy challah\, juice\, crafts\, and have some time to browse the shelves! \nRSVP here. \n\nBest for children ages 0-5 and their families.\n\nVisit the library any time! Check out the online catalogue.
URL:https://www.templesinaidc.org/event/tot-shabbat-storytime-4/2029-06-16/
LOCATION:Temple Sinai – 3100 Military Road NW\, Washington\, DC\, United States
CATEGORIES:Spotlight,Young Families
ATTACH;FMTTYPE=image/jpeg:https://www.templesinaidc.org/wp-content/uploads/2025/02/Library-Ruth-Polk-Storytime-scaled.jpg
GEO:38.96926;-77.070949
END:VEVENT
BEGIN:VEVENT
DTSTART;TZID=America/New_York:20290623T093000
DTEND;TZID=America/New_York:20290623T103000
DTSTAMP:20260424T212923
CREATED:20250714T194323Z
LAST-MODIFIED:20250714T194526Z
UID:10003544-1876901400-1876905000@www.templesinaidc.org
SUMMARY:Tot Shabbat Playdate
DESCRIPTION:Join us for a tot-friendly service led by our clergy followed by time on the playground. We’ll have challah\, juice\, bagels\, and coffee too! \nRSVP here. \n\nBest for children ages 0-5 and their families.
URL:https://www.templesinaidc.org/event/tot-shabbat-playdate-5-3/2029-06-23/
LOCATION:Temple Sinai – 3100 Military Road NW\, Washington\, DC\, United States
CATEGORIES:Worship,Young Families
ATTACH;FMTTYPE=image/jpeg:https://www.templesinaidc.org/wp-content/uploads/2025/02/Tot-Shabbat-Playdate-scaled.jpg
GEO:38.96926;-77.070949
END:VEVENT
BEGIN:VEVENT
DTSTART;TZID=America/New_York:20290721T093000
DTEND;TZID=America/New_York:20290721T103000
DTSTAMP:20260424T212923
CREATED:20250212T204115Z
LAST-MODIFIED:20250512T193811Z
UID:10002082-1879320600-1879324200@www.templesinaidc.org
SUMMARY:Tot Shabbat Storytime
DESCRIPTION:Head to the TSLibrary for a special Shabbat Storytime with librarian Ruth Polk. We’ll also enjoy challah\, juice\, crafts\, and have some time to browse the shelves! \nRSVP here. \n\nBest for children ages 0-5 and their families.\n\nVisit the library any time! Check out the online catalogue.
URL:https://www.templesinaidc.org/event/tot-shabbat-storytime-4/2029-07-21/
LOCATION:Temple Sinai – 3100 Military Road NW\, Washington\, DC\, United States
CATEGORIES:Spotlight,Young Families
ATTACH;FMTTYPE=image/jpeg:https://www.templesinaidc.org/wp-content/uploads/2025/02/Library-Ruth-Polk-Storytime-scaled.jpg
GEO:38.96926;-77.070949
END:VEVENT
BEGIN:VEVENT
DTSTART;TZID=America/New_York:20290728T093000
DTEND;TZID=America/New_York:20290728T103000
DTSTAMP:20260424T212923
CREATED:20250714T194323Z
LAST-MODIFIED:20250714T194526Z
UID:10003545-1879925400-1879929000@www.templesinaidc.org
SUMMARY:Tot Shabbat Playdate
DESCRIPTION:Join us for a tot-friendly service led by our clergy followed by time on the playground. We’ll have challah\, juice\, bagels\, and coffee too! \nRSVP here. \n\nBest for children ages 0-5 and their families.
URL:https://www.templesinaidc.org/event/tot-shabbat-playdate-5-3/2029-07-28/
LOCATION:Temple Sinai – 3100 Military Road NW\, Washington\, DC\, United States
CATEGORIES:Worship,Young Families
ATTACH;FMTTYPE=image/jpeg:https://www.templesinaidc.org/wp-content/uploads/2025/02/Tot-Shabbat-Playdate-scaled.jpg
GEO:38.96926;-77.070949
END:VEVENT
BEGIN:VEVENT
DTSTART;TZID=America/New_York:20290818T093000
DTEND;TZID=America/New_York:20290818T103000
DTSTAMP:20260424T212923
CREATED:20250212T204115Z
LAST-MODIFIED:20250512T193811Z
UID:10002083-1881739800-1881743400@www.templesinaidc.org
SUMMARY:Tot Shabbat Storytime
DESCRIPTION:Head to the TSLibrary for a special Shabbat Storytime with librarian Ruth Polk. We’ll also enjoy challah\, juice\, crafts\, and have some time to browse the shelves! \nRSVP here. \n\nBest for children ages 0-5 and their families.\n\nVisit the library any time! Check out the online catalogue.
URL:https://www.templesinaidc.org/event/tot-shabbat-storytime-4/2029-08-18/
LOCATION:Temple Sinai – 3100 Military Road NW\, Washington\, DC\, United States
CATEGORIES:Spotlight,Young Families
ATTACH;FMTTYPE=image/jpeg:https://www.templesinaidc.org/wp-content/uploads/2025/02/Library-Ruth-Polk-Storytime-scaled.jpg
GEO:38.96926;-77.070949
END:VEVENT
BEGIN:VEVENT
DTSTART;TZID=America/New_York:20290825T093000
DTEND;TZID=America/New_York:20290825T103000
DTSTAMP:20260424T212923
CREATED:20250714T194323Z
LAST-MODIFIED:20250714T194526Z
UID:10003546-1882344600-1882348200@www.templesinaidc.org
SUMMARY:Tot Shabbat Playdate
DESCRIPTION:Join us for a tot-friendly service led by our clergy followed by time on the playground. We’ll have challah\, juice\, bagels\, and coffee too! \nRSVP here. \n\nBest for children ages 0-5 and their families.
URL:https://www.templesinaidc.org/event/tot-shabbat-playdate-5-3/2029-08-25/
LOCATION:Temple Sinai – 3100 Military Road NW\, Washington\, DC\, United States
CATEGORIES:Worship,Young Families
ATTACH;FMTTYPE=image/jpeg:https://www.templesinaidc.org/wp-content/uploads/2025/02/Tot-Shabbat-Playdate-scaled.jpg
GEO:38.96926;-77.070949
END:VEVENT
BEGIN:VEVENT
DTSTART;TZID=America/New_York:20290915T093000
DTEND;TZID=America/New_York:20290915T103000
DTSTAMP:20260424T212923
CREATED:20250212T204115Z
LAST-MODIFIED:20250512T193811Z
UID:10002084-1884159000-1884162600@www.templesinaidc.org
SUMMARY:Tot Shabbat Storytime
DESCRIPTION:Head to the TSLibrary for a special Shabbat Storytime with librarian Ruth Polk. We’ll also enjoy challah\, juice\, crafts\, and have some time to browse the shelves! \nRSVP here. \n\nBest for children ages 0-5 and their families.\n\nVisit the library any time! Check out the online catalogue.
URL:https://www.templesinaidc.org/event/tot-shabbat-storytime-4/2029-09-15/
LOCATION:Temple Sinai – 3100 Military Road NW\, Washington\, DC\, United States
CATEGORIES:Spotlight,Young Families
ATTACH;FMTTYPE=image/jpeg:https://www.templesinaidc.org/wp-content/uploads/2025/02/Library-Ruth-Polk-Storytime-scaled.jpg
GEO:38.96926;-77.070949
END:VEVENT
BEGIN:VEVENT
DTSTART;TZID=America/New_York:20290922T093000
DTEND;TZID=America/New_York:20290922T103000
DTSTAMP:20260424T212923
CREATED:20250714T194323Z
LAST-MODIFIED:20250714T194526Z
UID:10003547-1884763800-1884767400@www.templesinaidc.org
SUMMARY:Tot Shabbat Playdate
DESCRIPTION:Join us for a tot-friendly service led by our clergy followed by time on the playground. We’ll have challah\, juice\, bagels\, and coffee too! \nRSVP here. \n\nBest for children ages 0-5 and their families.
URL:https://www.templesinaidc.org/event/tot-shabbat-playdate-5-3/2029-09-22/
LOCATION:Temple Sinai – 3100 Military Road NW\, Washington\, DC\, United States
CATEGORIES:Worship,Young Families
ATTACH;FMTTYPE=image/jpeg:https://www.templesinaidc.org/wp-content/uploads/2025/02/Tot-Shabbat-Playdate-scaled.jpg
GEO:38.96926;-77.070949
END:VEVENT
BEGIN:VEVENT
DTSTART;TZID=America/New_York:20291020T093000
DTEND;TZID=America/New_York:20291020T103000
DTSTAMP:20260424T212923
CREATED:20250212T204115Z
LAST-MODIFIED:20250512T193811Z
UID:10002085-1887183000-1887186600@www.templesinaidc.org
SUMMARY:Tot Shabbat Storytime
DESCRIPTION:Head to the TSLibrary for a special Shabbat Storytime with librarian Ruth Polk. We’ll also enjoy challah\, juice\, crafts\, and have some time to browse the shelves! \nRSVP here. \n\nBest for children ages 0-5 and their families.\n\nVisit the library any time! Check out the online catalogue.
URL:https://www.templesinaidc.org/event/tot-shabbat-storytime-4/2029-10-20/
LOCATION:Temple Sinai – 3100 Military Road NW\, Washington\, DC\, United States
CATEGORIES:Spotlight,Young Families
ATTACH;FMTTYPE=image/jpeg:https://www.templesinaidc.org/wp-content/uploads/2025/02/Library-Ruth-Polk-Storytime-scaled.jpg
GEO:38.96926;-77.070949
END:VEVENT
BEGIN:VEVENT
DTSTART;TZID=America/New_York:20291027T093000
DTEND;TZID=America/New_York:20291027T103000
DTSTAMP:20260424T212923
CREATED:20250714T194323Z
LAST-MODIFIED:20250714T194526Z
UID:10003548-1887787800-1887791400@www.templesinaidc.org
SUMMARY:Tot Shabbat Playdate
DESCRIPTION:Join us for a tot-friendly service led by our clergy followed by time on the playground. We’ll have challah\, juice\, bagels\, and coffee too! \nRSVP here. \n\nBest for children ages 0-5 and their families.
URL:https://www.templesinaidc.org/event/tot-shabbat-playdate-5-3/2029-10-27/
LOCATION:Temple Sinai – 3100 Military Road NW\, Washington\, DC\, United States
CATEGORIES:Worship,Young Families
ATTACH;FMTTYPE=image/jpeg:https://www.templesinaidc.org/wp-content/uploads/2025/02/Tot-Shabbat-Playdate-scaled.jpg
GEO:38.96926;-77.070949
END:VEVENT
BEGIN:VEVENT
DTSTART;TZID=America/New_York:20291117T093000
DTEND;TZID=America/New_York:20291117T103000
DTSTAMP:20260424T212923
CREATED:20250212T204115Z
LAST-MODIFIED:20250512T193811Z
UID:10002086-1889602200-1889605800@www.templesinaidc.org
SUMMARY:Tot Shabbat Storytime
DESCRIPTION:Head to the TSLibrary for a special Shabbat Storytime with librarian Ruth Polk. We’ll also enjoy challah\, juice\, crafts\, and have some time to browse the shelves! \nRSVP here. \n\nBest for children ages 0-5 and their families.\n\nVisit the library any time! Check out the online catalogue.
URL:https://www.templesinaidc.org/event/tot-shabbat-storytime-4/2029-11-17/
LOCATION:Temple Sinai – 3100 Military Road NW\, Washington\, DC\, United States
CATEGORIES:Spotlight,Young Families
ATTACH;FMTTYPE=image/jpeg:https://www.templesinaidc.org/wp-content/uploads/2025/02/Library-Ruth-Polk-Storytime-scaled.jpg
GEO:38.96926;-77.070949
END:VEVENT
BEGIN:VEVENT
DTSTART;TZID=America/New_York:20291124T093000
DTEND;TZID=America/New_York:20291124T103000
DTSTAMP:20260424T212923
CREATED:20250714T194323Z
LAST-MODIFIED:20250714T194526Z
UID:10003549-1890207000-1890210600@www.templesinaidc.org
SUMMARY:Tot Shabbat Playdate
DESCRIPTION:Join us for a tot-friendly service led by our clergy followed by time on the playground. We’ll have challah\, juice\, bagels\, and coffee too! \nRSVP here. \n\nBest for children ages 0-5 and their families.
URL:https://www.templesinaidc.org/event/tot-shabbat-playdate-5-3/2029-11-24/
LOCATION:Temple Sinai – 3100 Military Road NW\, Washington\, DC\, United States
CATEGORIES:Worship,Young Families
ATTACH;FMTTYPE=image/jpeg:https://www.templesinaidc.org/wp-content/uploads/2025/02/Tot-Shabbat-Playdate-scaled.jpg
GEO:38.96926;-77.070949
END:VEVENT
BEGIN:VEVENT
DTSTART;TZID=America/New_York:20291215T093000
DTEND;TZID=America/New_York:20291215T103000
DTSTAMP:20260424T212923
CREATED:20250212T204115Z
LAST-MODIFIED:20250512T193811Z
UID:10002087-1892021400-1892025000@www.templesinaidc.org
SUMMARY:Tot Shabbat Storytime
DESCRIPTION:Head to the TSLibrary for a special Shabbat Storytime with librarian Ruth Polk. We’ll also enjoy challah\, juice\, crafts\, and have some time to browse the shelves! \nRSVP here. \n\nBest for children ages 0-5 and their families.\n\nVisit the library any time! Check out the online catalogue.
URL:https://www.templesinaidc.org/event/tot-shabbat-storytime-4/2029-12-15/
LOCATION:Temple Sinai – 3100 Military Road NW\, Washington\, DC\, United States
CATEGORIES:Spotlight,Young Families
ATTACH;FMTTYPE=image/jpeg:https://www.templesinaidc.org/wp-content/uploads/2025/02/Library-Ruth-Polk-Storytime-scaled.jpg
GEO:38.96926;-77.070949
END:VEVENT
BEGIN:VEVENT
DTSTART;TZID=America/New_York:20291222T093000
DTEND;TZID=America/New_York:20291222T103000
DTSTAMP:20260424T212923
CREATED:20250714T194323Z
LAST-MODIFIED:20250714T194526Z
UID:10003550-1892626200-1892629800@www.templesinaidc.org
SUMMARY:Tot Shabbat Playdate
DESCRIPTION:Join us for a tot-friendly service led by our clergy followed by time on the playground. We’ll have challah\, juice\, bagels\, and coffee too! \nRSVP here. \n\nBest for children ages 0-5 and their families.
URL:https://www.templesinaidc.org/event/tot-shabbat-playdate-5-3/2029-12-22/
LOCATION:Temple Sinai – 3100 Military Road NW\, Washington\, DC\, United States
CATEGORIES:Worship,Young Families
ATTACH;FMTTYPE=image/jpeg:https://www.templesinaidc.org/wp-content/uploads/2025/02/Tot-Shabbat-Playdate-scaled.jpg
GEO:38.96926;-77.070949
END:VEVENT
BEGIN:VEVENT
DTSTART;TZID=America/New_York:20300119T093000
DTEND;TZID=America/New_York:20300119T103000
DTSTAMP:20260424T212923
CREATED:20250212T204115Z
LAST-MODIFIED:20250512T193811Z
UID:10002088-1895045400-1895049000@www.templesinaidc.org
SUMMARY:Tot Shabbat Storytime
DESCRIPTION:Head to the TSLibrary for a special Shabbat Storytime with librarian Ruth Polk. We’ll also enjoy challah\, juice\, crafts\, and have some time to browse the shelves! \nRSVP here. \n\nBest for children ages 0-5 and their families.\n\nVisit the library any time! Check out the online catalogue.
URL:https://www.templesinaidc.org/event/tot-shabbat-storytime-4/2030-01-19/
LOCATION:Temple Sinai – 3100 Military Road NW\, Washington\, DC\, United States
CATEGORIES:Spotlight,Young Families
ATTACH;FMTTYPE=image/jpeg:https://www.templesinaidc.org/wp-content/uploads/2025/02/Library-Ruth-Polk-Storytime-scaled.jpg
GEO:38.96926;-77.070949
END:VEVENT
BEGIN:VEVENT
DTSTART;TZID=America/New_York:20300126T093000
DTEND;TZID=America/New_York:20300126T103000
DTSTAMP:20260424T212923
CREATED:20250714T194323Z
LAST-MODIFIED:20250714T194526Z
UID:10003551-1895650200-1895653800@www.templesinaidc.org
SUMMARY:Tot Shabbat Playdate
DESCRIPTION:Join us for a tot-friendly service led by our clergy followed by time on the playground. We’ll have challah\, juice\, bagels\, and coffee too! \nRSVP here. \n\nBest for children ages 0-5 and their families.
URL:https://www.templesinaidc.org/event/tot-shabbat-playdate-5-3/2030-01-26/
LOCATION:Temple Sinai – 3100 Military Road NW\, Washington\, DC\, United States
CATEGORIES:Worship,Young Families
ATTACH;FMTTYPE=image/jpeg:https://www.templesinaidc.org/wp-content/uploads/2025/02/Tot-Shabbat-Playdate-scaled.jpg
GEO:38.96926;-77.070949
END:VEVENT
BEGIN:VEVENT
DTSTART;TZID=America/New_York:20300216T093000
DTEND;TZID=America/New_York:20300216T103000
DTSTAMP:20260424T212923
CREATED:20250212T204115Z
LAST-MODIFIED:20250512T193811Z
UID:10002688-1897464600-1897468200@www.templesinaidc.org
SUMMARY:Tot Shabbat Storytime
DESCRIPTION:Head to the TSLibrary for a special Shabbat Storytime with librarian Ruth Polk. We’ll also enjoy challah\, juice\, crafts\, and have some time to browse the shelves! \nRSVP here. \n\nBest for children ages 0-5 and their families.\n\nVisit the library any time! Check out the online catalogue.
URL:https://www.templesinaidc.org/event/tot-shabbat-storytime-4/2030-02-16/
LOCATION:Temple Sinai – 3100 Military Road NW\, Washington\, DC\, United States
CATEGORIES:Spotlight,Young Families
ATTACH;FMTTYPE=image/jpeg:https://www.templesinaidc.org/wp-content/uploads/2025/02/Library-Ruth-Polk-Storytime-scaled.jpg
GEO:38.96926;-77.070949
END:VEVENT
BEGIN:VEVENT
DTSTART;TZID=America/New_York:20300223T093000
DTEND;TZID=America/New_York:20300223T103000
DTSTAMP:20260424T212923
CREATED:20250714T194323Z
LAST-MODIFIED:20250714T194526Z
UID:10003552-1898069400-1898073000@www.templesinaidc.org
SUMMARY:Tot Shabbat Playdate
DESCRIPTION:Join us for a tot-friendly service led by our clergy followed by time on the playground. We’ll have challah\, juice\, bagels\, and coffee too! \nRSVP here. \n\nBest for children ages 0-5 and their families.
URL:https://www.templesinaidc.org/event/tot-shabbat-playdate-5-3/2030-02-23/
LOCATION:Temple Sinai – 3100 Military Road NW\, Washington\, DC\, United States
CATEGORIES:Worship,Young Families
ATTACH;FMTTYPE=image/jpeg:https://www.templesinaidc.org/wp-content/uploads/2025/02/Tot-Shabbat-Playdate-scaled.jpg
GEO:38.96926;-77.070949
END:VEVENT
BEGIN:VEVENT
DTSTART;TZID=America/New_York:20300316T093000
DTEND;TZID=America/New_York:20300316T103000
DTSTAMP:20260424T212923
CREATED:20250212T204115Z
LAST-MODIFIED:20250512T193811Z
UID:10002689-1899883800-1899887400@www.templesinaidc.org
SUMMARY:Tot Shabbat Storytime
DESCRIPTION:Head to the TSLibrary for a special Shabbat Storytime with librarian Ruth Polk. We’ll also enjoy challah\, juice\, crafts\, and have some time to browse the shelves! \nRSVP here. \n\nBest for children ages 0-5 and their families.\n\nVisit the library any time! Check out the online catalogue.
URL:https://www.templesinaidc.org/event/tot-shabbat-storytime-4/2030-03-16/
LOCATION:Temple Sinai – 3100 Military Road NW\, Washington\, DC\, United States
CATEGORIES:Spotlight,Young Families
ATTACH;FMTTYPE=image/jpeg:https://www.templesinaidc.org/wp-content/uploads/2025/02/Library-Ruth-Polk-Storytime-scaled.jpg
GEO:38.96926;-77.070949
END:VEVENT
BEGIN:VEVENT
DTSTART;TZID=America/New_York:20300323T093000
DTEND;TZID=America/New_York:20300323T103000
DTSTAMP:20260424T212923
CREATED:20250714T194323Z
LAST-MODIFIED:20250714T194526Z
UID:10003553-1900488600-1900492200@www.templesinaidc.org
SUMMARY:Tot Shabbat Playdate
DESCRIPTION:Join us for a tot-friendly service led by our clergy followed by time on the playground. We’ll have challah\, juice\, bagels\, and coffee too! \nRSVP here. \n\nBest for children ages 0-5 and their families.
URL:https://www.templesinaidc.org/event/tot-shabbat-playdate-5-3/2030-03-23/
LOCATION:Temple Sinai – 3100 Military Road NW\, Washington\, DC\, United States
CATEGORIES:Worship,Young Families
ATTACH;FMTTYPE=image/jpeg:https://www.templesinaidc.org/wp-content/uploads/2025/02/Tot-Shabbat-Playdate-scaled.jpg
GEO:38.96926;-77.070949
END:VEVENT
BEGIN:VEVENT
DTSTART;TZID=America/New_York:20300420T093000
DTEND;TZID=America/New_York:20300420T103000
DTSTAMP:20260424T212923
CREATED:20250212T204115Z
LAST-MODIFIED:20250512T193811Z
UID:10002775-1902907800-1902911400@www.templesinaidc.org
SUMMARY:Tot Shabbat Storytime
DESCRIPTION:Head to the TSLibrary for a special Shabbat Storytime with librarian Ruth Polk. We’ll also enjoy challah\, juice\, crafts\, and have some time to browse the shelves! \nRSVP here. \n\nBest for children ages 0-5 and their families.\n\nVisit the library any time! Check out the online catalogue.
URL:https://www.templesinaidc.org/event/tot-shabbat-storytime-4/2030-04-20/
LOCATION:Temple Sinai – 3100 Military Road NW\, Washington\, DC\, United States
CATEGORIES:Spotlight,Young Families
ATTACH;FMTTYPE=image/jpeg:https://www.templesinaidc.org/wp-content/uploads/2025/02/Library-Ruth-Polk-Storytime-scaled.jpg
GEO:38.96926;-77.070949
END:VEVENT
BEGIN:VEVENT
DTSTART;TZID=America/New_York:20300427T093000
DTEND;TZID=America/New_York:20300427T103000
DTSTAMP:20260424T212923
CREATED:20250714T194323Z
LAST-MODIFIED:20250714T194526Z
UID:10003554-1903512600-1903516200@www.templesinaidc.org
SUMMARY:Tot Shabbat Playdate
DESCRIPTION:Join us for a tot-friendly service led by our clergy followed by time on the playground. We’ll have challah\, juice\, bagels\, and coffee too! \nRSVP here. \n\nBest for children ages 0-5 and their families.
URL:https://www.templesinaidc.org/event/tot-shabbat-playdate-5-3/2030-04-27/
LOCATION:Temple Sinai – 3100 Military Road NW\, Washington\, DC\, United States
CATEGORIES:Worship,Young Families
ATTACH;FMTTYPE=image/jpeg:https://www.templesinaidc.org/wp-content/uploads/2025/02/Tot-Shabbat-Playdate-scaled.jpg
GEO:38.96926;-77.070949
END:VEVENT
BEGIN:VEVENT
DTSTART;TZID=America/New_York:20300518T093000
DTEND;TZID=America/New_York:20300518T103000
DTSTAMP:20260424T212923
CREATED:20250212T204115Z
LAST-MODIFIED:20250512T193811Z
UID:10003940-1905327000-1905330600@www.templesinaidc.org
SUMMARY:Tot Shabbat Storytime
DESCRIPTION:Head to the TSLibrary for a special Shabbat Storytime with librarian Ruth Polk. We’ll also enjoy challah\, juice\, crafts\, and have some time to browse the shelves! \nRSVP here. \n\nBest for children ages 0-5 and their families.\n\nVisit the library any time! Check out the online catalogue.
URL:https://www.templesinaidc.org/event/tot-shabbat-storytime-4/2030-05-18/
LOCATION:Temple Sinai – 3100 Military Road NW\, Washington\, DC\, United States
CATEGORIES:Spotlight,Young Families
ATTACH;FMTTYPE=image/jpeg:https://www.templesinaidc.org/wp-content/uploads/2025/02/Library-Ruth-Polk-Storytime-scaled.jpg
GEO:38.96926;-77.070949
END:VEVENT
BEGIN:VEVENT
DTSTART;TZID=America/New_York:20300525T093000
DTEND;TZID=America/New_York:20300525T103000
DTSTAMP:20260424T212923
CREATED:20250714T194323Z
LAST-MODIFIED:20250714T194526Z
UID:10003555-1905931800-1905935400@www.templesinaidc.org
SUMMARY:Tot Shabbat Playdate
DESCRIPTION:Join us for a tot-friendly service led by our clergy followed by time on the playground. We’ll have challah\, juice\, bagels\, and coffee too! \nRSVP here. \n\nBest for children ages 0-5 and their families.
URL:https://www.templesinaidc.org/event/tot-shabbat-playdate-5-3/2030-05-25/
LOCATION:Temple Sinai – 3100 Military Road NW\, Washington\, DC\, United States
CATEGORIES:Worship,Young Families
ATTACH;FMTTYPE=image/jpeg:https://www.templesinaidc.org/wp-content/uploads/2025/02/Tot-Shabbat-Playdate-scaled.jpg
GEO:38.96926;-77.070949
END:VEVENT
BEGIN:VEVENT
DTSTART;TZID=America/New_York:20300615T093000
DTEND;TZID=America/New_York:20300615T103000
DTSTAMP:20260424T212923
CREATED:20250212T204115Z
LAST-MODIFIED:20250512T193811Z
UID:10003941-1907746200-1907749800@www.templesinaidc.org
SUMMARY:Tot Shabbat Storytime
DESCRIPTION:Head to the TSLibrary for a special Shabbat Storytime with librarian Ruth Polk. We’ll also enjoy challah\, juice\, crafts\, and have some time to browse the shelves! \nRSVP here. \n\nBest for children ages 0-5 and their families.\n\nVisit the library any time! Check out the online catalogue.
URL:https://www.templesinaidc.org/event/tot-shabbat-storytime-4/2030-06-15/
LOCATION:Temple Sinai – 3100 Military Road NW\, Washington\, DC\, United States
CATEGORIES:Spotlight,Young Families
ATTACH;FMTTYPE=image/jpeg:https://www.templesinaidc.org/wp-content/uploads/2025/02/Library-Ruth-Polk-Storytime-scaled.jpg
GEO:38.96926;-77.070949
END:VEVENT
BEGIN:VEVENT
DTSTART;TZID=America/New_York:20300622T093000
DTEND;TZID=America/New_York:20300622T103000
DTSTAMP:20260424T212923
CREATED:20250714T194323Z
LAST-MODIFIED:20250714T194526Z
UID:10003556-1908351000-1908354600@www.templesinaidc.org
SUMMARY:Tot Shabbat Playdate
DESCRIPTION:Join us for a tot-friendly service led by our clergy followed by time on the playground. We’ll have challah\, juice\, bagels\, and coffee too! \nRSVP here. \n\nBest for children ages 0-5 and their families.
URL:https://www.templesinaidc.org/event/tot-shabbat-playdate-5-3/2030-06-22/
LOCATION:Temple Sinai – 3100 Military Road NW\, Washington\, DC\, United States
CATEGORIES:Worship,Young Families
ATTACH;FMTTYPE=image/jpeg:https://www.templesinaidc.org/wp-content/uploads/2025/02/Tot-Shabbat-Playdate-scaled.jpg
GEO:38.96926;-77.070949
END:VEVENT
BEGIN:VEVENT
DTSTART;TZID=America/New_York:20300720T093000
DTEND;TZID=America/New_York:20300720T103000
DTSTAMP:20260424T212923
CREATED:20250212T204115Z
LAST-MODIFIED:20250512T193811Z
UID:10003942-1910770200-1910773800@www.templesinaidc.org
SUMMARY:Tot Shabbat Storytime
DESCRIPTION:Head to the TSLibrary for a special Shabbat Storytime with librarian Ruth Polk. We’ll also enjoy challah\, juice\, crafts\, and have some time to browse the shelves! \nRSVP here. \n\nBest for children ages 0-5 and their families.\n\nVisit the library any time! Check out the online catalogue.
URL:https://www.templesinaidc.org/event/tot-shabbat-storytime-4/2030-07-20/
LOCATION:Temple Sinai – 3100 Military Road NW\, Washington\, DC\, United States
CATEGORIES:Spotlight,Young Families
ATTACH;FMTTYPE=image/jpeg:https://www.templesinaidc.org/wp-content/uploads/2025/02/Library-Ruth-Polk-Storytime-scaled.jpg
GEO:38.96926;-77.070949
END:VEVENT
BEGIN:VEVENT
DTSTART;TZID=America/New_York:20300727T093000
DTEND;TZID=America/New_York:20300727T103000
DTSTAMP:20260424T212923
CREATED:20250714T194323Z
LAST-MODIFIED:20250714T194526Z
UID:10003814-1911375000-1911378600@www.templesinaidc.org
SUMMARY:Tot Shabbat Playdate
DESCRIPTION:Join us for a tot-friendly service led by our clergy followed by time on the playground. We’ll have challah\, juice\, bagels\, and coffee too! \nRSVP here. \n\nBest for children ages 0-5 and their families.
URL:https://www.templesinaidc.org/event/tot-shabbat-playdate-5-3/2030-07-27/
LOCATION:Temple Sinai – 3100 Military Road NW\, Washington\, DC\, United States
CATEGORIES:Worship,Young Families
ATTACH;FMTTYPE=image/jpeg:https://www.templesinaidc.org/wp-content/uploads/2025/02/Tot-Shabbat-Playdate-scaled.jpg
GEO:38.96926;-77.070949
END:VEVENT
BEGIN:VEVENT
DTSTART;TZID=America/New_York:20300817T093000
DTEND;TZID=America/New_York:20300817T103000
DTSTAMP:20260424T212923
CREATED:20250212T204115Z
LAST-MODIFIED:20250512T193811Z
UID:10003943-1913189400-1913193000@www.templesinaidc.org
SUMMARY:Tot Shabbat Storytime
DESCRIPTION:Head to the TSLibrary for a special Shabbat Storytime with librarian Ruth Polk. We’ll also enjoy challah\, juice\, crafts\, and have some time to browse the shelves! \nRSVP here. \n\nBest for children ages 0-5 and their families.\n\nVisit the library any time! Check out the online catalogue.
URL:https://www.templesinaidc.org/event/tot-shabbat-storytime-4/2030-08-17/
LOCATION:Temple Sinai – 3100 Military Road NW\, Washington\, DC\, United States
CATEGORIES:Spotlight,Young Families
ATTACH;FMTTYPE=image/jpeg:https://www.templesinaidc.org/wp-content/uploads/2025/02/Library-Ruth-Polk-Storytime-scaled.jpg
GEO:38.96926;-77.070949
END:VEVENT
BEGIN:VEVENT
DTSTART;TZID=America/New_York:20300824T093000
DTEND;TZID=America/New_York:20300824T103000
DTSTAMP:20260424T212923
CREATED:20250714T194323Z
LAST-MODIFIED:20250714T194526Z
UID:10003815-1913794200-1913797800@www.templesinaidc.org
SUMMARY:Tot Shabbat Playdate
DESCRIPTION:Join us for a tot-friendly service led by our clergy followed by time on the playground. We’ll have challah\, juice\, bagels\, and coffee too! \nRSVP here. \n\nBest for children ages 0-5 and their families.
URL:https://www.templesinaidc.org/event/tot-shabbat-playdate-5-3/2030-08-24/
LOCATION:Temple Sinai – 3100 Military Road NW\, Washington\, DC\, United States
CATEGORIES:Worship,Young Families
ATTACH;FMTTYPE=image/jpeg:https://www.templesinaidc.org/wp-content/uploads/2025/02/Tot-Shabbat-Playdate-scaled.jpg
GEO:38.96926;-77.070949
END:VEVENT
END:VCALENDAR