BEGIN:VCALENDAR
VERSION:2.0
PRODID:-//Temple Sinai - ECPv6.15.20//NONSGML v1.0//EN
CALSCALE:GREGORIAN
METHOD:PUBLISH
X-WR-CALNAME:Temple Sinai
X-ORIGINAL-URL:https://www.templesinaidc.org
X-WR-CALDESC:Events for Temple Sinai
REFRESH-INTERVAL;VALUE=DURATION:PT1H
X-Robots-Tag:noindex
X-PUBLISHED-TTL:PT1H
BEGIN:VTIMEZONE
TZID:America/New_York
BEGIN:DAYLIGHT
TZOFFSETFROM:-0500
TZOFFSETTO:-0400
TZNAME:EDT
DTSTART:20250309T070000
END:DAYLIGHT
BEGIN:STANDARD
TZOFFSETFROM:-0400
TZOFFSETTO:-0500
TZNAME:EST
DTSTART:20251102T060000
END:STANDARD
BEGIN:DAYLIGHT
TZOFFSETFROM:-0500
TZOFFSETTO:-0400
TZNAME:EDT
DTSTART:20260308T070000
END:DAYLIGHT
BEGIN:STANDARD
TZOFFSETFROM:-0400
TZOFFSETTO:-0500
TZNAME:EST
DTSTART:20261101T060000
END:STANDARD
BEGIN:DAYLIGHT
TZOFFSETFROM:-0500
TZOFFSETTO:-0400
TZNAME:EDT
DTSTART:20270314T070000
END:DAYLIGHT
BEGIN:STANDARD
TZOFFSETFROM:-0400
TZOFFSETTO:-0500
TZNAME:EST
DTSTART:20271107T060000
END:STANDARD
END:VTIMEZONE
BEGIN:VEVENT
DTSTART;TZID=America/New_York:20260201T083000
DTEND;TZID=America/New_York:20260201T130000
DTSTAMP:20260420T045059
CREATED:20250820T142010Z
LAST-MODIFIED:20250820T142010Z
UID:10003660-1769934600-1769950800@www.templesinaidc.org
SUMMARY:Religious School
DESCRIPTION:Early Session: 8:30am – 10:30am \nLate Session: 11:00am – 1:00pm \n\nReport an Absence\nEarly Dismissal Form
URL:https://www.templesinaidc.org/event/religious-school-8/2026-02-01/
LOCATION:Temple Sinai – 3100 Military Road NW\, Washington\, DC\, United States
CATEGORIES:Religious School
GEO:38.96926;-77.070949
END:VEVENT
BEGIN:VEVENT
DTSTART;TZID=America/New_York:20260201T110000
DTEND;TZID=America/New_York:20260201T130000
DTSTAMP:20260420T045059
CREATED:20251202T190953Z
LAST-MODIFIED:20251202T190954Z
UID:10003961-1769943600-1769950800@www.templesinaidc.org
SUMMARY:Confirmation
DESCRIPTION:Report an Absence\nEarly Dismissal Form
URL:https://www.templesinaidc.org/event/confirmation-2/2026-02-01/
LOCATION:Temple Sinai – 3100 Military Road NW\, Washington\, DC\, United States
CATEGORIES:Religious School
GEO:38.96926;-77.070949
END:VEVENT
BEGIN:VEVENT
DTSTART;TZID=America/New_York:20260202T160000
DTEND;TZID=America/New_York:20260202T200000
DTSTAMP:20260420T045059
CREATED:20250820T143122Z
LAST-MODIFIED:20260218T210642Z
UID:10003683-1770048000-1770062400@www.templesinaidc.org
SUMMARY:1:1 Hebrew Tutoring
DESCRIPTION:1:1 online Hebrew tutoring for 20 minute sessions for 4th-6th grade TSRS students.
URL:https://www.templesinaidc.org/event/11-hebrew-tutoring/2026-02-02/
LOCATION:Temple Sinai – 3100 Military Road NW\, Washington\, DC\, United States
CATEGORIES:Religious School
GEO:38.96926;-77.070949
END:VEVENT
BEGIN:VEVENT
DTSTART;TZID=America/New_York:20260203T160000
DTEND;TZID=America/New_York:20260203T200000
DTSTAMP:20260420T045059
CREATED:20250820T143122Z
LAST-MODIFIED:20260218T210642Z
UID:10003747-1770134400-1770148800@www.templesinaidc.org
SUMMARY:1:1 Hebrew Tutoring
DESCRIPTION:1:1 online Hebrew tutoring for 20 minute sessions for 4th-6th grade TSRS students.
URL:https://www.templesinaidc.org/event/11-hebrew-tutoring/2026-02-03/
LOCATION:Temple Sinai – 3100 Military Road NW\, Washington\, DC\, United States
CATEGORIES:Religious School
GEO:38.96926;-77.070949
END:VEVENT
BEGIN:VEVENT
DTSTART;TZID=America/New_York:20260203T180000
DTEND;TZID=America/New_York:20260203T203000
DTSTAMP:20260420T045059
CREATED:20250820T164310Z
LAST-MODIFIED:20250820T164310Z
UID:10003787-1770141600-1770150600@www.templesinaidc.org
SUMMARY:Noar & Temple Teens
DESCRIPTION:Optional Pizza Dinner: 6:00-6:30 pm \nClasses: 6:30-8:30 pm \n\n\n\nReport an Absence\n\n\n\n 
URL:https://www.templesinaidc.org/event/noar-temple-teens/2026-02-03/
LOCATION:Temple Sinai – 3100 Military Road NW\, Washington\, DC\, United States
CATEGORIES:Religious School,Temple Teens
GEO:38.96926;-77.070949
END:VEVENT
BEGIN:VEVENT
DTSTART;TZID=America/New_York:20260205T160000
DTEND;TZID=America/New_York:20260205T200000
DTSTAMP:20260420T045059
CREATED:20250820T143122Z
LAST-MODIFIED:20260218T210642Z
UID:10003748-1770307200-1770321600@www.templesinaidc.org
SUMMARY:1:1 Hebrew Tutoring
DESCRIPTION:1:1 online Hebrew tutoring for 20 minute sessions for 4th-6th grade TSRS students.
URL:https://www.templesinaidc.org/event/11-hebrew-tutoring/2026-02-05/
LOCATION:Temple Sinai – 3100 Military Road NW\, Washington\, DC\, United States
CATEGORIES:Religious School
GEO:38.96926;-77.070949
END:VEVENT
BEGIN:VEVENT
DTSTART;TZID=America/New_York:20260206T163000
DTEND;TZID=America/New_York:20260206T181500
DTSTAMP:20260420T045059
CREATED:20250820T141044Z
LAST-MODIFIED:20260227T162247Z
UID:10003643-1770395400-1770401700@www.templesinaidc.org
SUMMARY:First Friday Oneg Shabbat (Temple Teens)
DESCRIPTION:End the week by coming and having a casual hang with your Temple Sinai friends – old and new.  We’ll gather in the Youth Lounge for snacks\, games\, chats\, and Shabbat vibes.  RSVP is required – cost is free!  Stay for services after if you’d like!  Questions?  Email Tess!  tweiss@templesinaidc.org
URL:https://www.templesinaidc.org/event/first-friday-oneg-shabbat-temple-teens/2026-02-06/
LOCATION:Temple Sinai – 3100 Military Road NW\, Washington\, DC\, United States
CATEGORIES:Religious School,Temple Teens
GEO:38.96926;-77.070949
END:VEVENT
BEGIN:VEVENT
DTSTART;TZID=America/New_York:20260208T083000
DTEND;TZID=America/New_York:20260208T130000
DTSTAMP:20260420T045059
CREATED:20250820T142010Z
LAST-MODIFIED:20250820T142010Z
UID:10003661-1770539400-1770555600@www.templesinaidc.org
SUMMARY:Religious School
DESCRIPTION:Early Session: 8:30am – 10:30am \nLate Session: 11:00am – 1:00pm \n\nReport an Absence\nEarly Dismissal Form
URL:https://www.templesinaidc.org/event/religious-school-8/2026-02-08/
LOCATION:Temple Sinai – 3100 Military Road NW\, Washington\, DC\, United States
CATEGORIES:Religious School
GEO:38.96926;-77.070949
END:VEVENT
BEGIN:VEVENT
DTSTART;TZID=America/New_York:20260208T110000
DTEND;TZID=America/New_York:20260208T130000
DTSTAMP:20260420T045059
CREATED:20251202T190953Z
LAST-MODIFIED:20251202T190954Z
UID:10003962-1770548400-1770555600@www.templesinaidc.org
SUMMARY:Confirmation
DESCRIPTION:Report an Absence\nEarly Dismissal Form
URL:https://www.templesinaidc.org/event/confirmation-2/2026-02-08/
LOCATION:Temple Sinai – 3100 Military Road NW\, Washington\, DC\, United States
CATEGORIES:Religious School
GEO:38.96926;-77.070949
END:VEVENT
BEGIN:VEVENT
DTSTART;TZID=America/New_York:20260209T160000
DTEND;TZID=America/New_York:20260209T200000
DTSTAMP:20260420T045059
CREATED:20250820T143122Z
LAST-MODIFIED:20260218T210642Z
UID:10003684-1770652800-1770667200@www.templesinaidc.org
SUMMARY:1:1 Hebrew Tutoring
DESCRIPTION:1:1 online Hebrew tutoring for 20 minute sessions for 4th-6th grade TSRS students.
URL:https://www.templesinaidc.org/event/11-hebrew-tutoring/2026-02-09/
LOCATION:Temple Sinai – 3100 Military Road NW\, Washington\, DC\, United States
CATEGORIES:Religious School
GEO:38.96926;-77.070949
END:VEVENT
BEGIN:VEVENT
DTSTART;TZID=America/New_York:20260210T160000
DTEND;TZID=America/New_York:20260210T200000
DTSTAMP:20260420T045059
CREATED:20250820T143122Z
LAST-MODIFIED:20260218T210642Z
UID:10003749-1770739200-1770753600@www.templesinaidc.org
SUMMARY:1:1 Hebrew Tutoring
DESCRIPTION:1:1 online Hebrew tutoring for 20 minute sessions for 4th-6th grade TSRS students.
URL:https://www.templesinaidc.org/event/11-hebrew-tutoring/2026-02-10/
LOCATION:Temple Sinai – 3100 Military Road NW\, Washington\, DC\, United States
CATEGORIES:Religious School
GEO:38.96926;-77.070949
END:VEVENT
BEGIN:VEVENT
DTSTART;TZID=America/New_York:20260210T180000
DTEND;TZID=America/New_York:20260210T203000
DTSTAMP:20260420T045059
CREATED:20250820T164310Z
LAST-MODIFIED:20250820T164310Z
UID:10003788-1770746400-1770755400@www.templesinaidc.org
SUMMARY:Noar & Temple Teens
DESCRIPTION:Optional Pizza Dinner: 6:00-6:30 pm \nClasses: 6:30-8:30 pm \n\n\n\nReport an Absence\n\n\n\n 
URL:https://www.templesinaidc.org/event/noar-temple-teens/2026-02-10/
LOCATION:Temple Sinai – 3100 Military Road NW\, Washington\, DC\, United States
CATEGORIES:Religious School,Temple Teens
GEO:38.96926;-77.070949
END:VEVENT
BEGIN:VEVENT
DTSTART;TZID=America/New_York:20260212T160000
DTEND;TZID=America/New_York:20260212T200000
DTSTAMP:20260420T045059
CREATED:20250820T143122Z
LAST-MODIFIED:20260218T210642Z
UID:10003750-1770912000-1770926400@www.templesinaidc.org
SUMMARY:1:1 Hebrew Tutoring
DESCRIPTION:1:1 online Hebrew tutoring for 20 minute sessions for 4th-6th grade TSRS students.
URL:https://www.templesinaidc.org/event/11-hebrew-tutoring/2026-02-12/
LOCATION:Temple Sinai – 3100 Military Road NW\, Washington\, DC\, United States
CATEGORIES:Religious School
GEO:38.96926;-77.070949
END:VEVENT
BEGIN:VEVENT
DTSTART;TZID=America/New_York:20260215T153000
DTEND;TZID=America/New_York:20260215T180000
DTSTAMP:20260420T045059
CREATED:20260121T143928Z
LAST-MODIFIED:20260121T144004Z
UID:10004184-1771169400-1771178400@www.templesinaidc.org
SUMMARY:Sinaites Ice Skating
DESCRIPTION:Join us at the Cabin John Ice Rink for ice skating and winter fun! \nParticipants are required to pay upon arrival – $9 for skating and $4 for rentals. \nRSVP
URL:https://www.templesinaidc.org/event/sinaites-ice-skating/
LOCATION:Cabin John Ice Rink\, 10610 Westlake Drive\, Rockville\, MD\, United States
CATEGORIES:Religious School,Spotlight,Temple Teens
ATTACH;FMTTYPE=image/png:https://www.templesinaidc.org/wp-content/uploads/2026/01/Sinaites-Ice-Skating-Crop.png
END:VEVENT
BEGIN:VEVENT
DTSTART;TZID=America/New_York:20260219T160000
DTEND;TZID=America/New_York:20260219T200000
DTSTAMP:20260420T045059
CREATED:20250820T143122Z
LAST-MODIFIED:20260218T210642Z
UID:10003751-1771516800-1771531200@www.templesinaidc.org
SUMMARY:1:1 Hebrew Tutoring
DESCRIPTION:1:1 online Hebrew tutoring for 20 minute sessions for 4th-6th grade TSRS students.
URL:https://www.templesinaidc.org/event/11-hebrew-tutoring/2026-02-19/
LOCATION:Temple Sinai – 3100 Military Road NW\, Washington\, DC\, United States
CATEGORIES:Religious School
GEO:38.96926;-77.070949
END:VEVENT
BEGIN:VEVENT
DTSTART;TZID=America/New_York:20260222T083000
DTEND;TZID=America/New_York:20260222T130000
DTSTAMP:20260420T045059
CREATED:20250820T142010Z
LAST-MODIFIED:20250820T142010Z
UID:10003662-1771749000-1771765200@www.templesinaidc.org
SUMMARY:Religious School
DESCRIPTION:Early Session: 8:30am – 10:30am \nLate Session: 11:00am – 1:00pm \n\nReport an Absence\nEarly Dismissal Form
URL:https://www.templesinaidc.org/event/religious-school-8/2026-02-22/
LOCATION:Temple Sinai – 3100 Military Road NW\, Washington\, DC\, United States
CATEGORIES:Religious School
GEO:38.96926;-77.070949
END:VEVENT
BEGIN:VEVENT
DTSTART;TZID=America/New_York:20260222T083000
DTEND;TZID=America/New_York:20260222T130000
DTSTAMP:20260420T045059
CREATED:20251212T152403Z
LAST-MODIFIED:20251212T152403Z
UID:10004092-1771749000-1771765200@www.templesinaidc.org
SUMMARY:B'yachad Family Programming
DESCRIPTION:Kindergarten is an extra special year at Temple Sinai – so special\, in fact\, that we engage with Kindergarten B’yachad – together!  Our Kindergarten program is a monthly program for Kindergarten students and their families\, and gives our youngest TSRS learners a chance to get to know Temple Sinai\, Temple Sinai Religious School\, and begin building the relationships and learning that will last a lifetime. \nEarly Session: 8:30am – 10:30am \nLate Session: 11:00am – 1:00pm
URL:https://www.templesinaidc.org/event/byachad-family-programming/2026-02-22/
LOCATION:DC
CATEGORIES:Religious School
END:VEVENT
BEGIN:VEVENT
DTSTART;TZID=America/New_York:20260222T110000
DTEND;TZID=America/New_York:20260222T130000
DTSTAMP:20260420T045059
CREATED:20251202T190953Z
LAST-MODIFIED:20251202T190954Z
UID:10003964-1771758000-1771765200@www.templesinaidc.org
SUMMARY:Confirmation
DESCRIPTION:Report an Absence\nEarly Dismissal Form
URL:https://www.templesinaidc.org/event/confirmation-2/2026-02-22/
LOCATION:Temple Sinai – 3100 Military Road NW\, Washington\, DC\, United States
CATEGORIES:Religious School
GEO:38.96926;-77.070949
END:VEVENT
BEGIN:VEVENT
DTSTART;TZID=America/New_York:20260223T160000
DTEND;TZID=America/New_York:20260223T200000
DTSTAMP:20260420T045059
CREATED:20250820T143122Z
LAST-MODIFIED:20260218T210642Z
UID:10003685-1771862400-1771876800@www.templesinaidc.org
SUMMARY:1:1 Hebrew Tutoring
DESCRIPTION:1:1 online Hebrew tutoring for 20 minute sessions for 4th-6th grade TSRS students.
URL:https://www.templesinaidc.org/event/11-hebrew-tutoring/2026-02-23/
LOCATION:Temple Sinai – 3100 Military Road NW\, Washington\, DC\, United States
CATEGORIES:Religious School
GEO:38.96926;-77.070949
END:VEVENT
BEGIN:VEVENT
DTSTART;TZID=America/New_York:20260224T160000
DTEND;TZID=America/New_York:20260224T200000
DTSTAMP:20260420T045059
CREATED:20250820T143122Z
LAST-MODIFIED:20260218T210642Z
UID:10003752-1771948800-1771963200@www.templesinaidc.org
SUMMARY:1:1 Hebrew Tutoring
DESCRIPTION:1:1 online Hebrew tutoring for 20 minute sessions for 4th-6th grade TSRS students.
URL:https://www.templesinaidc.org/event/11-hebrew-tutoring/2026-02-24/
LOCATION:Temple Sinai – 3100 Military Road NW\, Washington\, DC\, United States
CATEGORIES:Religious School
GEO:38.96926;-77.070949
END:VEVENT
BEGIN:VEVENT
DTSTART;TZID=America/New_York:20260224T180000
DTEND;TZID=America/New_York:20260224T203000
DTSTAMP:20260420T045059
CREATED:20250820T164310Z
LAST-MODIFIED:20250820T164310Z
UID:10003789-1771956000-1771965000@www.templesinaidc.org
SUMMARY:Noar & Temple Teens
DESCRIPTION:Optional Pizza Dinner: 6:00-6:30 pm \nClasses: 6:30-8:30 pm \n\n\n\nReport an Absence\n\n\n\n 
URL:https://www.templesinaidc.org/event/noar-temple-teens/2026-02-24/
LOCATION:Temple Sinai – 3100 Military Road NW\, Washington\, DC\, United States
CATEGORIES:Religious School,Temple Teens
GEO:38.96926;-77.070949
END:VEVENT
BEGIN:VEVENT
DTSTART;TZID=America/New_York:20260226T160000
DTEND;TZID=America/New_York:20260226T200000
DTSTAMP:20260420T045059
CREATED:20250820T143122Z
LAST-MODIFIED:20260218T210642Z
UID:10003753-1772121600-1772136000@www.templesinaidc.org
SUMMARY:1:1 Hebrew Tutoring
DESCRIPTION:1:1 online Hebrew tutoring for 20 minute sessions for 4th-6th grade TSRS students.
URL:https://www.templesinaidc.org/event/11-hebrew-tutoring/2026-02-26/
LOCATION:Temple Sinai – 3100 Military Road NW\, Washington\, DC\, United States
CATEGORIES:Religious School
GEO:38.96926;-77.070949
END:VEVENT
END:VCALENDAR