BEGIN:VCALENDAR
VERSION:2.0
PRODID:-//Temple Sinai - ECPv6.15.20//NONSGML v1.0//EN
CALSCALE:GREGORIAN
METHOD:PUBLISH
X-WR-CALNAME:Temple Sinai
X-ORIGINAL-URL:https://www.templesinaidc.org
X-WR-CALDESC:Events for Temple Sinai
REFRESH-INTERVAL;VALUE=DURATION:PT1H
X-Robots-Tag:noindex
X-PUBLISHED-TTL:PT1H
BEGIN:VTIMEZONE
TZID:America/New_York
BEGIN:DAYLIGHT
TZOFFSETFROM:-0500
TZOFFSETTO:-0400
TZNAME:EDT
DTSTART:20250309T070000
END:DAYLIGHT
BEGIN:STANDARD
TZOFFSETFROM:-0400
TZOFFSETTO:-0500
TZNAME:EST
DTSTART:20251102T060000
END:STANDARD
BEGIN:DAYLIGHT
TZOFFSETFROM:-0500
TZOFFSETTO:-0400
TZNAME:EDT
DTSTART:20260308T070000
END:DAYLIGHT
BEGIN:STANDARD
TZOFFSETFROM:-0400
TZOFFSETTO:-0500
TZNAME:EST
DTSTART:20261101T060000
END:STANDARD
BEGIN:DAYLIGHT
TZOFFSETFROM:-0500
TZOFFSETTO:-0400
TZNAME:EDT
DTSTART:20270314T070000
END:DAYLIGHT
BEGIN:STANDARD
TZOFFSETFROM:-0400
TZOFFSETTO:-0500
TZNAME:EST
DTSTART:20271107T060000
END:STANDARD
END:VTIMEZONE
BEGIN:VEVENT
DTSTART;TZID=America/New_York:20260301T083000
DTEND;TZID=America/New_York:20260301T130000
DTSTAMP:20260420T031735
CREATED:20260212T165707Z
LAST-MODIFIED:20260212T165709Z
UID:10003663-1772353800-1772370000@www.templesinaidc.org
SUMMARY:Religious School Purim Celebration
DESCRIPTION:Students enrolled in our Kindergarten – 5th grade programs are invited to celebrate Purim with us at Chuck E Cheese! \nRegister \nClasses will not meet at Temple Sinai
URL:https://www.templesinaidc.org/event/religious-school-8-2/
LOCATION:Temple Sinai – 3100 Military Road NW\, Washington\, DC\, United States
CATEGORIES:Purim,Religious School
ATTACH;FMTTYPE=image/png:https://www.templesinaidc.org/wp-content/uploads/2025/08/2026-TSRS-Purim.png
GEO:38.96926;-77.070949
END:VEVENT
BEGIN:VEVENT
DTSTART;TZID=America/New_York:20260301T110000
DTEND;TZID=America/New_York:20260301T130000
DTSTAMP:20260420T031735
CREATED:20251202T190953Z
LAST-MODIFIED:20251202T190954Z
UID:10003965-1772362800-1772370000@www.templesinaidc.org
SUMMARY:Confirmation
DESCRIPTION:Report an Absence\nEarly Dismissal Form
URL:https://www.templesinaidc.org/event/confirmation-2/2026-03-01/
LOCATION:Temple Sinai – 3100 Military Road NW\, Washington\, DC\, United States
CATEGORIES:Religious School
GEO:38.96926;-77.070949
END:VEVENT
BEGIN:VEVENT
DTSTART;TZID=America/New_York:20260302T160000
DTEND;TZID=America/New_York:20260302T200000
DTSTAMP:20260420T031735
CREATED:20250820T143122Z
LAST-MODIFIED:20260218T210642Z
UID:10003686-1772467200-1772481600@www.templesinaidc.org
SUMMARY:1:1 Hebrew Tutoring
DESCRIPTION:1:1 online Hebrew tutoring for 20 minute sessions for 4th-6th grade TSRS students.
URL:https://www.templesinaidc.org/event/11-hebrew-tutoring/2026-03-02/
LOCATION:Temple Sinai – 3100 Military Road NW\, Washington\, DC\, United States
CATEGORIES:Religious School
GEO:38.96926;-77.070949
END:VEVENT
BEGIN:VEVENT
DTSTART;TZID=America/New_York:20260303T160000
DTEND;TZID=America/New_York:20260303T200000
DTSTAMP:20260420T031735
CREATED:20250820T143122Z
LAST-MODIFIED:20260218T210642Z
UID:10003754-1772553600-1772568000@www.templesinaidc.org
SUMMARY:1:1 Hebrew Tutoring
DESCRIPTION:1:1 online Hebrew tutoring for 20 minute sessions for 4th-6th grade TSRS students.
URL:https://www.templesinaidc.org/event/11-hebrew-tutoring/2026-03-03/
LOCATION:Temple Sinai – 3100 Military Road NW\, Washington\, DC\, United States
CATEGORIES:Religious School
GEO:38.96926;-77.070949
END:VEVENT
BEGIN:VEVENT
DTSTART;TZID=America/New_York:20260303T170000
DTEND;TZID=America/New_York:20260303T183000
DTSTAMP:20260420T031735
CREATED:20260212T173101Z
LAST-MODIFIED:20260212T180453Z
UID:10004281-1772557200-1772562600@www.templesinaidc.org
SUMMARY:Temple Teens Purim Party
DESCRIPTION:Join with your friends in grades 6-12 and enjoy hanging out\, eating good food\, and engaging in the 4 mitzvot of Purim!  5:00-6:30pm\, pizza & hamentashen included.  1.5 SSL hours available \nRSVP
URL:https://www.templesinaidc.org/event/temple-teens-purim-party/
LOCATION:DC
CATEGORIES:Purim,Religious School,Temple Teens
ATTACH;FMTTYPE=image/png:https://www.templesinaidc.org/wp-content/uploads/2026/02/2026-Temple-Teens-Purim.png
END:VEVENT
BEGIN:VEVENT
DTSTART;TZID=America/New_York:20260303T180000
DTEND;TZID=America/New_York:20260303T203000
DTSTAMP:20260420T031735
CREATED:20250820T164310Z
LAST-MODIFIED:20250820T164310Z
UID:10003790-1772560800-1772569800@www.templesinaidc.org
SUMMARY:Noar & Temple Teens
DESCRIPTION:Optional Pizza Dinner: 6:00-6:30 pm \nClasses: 6:30-8:30 pm \n\n\n\nReport an Absence\n\n\n\n 
URL:https://www.templesinaidc.org/event/noar-temple-teens/2026-03-03/
LOCATION:Temple Sinai – 3100 Military Road NW\, Washington\, DC\, United States
CATEGORIES:Religious School,Temple Teens
GEO:38.96926;-77.070949
END:VEVENT
BEGIN:VEVENT
DTSTART;TZID=America/New_York:20260305T160000
DTEND;TZID=America/New_York:20260305T200000
DTSTAMP:20260420T031735
CREATED:20250820T143122Z
LAST-MODIFIED:20260218T210642Z
UID:10003755-1772726400-1772740800@www.templesinaidc.org
SUMMARY:1:1 Hebrew Tutoring
DESCRIPTION:1:1 online Hebrew tutoring for 20 minute sessions for 4th-6th grade TSRS students.
URL:https://www.templesinaidc.org/event/11-hebrew-tutoring/2026-03-05/
LOCATION:Temple Sinai – 3100 Military Road NW\, Washington\, DC\, United States
CATEGORIES:Religious School
GEO:38.96926;-77.070949
END:VEVENT
BEGIN:VEVENT
DTSTART;TZID=America/New_York:20260308T083000
DTEND;TZID=America/New_York:20260308T130000
DTSTAMP:20260420T031735
CREATED:20250820T142010Z
LAST-MODIFIED:20250820T142010Z
UID:10003664-1772958600-1772974800@www.templesinaidc.org
SUMMARY:Religious School
DESCRIPTION:Early Session: 8:30am – 10:30am \nLate Session: 11:00am – 1:00pm \n\nReport an Absence\nEarly Dismissal Form
URL:https://www.templesinaidc.org/event/religious-school-8/2026-03-08/
LOCATION:Temple Sinai – 3100 Military Road NW\, Washington\, DC\, United States
CATEGORIES:Religious School
GEO:38.96926;-77.070949
END:VEVENT
BEGIN:VEVENT
DTSTART;TZID=America/New_York:20260308T110000
DTEND;TZID=America/New_York:20260308T130000
DTSTAMP:20260420T031735
CREATED:20251202T190953Z
LAST-MODIFIED:20251202T190954Z
UID:10003966-1772967600-1772974800@www.templesinaidc.org
SUMMARY:Confirmation
DESCRIPTION:Report an Absence\nEarly Dismissal Form
URL:https://www.templesinaidc.org/event/confirmation-2/2026-03-08/
LOCATION:Temple Sinai – 3100 Military Road NW\, Washington\, DC\, United States
CATEGORIES:Religious School
GEO:38.96926;-77.070949
END:VEVENT
BEGIN:VEVENT
DTSTART;TZID=America/New_York:20260309T160000
DTEND;TZID=America/New_York:20260309T200000
DTSTAMP:20260420T031735
CREATED:20250820T143122Z
LAST-MODIFIED:20260218T210642Z
UID:10003687-1773072000-1773086400@www.templesinaidc.org
SUMMARY:1:1 Hebrew Tutoring
DESCRIPTION:1:1 online Hebrew tutoring for 20 minute sessions for 4th-6th grade TSRS students.
URL:https://www.templesinaidc.org/event/11-hebrew-tutoring/2026-03-09/
LOCATION:Temple Sinai – 3100 Military Road NW\, Washington\, DC\, United States
CATEGORIES:Religious School
GEO:38.96926;-77.070949
END:VEVENT
BEGIN:VEVENT
DTSTART;TZID=America/New_York:20260310T160000
DTEND;TZID=America/New_York:20260310T200000
DTSTAMP:20260420T031735
CREATED:20250820T143122Z
LAST-MODIFIED:20260218T210642Z
UID:10003756-1773158400-1773172800@www.templesinaidc.org
SUMMARY:1:1 Hebrew Tutoring
DESCRIPTION:1:1 online Hebrew tutoring for 20 minute sessions for 4th-6th grade TSRS students.
URL:https://www.templesinaidc.org/event/11-hebrew-tutoring/2026-03-10/
LOCATION:Temple Sinai – 3100 Military Road NW\, Washington\, DC\, United States
CATEGORIES:Religious School
GEO:38.96926;-77.070949
END:VEVENT
BEGIN:VEVENT
DTSTART;TZID=America/New_York:20260310T180000
DTEND;TZID=America/New_York:20260310T203000
DTSTAMP:20260420T031735
CREATED:20250820T164310Z
LAST-MODIFIED:20250820T164310Z
UID:10003791-1773165600-1773174600@www.templesinaidc.org
SUMMARY:Noar & Temple Teens
DESCRIPTION:Optional Pizza Dinner: 6:00-6:30 pm \nClasses: 6:30-8:30 pm \n\n\n\nReport an Absence\n\n\n\n 
URL:https://www.templesinaidc.org/event/noar-temple-teens/2026-03-10/
LOCATION:Temple Sinai – 3100 Military Road NW\, Washington\, DC\, United States
CATEGORIES:Religious School,Temple Teens
GEO:38.96926;-77.070949
END:VEVENT
BEGIN:VEVENT
DTSTART;TZID=America/New_York:20260312T160000
DTEND;TZID=America/New_York:20260312T200000
DTSTAMP:20260420T031735
CREATED:20250820T143122Z
LAST-MODIFIED:20260218T210642Z
UID:10003757-1773331200-1773345600@www.templesinaidc.org
SUMMARY:1:1 Hebrew Tutoring
DESCRIPTION:1:1 online Hebrew tutoring for 20 minute sessions for 4th-6th grade TSRS students.
URL:https://www.templesinaidc.org/event/11-hebrew-tutoring/2026-03-12/
LOCATION:Temple Sinai – 3100 Military Road NW\, Washington\, DC\, United States
CATEGORIES:Religious School
GEO:38.96926;-77.070949
END:VEVENT
BEGIN:VEVENT
DTSTART;TZID=America/New_York:20260315T083000
DTEND;TZID=America/New_York:20260315T130000
DTSTAMP:20260420T031735
CREATED:20250820T142010Z
LAST-MODIFIED:20250820T142010Z
UID:10003665-1773563400-1773579600@www.templesinaidc.org
SUMMARY:Religious School
DESCRIPTION:Early Session: 8:30am – 10:30am \nLate Session: 11:00am – 1:00pm \n\nReport an Absence\nEarly Dismissal Form
URL:https://www.templesinaidc.org/event/religious-school-8/2026-03-15/
LOCATION:Temple Sinai – 3100 Military Road NW\, Washington\, DC\, United States
CATEGORIES:Religious School
GEO:38.96926;-77.070949
END:VEVENT
BEGIN:VEVENT
DTSTART;TZID=America/New_York:20260315T110000
DTEND;TZID=America/New_York:20260315T130000
DTSTAMP:20260420T031735
CREATED:20251202T190953Z
LAST-MODIFIED:20251202T190954Z
UID:10003967-1773572400-1773579600@www.templesinaidc.org
SUMMARY:Confirmation
DESCRIPTION:Report an Absence\nEarly Dismissal Form
URL:https://www.templesinaidc.org/event/confirmation-2/2026-03-15/
LOCATION:Temple Sinai – 3100 Military Road NW\, Washington\, DC\, United States
CATEGORIES:Religious School
GEO:38.96926;-77.070949
END:VEVENT
BEGIN:VEVENT
DTSTART;TZID=America/New_York:20260316T160000
DTEND;TZID=America/New_York:20260316T200000
DTSTAMP:20260420T031735
CREATED:20250820T143122Z
LAST-MODIFIED:20260218T210642Z
UID:10003688-1773676800-1773691200@www.templesinaidc.org
SUMMARY:1:1 Hebrew Tutoring
DESCRIPTION:1:1 online Hebrew tutoring for 20 minute sessions for 4th-6th grade TSRS students.
URL:https://www.templesinaidc.org/event/11-hebrew-tutoring/2026-03-16/
LOCATION:Temple Sinai – 3100 Military Road NW\, Washington\, DC\, United States
CATEGORIES:Religious School
GEO:38.96926;-77.070949
END:VEVENT
BEGIN:VEVENT
DTSTART;TZID=America/New_York:20260317T160000
DTEND;TZID=America/New_York:20260317T200000
DTSTAMP:20260420T031735
CREATED:20250820T143122Z
LAST-MODIFIED:20260218T210642Z
UID:10003758-1773763200-1773777600@www.templesinaidc.org
SUMMARY:1:1 Hebrew Tutoring
DESCRIPTION:1:1 online Hebrew tutoring for 20 minute sessions for 4th-6th grade TSRS students.
URL:https://www.templesinaidc.org/event/11-hebrew-tutoring/2026-03-17/
LOCATION:Temple Sinai – 3100 Military Road NW\, Washington\, DC\, United States
CATEGORIES:Religious School
GEO:38.96926;-77.070949
END:VEVENT
BEGIN:VEVENT
DTSTART;TZID=America/New_York:20260317T180000
DTEND;TZID=America/New_York:20260317T203000
DTSTAMP:20260420T031735
CREATED:20250820T164310Z
LAST-MODIFIED:20250820T164310Z
UID:10003792-1773770400-1773779400@www.templesinaidc.org
SUMMARY:Noar & Temple Teens
DESCRIPTION:Optional Pizza Dinner: 6:00-6:30 pm \nClasses: 6:30-8:30 pm \n\n\n\nReport an Absence\n\n\n\n 
URL:https://www.templesinaidc.org/event/noar-temple-teens/2026-03-17/
LOCATION:Temple Sinai – 3100 Military Road NW\, Washington\, DC\, United States
CATEGORIES:Religious School,Temple Teens
GEO:38.96926;-77.070949
END:VEVENT
BEGIN:VEVENT
DTSTART;TZID=America/New_York:20260319T160000
DTEND;TZID=America/New_York:20260319T200000
DTSTAMP:20260420T031735
CREATED:20250820T143122Z
LAST-MODIFIED:20260218T210642Z
UID:10003759-1773936000-1773950400@www.templesinaidc.org
SUMMARY:1:1 Hebrew Tutoring
DESCRIPTION:1:1 online Hebrew tutoring for 20 minute sessions for 4th-6th grade TSRS students.
URL:https://www.templesinaidc.org/event/11-hebrew-tutoring/2026-03-19/
LOCATION:Temple Sinai – 3100 Military Road NW\, Washington\, DC\, United States
CATEGORIES:Religious School
GEO:38.96926;-77.070949
END:VEVENT
BEGIN:VEVENT
DTSTART;TZID=America/New_York:20260322T083000
DTEND;TZID=America/New_York:20260322T130000
DTSTAMP:20260420T031735
CREATED:20250820T142010Z
LAST-MODIFIED:20250820T142010Z
UID:10003666-1774168200-1774184400@www.templesinaidc.org
SUMMARY:Religious School
DESCRIPTION:Early Session: 8:30am – 10:30am \nLate Session: 11:00am – 1:00pm \n\nReport an Absence\nEarly Dismissal Form
URL:https://www.templesinaidc.org/event/religious-school-8/2026-03-22/
LOCATION:Temple Sinai – 3100 Military Road NW\, Washington\, DC\, United States
CATEGORIES:Religious School
GEO:38.96926;-77.070949
END:VEVENT
BEGIN:VEVENT
DTSTART;TZID=America/New_York:20260322T083000
DTEND;TZID=America/New_York:20260322T130000
DTSTAMP:20260420T031735
CREATED:20251212T152403Z
LAST-MODIFIED:20251212T152403Z
UID:10004093-1774168200-1774184400@www.templesinaidc.org
SUMMARY:B'yachad Family Programming
DESCRIPTION:Kindergarten is an extra special year at Temple Sinai – so special\, in fact\, that we engage with Kindergarten B’yachad – together!  Our Kindergarten program is a monthly program for Kindergarten students and their families\, and gives our youngest TSRS learners a chance to get to know Temple Sinai\, Temple Sinai Religious School\, and begin building the relationships and learning that will last a lifetime. \nEarly Session: 8:30am – 10:30am \nLate Session: 11:00am – 1:00pm
URL:https://www.templesinaidc.org/event/byachad-family-programming/2026-03-22/
LOCATION:DC
CATEGORIES:Religious School
END:VEVENT
BEGIN:VEVENT
DTSTART;TZID=America/New_York:20260322T093000
DTEND;TZID=America/New_York:20260322T110000
DTSTAMP:20260420T031735
CREATED:20260316T190409Z
LAST-MODIFIED:20260316T190743Z
UID:10003968-1774171800-1774177200@www.templesinaidc.org
SUMMARY:Confirmation
DESCRIPTION:Report an Absence\nEarly Dismissal Form
URL:https://www.templesinaidc.org/event/confirmation-2-3/
LOCATION:Temple Sinai – 3100 Military Road NW\, Washington\, DC\, United States
CATEGORIES:Religious School
GEO:38.96926;-77.070949
END:VEVENT
BEGIN:VEVENT
DTSTART;TZID=America/New_York:20260323T160000
DTEND;TZID=America/New_York:20260323T200000
DTSTAMP:20260420T031735
CREATED:20250820T143122Z
LAST-MODIFIED:20260218T210642Z
UID:10003689-1774281600-1774296000@www.templesinaidc.org
SUMMARY:1:1 Hebrew Tutoring
DESCRIPTION:1:1 online Hebrew tutoring for 20 minute sessions for 4th-6th grade TSRS students.
URL:https://www.templesinaidc.org/event/11-hebrew-tutoring/2026-03-23/
LOCATION:Temple Sinai – 3100 Military Road NW\, Washington\, DC\, United States
CATEGORIES:Religious School
GEO:38.96926;-77.070949
END:VEVENT
BEGIN:VEVENT
DTSTART;TZID=America/New_York:20260324T160000
DTEND;TZID=America/New_York:20260324T200000
DTSTAMP:20260420T031735
CREATED:20250820T143122Z
LAST-MODIFIED:20260218T210642Z
UID:10003760-1774368000-1774382400@www.templesinaidc.org
SUMMARY:1:1 Hebrew Tutoring
DESCRIPTION:1:1 online Hebrew tutoring for 20 minute sessions for 4th-6th grade TSRS students.
URL:https://www.templesinaidc.org/event/11-hebrew-tutoring/2026-03-24/
LOCATION:Temple Sinai – 3100 Military Road NW\, Washington\, DC\, United States
CATEGORIES:Religious School
GEO:38.96926;-77.070949
END:VEVENT
BEGIN:VEVENT
DTSTART;TZID=America/New_York:20260324T180000
DTEND;TZID=America/New_York:20260324T203000
DTSTAMP:20260420T031735
CREATED:20250820T164310Z
LAST-MODIFIED:20250820T164310Z
UID:10003793-1774375200-1774384200@www.templesinaidc.org
SUMMARY:Noar & Temple Teens
DESCRIPTION:Optional Pizza Dinner: 6:00-6:30 pm \nClasses: 6:30-8:30 pm \n\n\n\nReport an Absence\n\n\n\n 
URL:https://www.templesinaidc.org/event/noar-temple-teens/2026-03-24/
LOCATION:Temple Sinai – 3100 Military Road NW\, Washington\, DC\, United States
CATEGORIES:Religious School,Temple Teens
GEO:38.96926;-77.070949
END:VEVENT
BEGIN:VEVENT
DTSTART;TZID=America/New_York:20260326T160000
DTEND;TZID=America/New_York:20260326T200000
DTSTAMP:20260420T031735
CREATED:20250820T143122Z
LAST-MODIFIED:20260218T210642Z
UID:10003761-1774540800-1774555200@www.templesinaidc.org
SUMMARY:1:1 Hebrew Tutoring
DESCRIPTION:1:1 online Hebrew tutoring for 20 minute sessions for 4th-6th grade TSRS students.
URL:https://www.templesinaidc.org/event/11-hebrew-tutoring/2026-03-26/
LOCATION:Temple Sinai – 3100 Military Road NW\, Washington\, DC\, United States
CATEGORIES:Religious School
GEO:38.96926;-77.070949
END:VEVENT
BEGIN:VEVENT
DTSTART;TZID=America/New_York:20260329T083000
DTEND;TZID=America/New_York:20260329T130000
DTSTAMP:20260420T031735
CREATED:20250820T142010Z
LAST-MODIFIED:20250820T142010Z
UID:10003667-1774773000-1774789200@www.templesinaidc.org
SUMMARY:Religious School
DESCRIPTION:Early Session: 8:30am – 10:30am \nLate Session: 11:00am – 1:00pm \n\nReport an Absence\nEarly Dismissal Form
URL:https://www.templesinaidc.org/event/religious-school-8/2026-03-29/
LOCATION:Temple Sinai – 3100 Military Road NW\, Washington\, DC\, United States
CATEGORIES:Religious School
GEO:38.96926;-77.070949
END:VEVENT
BEGIN:VEVENT
DTSTART;TZID=America/New_York:20260329T093000
DTEND;TZID=America/New_York:20260329T110000
DTSTAMP:20260420T031735
CREATED:20251202T191128Z
LAST-MODIFIED:20260316T191340Z
UID:10004330-1774776600-1774782000@www.templesinaidc.org
SUMMARY:Confirmation
DESCRIPTION:Report an Absence\nEarly Dismissal Form
URL:https://www.templesinaidc.org/event/confirmation-2-2/2026-03-29/
LOCATION:Temple Sinai – 3100 Military Road NW\, Washington\, DC\, United States
CATEGORIES:Religious School
GEO:38.96926;-77.070949
END:VEVENT
BEGIN:VEVENT
DTSTART;TZID=America/New_York:20260330T160000
DTEND;TZID=America/New_York:20260330T200000
DTSTAMP:20260420T031735
CREATED:20250820T143122Z
LAST-MODIFIED:20260218T210642Z
UID:10003690-1774886400-1774900800@www.templesinaidc.org
SUMMARY:1:1 Hebrew Tutoring
DESCRIPTION:1:1 online Hebrew tutoring for 20 minute sessions for 4th-6th grade TSRS students.
URL:https://www.templesinaidc.org/event/11-hebrew-tutoring/2026-03-30/
LOCATION:Temple Sinai – 3100 Military Road NW\, Washington\, DC\, United States
CATEGORIES:Religious School
GEO:38.96926;-77.070949
END:VEVENT
BEGIN:VEVENT
DTSTART;TZID=America/New_York:20260331T160000
DTEND;TZID=America/New_York:20260331T200000
DTSTAMP:20260420T031735
CREATED:20250820T143122Z
LAST-MODIFIED:20260218T210642Z
UID:10003762-1774972800-1774987200@www.templesinaidc.org
SUMMARY:1:1 Hebrew Tutoring
DESCRIPTION:1:1 online Hebrew tutoring for 20 minute sessions for 4th-6th grade TSRS students.
URL:https://www.templesinaidc.org/event/11-hebrew-tutoring/2026-03-31/
LOCATION:Temple Sinai – 3100 Military Road NW\, Washington\, DC\, United States
CATEGORIES:Religious School
GEO:38.96926;-77.070949
END:VEVENT
END:VCALENDAR