BEGIN:VCALENDAR
VERSION:2.0
PRODID:-//Temple Sinai - ECPv6.15.20//NONSGML v1.0//EN
CALSCALE:GREGORIAN
METHOD:PUBLISH
X-ORIGINAL-URL:https://www.templesinaidc.org
X-WR-CALDESC:Events for Temple Sinai
REFRESH-INTERVAL;VALUE=DURATION:PT1H
X-Robots-Tag:noindex
X-PUBLISHED-TTL:PT1H
BEGIN:VTIMEZONE
TZID:America/New_York
BEGIN:DAYLIGHT
TZOFFSETFROM:-0500
TZOFFSETTO:-0400
TZNAME:EDT
DTSTART:20250309T070000
END:DAYLIGHT
BEGIN:STANDARD
TZOFFSETFROM:-0400
TZOFFSETTO:-0500
TZNAME:EST
DTSTART:20251102T060000
END:STANDARD
BEGIN:DAYLIGHT
TZOFFSETFROM:-0500
TZOFFSETTO:-0400
TZNAME:EDT
DTSTART:20260308T070000
END:DAYLIGHT
BEGIN:STANDARD
TZOFFSETFROM:-0400
TZOFFSETTO:-0500
TZNAME:EST
DTSTART:20261101T060000
END:STANDARD
BEGIN:DAYLIGHT
TZOFFSETFROM:-0500
TZOFFSETTO:-0400
TZNAME:EDT
DTSTART:20270314T070000
END:DAYLIGHT
BEGIN:STANDARD
TZOFFSETFROM:-0400
TZOFFSETTO:-0500
TZNAME:EST
DTSTART:20271107T060000
END:STANDARD
END:VTIMEZONE
BEGIN:VEVENT
DTSTART;TZID=America/New_York:20260503T083000
DTEND;TZID=America/New_York:20260503T130000
DTSTAMP:20260420T031111
CREATED:20250820T142010Z
LAST-MODIFIED:20250820T142010Z
UID:10003671-1777797000-1777813200@www.templesinaidc.org
SUMMARY:Religious School
DESCRIPTION:Early Session: 8:30am – 10:30am \nLate Session: 11:00am – 1:00pm \n\nReport an Absence\nEarly Dismissal Form
URL:https://www.templesinaidc.org/event/religious-school-8/2026-05-03/
LOCATION:Temple Sinai – 3100 Military Road NW\, Washington\, DC\, United States
CATEGORIES:Religious School
GEO:38.96926;-77.070949
END:VEVENT
BEGIN:VEVENT
DTSTART;TZID=America/New_York:20260504T160000
DTEND;TZID=America/New_York:20260504T200000
DTSTAMP:20260420T031111
CREATED:20250820T143122Z
LAST-MODIFIED:20260218T210642Z
UID:10003695-1777910400-1777924800@www.templesinaidc.org
SUMMARY:1:1 Hebrew Tutoring
DESCRIPTION:1:1 online Hebrew tutoring for 20 minute sessions for 4th-6th grade TSRS students.
URL:https://www.templesinaidc.org/event/11-hebrew-tutoring/2026-05-04/
LOCATION:Temple Sinai – 3100 Military Road NW\, Washington\, DC\, United States
CATEGORIES:Religious School
GEO:38.96926;-77.070949
END:VEVENT
BEGIN:VEVENT
DTSTART;TZID=America/New_York:20260505T160000
DTEND;TZID=America/New_York:20260505T200000
DTSTAMP:20260420T031111
CREATED:20250820T143122Z
LAST-MODIFIED:20260218T210642Z
UID:10003771-1777996800-1778011200@www.templesinaidc.org
SUMMARY:1:1 Hebrew Tutoring
DESCRIPTION:1:1 online Hebrew tutoring for 20 minute sessions for 4th-6th grade TSRS students.
URL:https://www.templesinaidc.org/event/11-hebrew-tutoring/2026-05-05/
LOCATION:Temple Sinai – 3100 Military Road NW\, Washington\, DC\, United States
CATEGORIES:Religious School
GEO:38.96926;-77.070949
END:VEVENT
BEGIN:VEVENT
DTSTART;TZID=America/New_York:20260505T180000
DTEND;TZID=America/New_York:20260505T203000
DTSTAMP:20260420T031111
CREATED:20250820T164310Z
LAST-MODIFIED:20250820T164310Z
UID:10003798-1778004000-1778013000@www.templesinaidc.org
SUMMARY:Noar & Temple Teens
DESCRIPTION:Optional Pizza Dinner: 6:00-6:30 pm \nClasses: 6:30-8:30 pm \n\n\n\nReport an Absence\n\n\n\n 
URL:https://www.templesinaidc.org/event/noar-temple-teens/2026-05-05/
LOCATION:Temple Sinai – 3100 Military Road NW\, Washington\, DC\, United States
CATEGORIES:Religious School,Temple Teens
GEO:38.96926;-77.070949
END:VEVENT
BEGIN:VEVENT
DTSTART;TZID=America/New_York:20260507T160000
DTEND;TZID=America/New_York:20260507T200000
DTSTAMP:20260420T031111
CREATED:20250820T143122Z
LAST-MODIFIED:20260218T210642Z
UID:10003772-1778169600-1778184000@www.templesinaidc.org
SUMMARY:1:1 Hebrew Tutoring
DESCRIPTION:1:1 online Hebrew tutoring for 20 minute sessions for 4th-6th grade TSRS students.
URL:https://www.templesinaidc.org/event/11-hebrew-tutoring/2026-05-07/
LOCATION:Temple Sinai – 3100 Military Road NW\, Washington\, DC\, United States
CATEGORIES:Religious School
GEO:38.96926;-77.070949
END:VEVENT
BEGIN:VEVENT
DTSTART;TZID=America/New_York:20260511T160000
DTEND;TZID=America/New_York:20260511T200000
DTSTAMP:20260420T031111
CREATED:20250820T143122Z
LAST-MODIFIED:20260218T210642Z
UID:10003696-1778515200-1778529600@www.templesinaidc.org
SUMMARY:1:1 Hebrew Tutoring
DESCRIPTION:1:1 online Hebrew tutoring for 20 minute sessions for 4th-6th grade TSRS students.
URL:https://www.templesinaidc.org/event/11-hebrew-tutoring/2026-05-11/
LOCATION:Temple Sinai – 3100 Military Road NW\, Washington\, DC\, United States
CATEGORIES:Religious School
GEO:38.96926;-77.070949
END:VEVENT
BEGIN:VEVENT
DTSTART;TZID=America/New_York:20260512T160000
DTEND;TZID=America/New_York:20260512T200000
DTSTAMP:20260420T031111
CREATED:20250820T143122Z
LAST-MODIFIED:20260218T210642Z
UID:10003773-1778601600-1778616000@www.templesinaidc.org
SUMMARY:1:1 Hebrew Tutoring
DESCRIPTION:1:1 online Hebrew tutoring for 20 minute sessions for 4th-6th grade TSRS students.
URL:https://www.templesinaidc.org/event/11-hebrew-tutoring/2026-05-12/
LOCATION:Temple Sinai – 3100 Military Road NW\, Washington\, DC\, United States
CATEGORIES:Religious School
GEO:38.96926;-77.070949
END:VEVENT
BEGIN:VEVENT
DTSTART;TZID=America/New_York:20260512T180000
DTEND;TZID=America/New_York:20260512T203000
DTSTAMP:20260420T031111
CREATED:20250820T164310Z
LAST-MODIFIED:20250820T164310Z
UID:10003799-1778608800-1778617800@www.templesinaidc.org
SUMMARY:Noar & Temple Teens
DESCRIPTION:Optional Pizza Dinner: 6:00-6:30 pm \nClasses: 6:30-8:30 pm \n\n\n\nReport an Absence\n\n\n\n 
URL:https://www.templesinaidc.org/event/noar-temple-teens/2026-05-12/
LOCATION:Temple Sinai – 3100 Military Road NW\, Washington\, DC\, United States
CATEGORIES:Religious School,Temple Teens
GEO:38.96926;-77.070949
END:VEVENT
BEGIN:VEVENT
DTSTART;TZID=America/New_York:20260514T160000
DTEND;TZID=America/New_York:20260514T200000
DTSTAMP:20260420T031111
CREATED:20250820T143122Z
LAST-MODIFIED:20260218T210642Z
UID:10003774-1778774400-1778788800@www.templesinaidc.org
SUMMARY:1:1 Hebrew Tutoring
DESCRIPTION:1:1 online Hebrew tutoring for 20 minute sessions for 4th-6th grade TSRS students.
URL:https://www.templesinaidc.org/event/11-hebrew-tutoring/2026-05-14/
LOCATION:Temple Sinai – 3100 Military Road NW\, Washington\, DC\, United States
CATEGORIES:Religious School
GEO:38.96926;-77.070949
END:VEVENT
BEGIN:VEVENT
DTSTART;TZID=America/New_York:20260517T083000
DTEND;TZID=America/New_York:20260517T130000
DTSTAMP:20260420T031111
CREATED:20251212T152403Z
LAST-MODIFIED:20251212T152403Z
UID:10004095-1779006600-1779022800@www.templesinaidc.org
SUMMARY:B'yachad Family Programming
DESCRIPTION:Kindergarten is an extra special year at Temple Sinai – so special\, in fact\, that we engage with Kindergarten B’yachad – together!  Our Kindergarten program is a monthly program for Kindergarten students and their families\, and gives our youngest TSRS learners a chance to get to know Temple Sinai\, Temple Sinai Religious School\, and begin building the relationships and learning that will last a lifetime. \nEarly Session: 8:30am – 10:30am \nLate Session: 11:00am – 1:00pm
URL:https://www.templesinaidc.org/event/byachad-family-programming/2026-05-17/
LOCATION:DC
CATEGORIES:Religious School
END:VEVENT
BEGIN:VEVENT
DTSTART;TZID=America/New_York:20260517T103000
DTEND;TZID=America/New_York:20260517T123000
DTSTAMP:20260420T031111
CREATED:20250813T175445Z
LAST-MODIFIED:20250813T175507Z
UID:10003491-1779013800-1779021000@www.templesinaidc.org
SUMMARY:Confirmation Service
DESCRIPTION:
URL:https://www.templesinaidc.org/event/confirmation-service/
LOCATION:DC
CATEGORIES:Religious School,Worship
ATTACH;FMTTYPE=image/jpeg:https://www.templesinaidc.org/wp-content/uploads/2025/02/Boxcast-.jpg
END:VEVENT
END:VCALENDAR