BEGIN:VCALENDAR
VERSION:2.0
PRODID:-//Temple Sinai - ECPv6.15.20//NONSGML v1.0//EN
CALSCALE:GREGORIAN
METHOD:PUBLISH
X-WR-CALNAME:Temple Sinai
X-ORIGINAL-URL:https://www.templesinaidc.org
X-WR-CALDESC:Events for Temple Sinai
REFRESH-INTERVAL;VALUE=DURATION:PT1H
X-Robots-Tag:noindex
X-PUBLISHED-TTL:PT1H
BEGIN:VTIMEZONE
TZID:America/New_York
BEGIN:DAYLIGHT
TZOFFSETFROM:-0500
TZOFFSETTO:-0400
TZNAME:EDT
DTSTART:20240310T070000
END:DAYLIGHT
BEGIN:STANDARD
TZOFFSETFROM:-0400
TZOFFSETTO:-0500
TZNAME:EST
DTSTART:20241103T060000
END:STANDARD
BEGIN:DAYLIGHT
TZOFFSETFROM:-0500
TZOFFSETTO:-0400
TZNAME:EDT
DTSTART:20250309T070000
END:DAYLIGHT
BEGIN:STANDARD
TZOFFSETFROM:-0400
TZOFFSETTO:-0500
TZNAME:EST
DTSTART:20251102T060000
END:STANDARD
BEGIN:DAYLIGHT
TZOFFSETFROM:-0500
TZOFFSETTO:-0400
TZNAME:EDT
DTSTART:20260308T070000
END:DAYLIGHT
BEGIN:STANDARD
TZOFFSETFROM:-0400
TZOFFSETTO:-0500
TZNAME:EST
DTSTART:20261101T060000
END:STANDARD
BEGIN:DAYLIGHT
TZOFFSETFROM:-0500
TZOFFSETTO:-0400
TZNAME:EDT
DTSTART:20270314T070000
END:DAYLIGHT
BEGIN:STANDARD
TZOFFSETFROM:-0400
TZOFFSETTO:-0500
TZNAME:EST
DTSTART:20271107T060000
END:STANDARD
END:VTIMEZONE
BEGIN:VEVENT
DTSTART;TZID=America/New_York:20260418T200000
DTEND;TZID=America/New_York:20260418T213000
DTSTAMP:20260421T142632
CREATED:20260115T175147Z
LAST-MODIFIED:20260327T141346Z
UID:10004088-1776542400-1776547800@www.templesinaidc.org
SUMMARY:A Special Musical Evening
DESCRIPTION:“We Won’t Give Up on Hope: A Musical Evening to Lift Our Spirits”\nWith Cantor Rachel Rhodes and guests:\nCantor Ze’evi Tovlev\, Cantor Becky Mann\, and Emily Groff-Heilborn\nAccompanied by Tony Nalker\, Paul Henry\, and Lucas Ashby \nAn evening of song from all genres meant to lift our spirits and remind us that hope is always worth holding onto. The concert will be followed by a dessert reception. \nRSVP \nCantor Ze’evi Tovlev (they/them): is the Cantor of Temple Shalom in Chevy Chase\, Maryland. With roots in songleading\, Jewish education\, and classical voice\, Ze’evi believes in the power of communal prayer\, learning\, and social justice to create meaningful change. \nEmily Groff Heilborn is the new Education and Ritual Music Specialist at Temple Sinai. Emily is a music educator\, songwriter\, and worship leader who has spent more than a decade helping communities find connection and meaning through music. \nCantor Becky Mann is Temple Sinai’s cantor-in-residence. She is passionate about creating community through music and meaningful worship\, and inspiring communities through her heartfelt interpretations of prayer. \nTony Nalker (piano): After serving over 27 years in the U.S. Army playing piano for the highest levels of the U.S. government\, Tony Nalker currently plays with The Smithsonian Jazz Masterworks Orchestra and The National Symphony Orchestra Pops\, as well as working on a variety of recording and composition projects.
URL:https://www.templesinaidc.org/event/a-special-musical-evening/
CATEGORIES:Community,Music,Spotlight
ATTACH;FMTTYPE=image/png:https://www.templesinaidc.org/wp-content/uploads/2026/01/Cantors-Concert.png
END:VEVENT
BEGIN:VEVENT
DTSTART;TZID=America/New_York:20260410T173000
DTEND;TZID=America/New_York:20260410T203000
DTSTAMP:20260421T142632
CREATED:20260203T170319Z
LAST-MODIFIED:20260203T195435Z
UID:10004259-1775842200-1775853000@www.templesinaidc.org
SUMMARY:Cantor Robins Celebration Shabbat
DESCRIPTION:Come help us celebrate Shabbat and Cantor Rebecca Robins’ “Bat Mitzvah” — 13 years at Temple Sinai! \nThe evening begins with a Family Shabbat Dinner at 5:30 pm\, then we’ll gather for a joyful Shabbat service at 6:30 pm. A festive oneg will follow. \nThis is a night for everyone! To help us plan\, please let us know whether you intend to attend the dinner (space is limited) or the oneg\, based on what works best for your family’s schedule\, using the registration link below. Just coming for services? You can let us know that\, too. \nThe registration form also includes options to make a donation to the Religious School Fund in honor of Cantor Robins and to contribute a message to the tribute book we’re compiling for her. Even if you can’t join us in person\, you can donate and/or add to the tribute book on the registration form. \nRegister \nWatch livestream
URL:https://www.templesinaidc.org/event/cantor-robins-celebration-shabbat/
CATEGORIES:Community,Music,Religious School,Spotlight,Temple Teens,Worship
ATTACH;FMTTYPE=image/png:https://www.templesinaidc.org/wp-content/uploads/2026/02/CR-Shabbat-Graphic.png
LOCATION:https://www.templesinaidc.org/event/cantor-robins-celebration-shabbat/
END:VEVENT
BEGIN:VEVENT
DTSTART;TZID=America/New_York:20260206T183000
DTEND;TZID=America/New_York:20260206T213000
DTSTAMP:20260421T142632
CREATED:20251216T144042Z
LAST-MODIFIED:20260129T132242Z
UID:10002216-1770402600-1770413400@www.templesinaidc.org
SUMMARY:Shabbat Shira 2026: Open the Door
DESCRIPTION:Cantors Mann and Rhodes. Photo by Steve Snyder. \nOpen the Door\nAnd Light the Way with Song\nLet music and prayer open the door to our hearts and light the way – to love\, faith\, hope and courage. This year’s special music Shabbat features the compositions of guest musician Cantor Becky Mann\, who joins our temple’s clergy\, choir\, and a professional string quartet to fill our sanctuary with song. The evening promises to enliven\, encourage\, comfort\, and inspire us as we worship and sing together. \nServices will be preceded by an oneg and followed by a buffet dinner (sold out).  \n  \nClick here for livestream \nJoin the 2026 Circle of Music Lovers\, a community of members and friends committed to Temple Sinai’s diverse\, high-quality musical programs. All contributions go to the Music Fund\, which supports all aspects of our congregation’s musical life. We are deeply grateful to all our Circle of Music Lovers donors! \n  \n\nAn Interview with Cantor Becky Mann\nMusic Committee member Kent Allen had a chance to talk with Cantor Mann about this year’s special Shabbat Shira. \nFor composer and cantor Becky Mann\, tradition is important\, but context is key. While the words in the Talmud may remain unchanged\, the world never stops evolving. Mann’s task: Finding the words in our modern-day lexicon to relate the lessons and tales of the past to the present. Read more. 
URL:https://www.templesinaidc.org/event/shabbat-shira-2026/
CATEGORIES:Music,Spotlight,Worship
ATTACH;FMTTYPE=image/jpeg:https://www.templesinaidc.org/wp-content/uploads/2026/01/TS-2026-SS-PPT_SLIDE-1920x1080-1.jpg
LOCATION:https://www.templesinaidc.org/event/shabbat-shira-2026/
END:VEVENT
BEGIN:VEVENT
DTSTART;TZID=America/New_York:20250702T200000
DTEND;TZID=America/New_York:20250702T220000
DTSTAMP:20260421T142632
CREATED:20250522T185256Z
LAST-MODIFIED:20250630T125640Z
UID:10002904-1751486400-1751493600@www.templesinaidc.org
SUMMARY:Kolot HaDorot: A Celebration of 50 Years of Women in the Cantorate Concert
DESCRIPTION:The American Conference of Cantors presents a historic concert celebrating the 50th anniversary of Cantor Barbara Ostfeld\, the first female ordained cantor. This extraordinary musical event will feature multiple choirs\, spanning generations of cantorial talent\, performing a diverse repertoire from Renaissance compositions to contemporary pieces. Temple Sinai’s own Cantors Rachel Rhodes\, Rebecca Robins\, and Cantor Emerita Laura Croen will participate. \nThe concert promises a powerful exploration of Jewish musical heritage\, showcasing works that highlight the journey of women in cantorial leadership. Audiences will experience an inclusive performance featuring 200 cantors and musicians\, presenting a unique musical narrative that spans different eras\, geographical regions\, and musical styles. \nRegister (concert location will be shared with ticket holders 24 hours in advance) \n\nTemple Sinai is a proud sponsor of this concert in honor of our cantors.
URL:https://www.templesinaidc.org/event/kolot-hadorot-a-celebration-of-50-years-of-women-in-the-cantorate-concert/
CATEGORIES:Community,Music
ATTACH;FMTTYPE=image/webp:https://www.templesinaidc.org/wp-content/uploads/2025/05/50-Years-Cantorate-Concert-570x425-1.webp
END:VEVENT
END:VCALENDAR