BEGIN:VCALENDAR
VERSION:2.0
PRODID:-//Temple Sinai - ECPv6.15.20//NONSGML v1.0//EN
CALSCALE:GREGORIAN
METHOD:PUBLISH
X-WR-CALNAME:Temple Sinai
X-ORIGINAL-URL:https://www.templesinaidc.org
X-WR-CALDESC:Events for Temple Sinai
REFRESH-INTERVAL;VALUE=DURATION:PT1H
X-Robots-Tag:noindex
X-PUBLISHED-TTL:PT1H
BEGIN:VTIMEZONE
TZID:America/New_York
BEGIN:DAYLIGHT
TZOFFSETFROM:-0500
TZOFFSETTO:-0400
TZNAME:EDT
DTSTART:20250309T070000
END:DAYLIGHT
BEGIN:STANDARD
TZOFFSETFROM:-0400
TZOFFSETTO:-0500
TZNAME:EST
DTSTART:20251102T060000
END:STANDARD
BEGIN:DAYLIGHT
TZOFFSETFROM:-0500
TZOFFSETTO:-0400
TZNAME:EDT
DTSTART:20260308T070000
END:DAYLIGHT
BEGIN:STANDARD
TZOFFSETFROM:-0400
TZOFFSETTO:-0500
TZNAME:EST
DTSTART:20261101T060000
END:STANDARD
BEGIN:DAYLIGHT
TZOFFSETFROM:-0500
TZOFFSETTO:-0400
TZNAME:EDT
DTSTART:20270314T070000
END:DAYLIGHT
BEGIN:STANDARD
TZOFFSETFROM:-0400
TZOFFSETTO:-0500
TZNAME:EST
DTSTART:20271107T060000
END:STANDARD
END:VTIMEZONE
BEGIN:VEVENT
DTSTART;TZID=America/New_York:20260115T100000
DTEND;TZID=America/New_York:20260115T120000
DTSTAMP:20260424T184907
CREATED:20250820T193342Z
LAST-MODIFIED:20250912T160508Z
UID:10003803-1768471200-1768478400@www.templesinaidc.org
SUMMARY:Volunteering at A Wider Circle
DESCRIPTION:Volunteer at A Wider Circle with your fellow TS members! Lunch is not included in this program but those interested in going to Parkway Deli afterwards are more than welcome! If you have questions\, please contact Jim Jaffe or Ed Cohen. \nRSVP
URL:https://www.templesinaidc.org/event/volunteering-at-a-wider-circle-4/2026-01-15/
LOCATION:A Wider Circle – 9159 Brookville Rd\, Silver Spring\, MD\, United States
CATEGORIES:Davis Center for Social Justice,Social Action,Spotlight,TSMRJ
ATTACH;FMTTYPE=image/jpeg:https://www.templesinaidc.org/wp-content/uploads/2025/02/TSMRJ-Wider-Circle-scaled.jpg
GEO:39.003109;-77.029648
END:VEVENT
BEGIN:VEVENT
DTSTART;TZID=America/New_York:20260118T100000
DTEND;TZID=America/New_York:20260118T120000
DTSTAMP:20260424T184907
CREATED:20251212T152915Z
LAST-MODIFIED:20251212T152915Z
UID:10004083-1768730400-1768737600@www.templesinaidc.org
SUMMARY:MLK Mitzvah Day
DESCRIPTION:Join us for Temple Sinai’s Congregation-Wide Mitzvah Day! \nWe will honor Dr. Martin Luther King Jr.’s vision by giving back to our community. Together\, we’ll take part in hands-on projects that support our neighbors in need throughout the Washington\, DC area. \nAll ages are welcome! Children under high school age should be accompanied by an adult. \nWe have something for everyone – including projects you can do from home!  For the complete list of projects and all the information you need to know\, click on the link below! \nLEARN MORE HERE \nPlease register in advance \n  \nThis program is generously underwritten by the Judy and Peter Blum Kovler Foundation.
URL:https://www.templesinaidc.org/event/mlk-mitzvah-day/
CATEGORIES:Community,Davis Center for Social Justice,Social Action,Spotlight,Young Families
ATTACH;FMTTYPE=image/jpeg:https://www.templesinaidc.org/wp-content/uploads/2025/12/MLK-Mitzvah-Day.jpg
END:VEVENT
END:VCALENDAR