BEGIN:VCALENDAR
VERSION:2.0
PRODID:-//Temple Sinai - ECPv6.15.20//NONSGML v1.0//EN
CALSCALE:GREGORIAN
METHOD:PUBLISH
X-ORIGINAL-URL:https://www.templesinaidc.org
X-WR-CALDESC:Events for Temple Sinai
REFRESH-INTERVAL;VALUE=DURATION:PT1H
X-Robots-Tag:noindex
X-PUBLISHED-TTL:PT1H
BEGIN:VTIMEZONE
TZID:America/New_York
BEGIN:DAYLIGHT
TZOFFSETFROM:-0500
TZOFFSETTO:-0400
TZNAME:EDT
DTSTART:20250309T070000
END:DAYLIGHT
BEGIN:STANDARD
TZOFFSETFROM:-0400
TZOFFSETTO:-0500
TZNAME:EST
DTSTART:20251102T060000
END:STANDARD
BEGIN:DAYLIGHT
TZOFFSETFROM:-0500
TZOFFSETTO:-0400
TZNAME:EDT
DTSTART:20260308T070000
END:DAYLIGHT
BEGIN:STANDARD
TZOFFSETFROM:-0400
TZOFFSETTO:-0500
TZNAME:EST
DTSTART:20261101T060000
END:STANDARD
BEGIN:DAYLIGHT
TZOFFSETFROM:-0500
TZOFFSETTO:-0400
TZNAME:EDT
DTSTART:20270314T070000
END:DAYLIGHT
BEGIN:STANDARD
TZOFFSETFROM:-0400
TZOFFSETTO:-0500
TZNAME:EST
DTSTART:20271107T060000
END:STANDARD
END:VTIMEZONE
BEGIN:VEVENT
DTSTART;TZID=America/New_York:20260201T150000
DTEND;TZID=America/New_York:20260201T170000
DTSTAMP:20260424T120440
CREATED:20251216T172754Z
LAST-MODIFIED:20251216T172830Z
UID:10004099-1769958000-1769965200@www.templesinaidc.org
SUMMARY:Davis Center Docs: Screening of “Credible Fear”
DESCRIPTION:The Davis Center for Social Justice at Temple Sinai is proud to present the latest in our Davis Center Docs series. \nPlease join us for a sneak preview of several scenes from “Credible Fear”\, a work-in-progress documentary about immigrant rights directed by local DC filmmaker Gabrielle Ewing. Through one woman’s harrowing personal account of escaping brutal gang violence in Guatemala\, “Credible Fear” reveals a complex\, rarely seen portrait of the ongoing immigration crisis in the US and explores how the asylum process consistently fails the people it was designed to protect. \nA panel discussion and Q & A will follow this advance screening. Panelists include: \n\nGabrielle Ewing\, documentary filmmaker and director of “Credible Fear”\,\nAmy C. Roma\, Partner\, Hogan Lovells\, attorney featured in “Credible Fear”\,\nSarah Pierce\, Director of Social Policy at Third Way\,\nYael Schacher\, Director for the Americas and Europe\, Refugees International\, and\nModerated by Royce Murray\, Former Assistant Secretary for Border and Immigration Policy at the Department of Homeland Security.\n\nYou don’t want to miss this incredibly moving and timely event! \nNote: this event is recommended for age 18+ due to the sensitivity and nature of the material. \nPlease register in advance
URL:https://www.templesinaidc.org/event/davis-center-docs-screening-of-credible-fear/
LOCATION:Temple Sinai – 3100 Military Road NW\, Washington\, DC\, United States
CATEGORIES:Davis Center for Social Justice,Spotlight
ATTACH;FMTTYPE=image/png:https://www.templesinaidc.org/wp-content/uploads/2025/12/temple-sinai-v3-no-date.png
GEO:38.96926;-77.070949
END:VEVENT
BEGIN:VEVENT
DTSTART;TZID=America/New_York:20260201T180000
DTEND;TZID=America/New_York:20260201T193000
DTSTAMP:20260424T120440
CREATED:20260113T200408Z
LAST-MODIFIED:20260113T200408Z
UID:10004082-1769968800-1769974200@www.templesinaidc.org
SUMMARY:Tu BiSh'vat Seder
DESCRIPTION:Celebrate Tu BiSh’vat\, the Jewish “New Year for Trees\,” with a meaningful evening honoring nature and spiritual growth. Cantor Rhodes will lead a Tu BiSh’vat Seder followed by a vegetarian potluck dinner and an opportunity to hear from guest speaker Mike Tidwell\, Executive Director\, Chesapeake Climate Action Network. \n6:00 to 6:30: 30-minute Seder led by Cantor Rhodes \nTu B’Shvat is the Jewish “New Year for Trees.” This holiday celebrates nature’s beauty\, calls us to our responsibility to care for the earth\, and open the journey into our own spiritual growth. During the seder\, we eat symbolic fruits and nuts\, each representing aspects of the natural and spiritual world: fruits with inedible peels (protection and physicality)\, fruits with edible peels (balance of inner and outer worlds)\, nuts (spiritual potential)\, and dried fruits (wisdom and life’s cycles). We offer blessings of gratitude for the earth’s abundance\, reflecting on our connection to creation and our duty to nurture it. As we share this meal\, we renew our appreciation for nature’s gifts and commit to planting seeds of kindness\, growth\, and environmental stewardship. \n6:30 to 7:00: Potluck dinner \nAttendees are asked to bring a vegetarian side dish or dessert\, according to the first letter of the attendee’s last name. (A-P bring side dish; Q-Z bring dessert) \n7:00 to 7:30: Guest speaker\, Mike Tidwell\, Executive Director\, Chesapeake Climate Action Network \nTidwell is a journalist\, author\, and climate activist living in Takoma Park\, MD. His most recent book is an exploration of global warming’s impact in his own front yard\, called The Lost Trees of Willow Avenue: A story of Climate and Hope on One American Street (St. Martin’s Press\, March 2025). \nPlease register in advance
URL:https://www.templesinaidc.org/event/tu-bishvat-seder-2/
CATEGORIES:Adult Education,Davis Center for Social Justice,Holidays,Spotlight
ATTACH;FMTTYPE=image/jpeg:https://www.templesinaidc.org/wp-content/uploads/2025/12/Tu-BiShvat-Seder-Graphic.jpg
END:VEVENT
BEGIN:VEVENT
DTSTART;TZID=America/New_York:20260219T100000
DTEND;TZID=America/New_York:20260219T120000
DTSTAMP:20260424T120440
CREATED:20250820T193342Z
LAST-MODIFIED:20250912T160508Z
UID:10003804-1771495200-1771502400@www.templesinaidc.org
SUMMARY:Volunteering at A Wider Circle
DESCRIPTION:Volunteer at A Wider Circle with your fellow TS members! Lunch is not included in this program but those interested in going to Parkway Deli afterwards are more than welcome! If you have questions\, please contact Jim Jaffe or Ed Cohen. \nRSVP
URL:https://www.templesinaidc.org/event/volunteering-at-a-wider-circle-4/2026-02-19/
LOCATION:A Wider Circle – 9159 Brookville Rd\, Silver Spring\, MD\, United States
CATEGORIES:Davis Center for Social Justice,Social Action,Spotlight,TSMRJ
ATTACH;FMTTYPE=image/jpeg:https://www.templesinaidc.org/wp-content/uploads/2025/02/TSMRJ-Wider-Circle-scaled.jpg
GEO:39.003109;-77.029648
END:VEVENT
BEGIN:VEVENT
DTSTART;TZID=America/New_York:20260219T190000
DTEND;TZID=America/New_York:20260219T203000
DTSTAMP:20260424T120440
CREATED:20251216T174951Z
LAST-MODIFIED:20260128T212653Z
UID:10004089-1771527600-1771533000@www.templesinaidc.org
SUMMARY:Antisemitism on College Campuses: The Current State
DESCRIPTION:Please join Temple Sinai’s Antisemitism Working Group for a thoughtful and timely discussion on antisemitism on college campuses\, featuring Washington Post religion reporter Michelle Boorstein\, GW political science professor and former provost Forrest Maltzman\, and attorney Baruch Weiss. The conversation will be moderated by Mike Abramowitz. \nThis promises to be a thought-provoking evening. We hope you can join us in person  and stay for some snacks and beer after! Please email Pam Kurland with questions. \nPlease register in advance \nNote: This program is in-person only and will not be recorded.
URL:https://www.templesinaidc.org/event/antisemitism-on-college-campuses-the-current-state/
CATEGORIES:Adult Education,Davis Center for Social Justice,Spotlight
END:VEVENT
END:VCALENDAR