BEGIN:VCALENDAR
VERSION:2.0
PRODID:-//Temple Sinai - ECPv6.15.20//NONSGML v1.0//EN
CALSCALE:GREGORIAN
METHOD:PUBLISH
X-ORIGINAL-URL:https://www.templesinaidc.org
X-WR-CALDESC:Events for Temple Sinai
REFRESH-INTERVAL;VALUE=DURATION:PT1H
X-Robots-Tag:noindex
X-PUBLISHED-TTL:PT1H
BEGIN:VTIMEZONE
TZID:America/New_York
BEGIN:DAYLIGHT
TZOFFSETFROM:-0500
TZOFFSETTO:-0400
TZNAME:EDT
DTSTART:20240310T070000
END:DAYLIGHT
BEGIN:STANDARD
TZOFFSETFROM:-0400
TZOFFSETTO:-0500
TZNAME:EST
DTSTART:20241103T060000
END:STANDARD
BEGIN:DAYLIGHT
TZOFFSETFROM:-0500
TZOFFSETTO:-0400
TZNAME:EDT
DTSTART:20250309T070000
END:DAYLIGHT
BEGIN:STANDARD
TZOFFSETFROM:-0400
TZOFFSETTO:-0500
TZNAME:EST
DTSTART:20251102T060000
END:STANDARD
BEGIN:DAYLIGHT
TZOFFSETFROM:-0500
TZOFFSETTO:-0400
TZNAME:EDT
DTSTART:20260308T070000
END:DAYLIGHT
BEGIN:STANDARD
TZOFFSETFROM:-0400
TZOFFSETTO:-0500
TZNAME:EST
DTSTART:20261101T060000
END:STANDARD
END:VTIMEZONE
BEGIN:VEVENT
DTSTART;TZID=America/New_York:20251030T190000
DTEND;TZID=America/New_York:20251030T210000
DTSTAMP:20260424T163143
CREATED:20250909T112939Z
LAST-MODIFIED:20250909T112939Z
UID:10003865-1761850800-1761858000@www.templesinaidc.org
SUMMARY:WTF: Washington's Totally Fine! (Part 2)
DESCRIPTION:We are feeling the weight of these unprecedented times in Washington\, DC. Join us to learn about what is happening from experts in our Temple Sinai congregation and spend time with our community. The evening will begin with a panel of Sinai members representing a broad range of perspectives\, reflecting on how current events are impacting our community and our city. \nPanelists are: \n\nLibby Anker\, Professor of American Studies and Political Science at GW University\nMatt Frumin\, DC Councilmember\, Ward 3\nRachel Levinson-Waldman\, director of the Liberty and National Security Program at the Brennan Center for Justice\nSam Stein\, Managing Editor for the media company The Bulwark\, and a contributor for MSNBC\nSteve Vladeck\, Professor at Georgetown Law Center\, author of NYT bestseller The Shadow Docket\n\nThe panel will be followed by pizza\, beer and a chance to keep talking to each other. Join us for an evening of learning\, networking\, and conspiring. \nWhile we hope you can join us in person\, the panel portion of the program can be viewed virtually. Please indicate your preference when you register. \nRegister
URL:https://www.templesinaidc.org/event/wtf-washingtons-totally-fine-part-2/
LOCATION:MD
CATEGORIES:Community,Davis Center for Social Justice,Spotlight
ATTACH;FMTTYPE=image/jpeg:https://www.templesinaidc.org/wp-content/uploads/2025/04/WTF-Program.jpg
END:VEVENT
BEGIN:VEVENT
DTSTART;TZID=America/New_York:20251026T150000
DTEND;TZID=America/New_York:20251026T180000
DTSTAMP:20260424T163143
CREATED:20250610T121951Z
LAST-MODIFIED:20251013T145435Z
UID:10003005-1761490800-1761501600@www.templesinaidc.org
SUMMARY:Mah Jongg Fun Day in Support of Abortion Access
DESCRIPTION:Bring your friends\, your spouse or partner\, or anyone who wants to play or learn to play including non-Temple Sinai members.\nExperienced Mavens—will have designated tables\nBeginners and Learners—will get special instruction from Mavens at each table \nAll Proceeds will benefit the Red Tent Fund\, a non profit national abortion fund founded in 2024 and rooted in the Jewish values and teachings that affirm the right to abortion for all. In addition to learning and playing\, the afternoon will include mingling\, snacks to fuel your Mah-Jongg engine\, and a few words about the Red Tent Fund. \nFor more information or questions\, email templesinaiwrj@gmail.com \nRegister
URL:https://www.templesinaidc.org/event/mah-jongg-fun-day-in-support-of-abortion-access/
LOCATION:MD
CATEGORIES:Community,Davis Center for Social Justice,Spotlight,TSWRJ
ATTACH;FMTTYPE=image/jpeg:https://www.templesinaidc.org/wp-content/uploads/2025/06/Maj-Fun-Day-2025-top-half.jpg
END:VEVENT
BEGIN:VEVENT
DTSTART;TZID=America/New_York:20251016T100000
DTEND;TZID=America/New_York:20251016T120000
DTSTAMP:20260424T163143
CREATED:20250820T193342Z
LAST-MODIFIED:20250912T160508Z
UID:10003800-1760608800-1760616000@www.templesinaidc.org
SUMMARY:Volunteering at A Wider Circle
DESCRIPTION:Volunteer at A Wider Circle with your fellow TS members! Lunch is not included in this program but those interested in going to Parkway Deli afterwards are more than welcome! If you have questions\, please contact Jim Jaffe or Ed Cohen. \nRSVP
URL:https://www.templesinaidc.org/event/volunteering-at-a-wider-circle-4/2025-10-16/
LOCATION:A Wider Circle – 9159 Brookville Rd\, Silver Spring\, MD\, United States
CATEGORIES:Davis Center for Social Justice,Social Action,Spotlight,TSMRJ
ATTACH;FMTTYPE=image/jpeg:https://www.templesinaidc.org/wp-content/uploads/2025/02/TSMRJ-Wider-Circle-scaled.jpg
GEO:39.003109;-77.029648
END:VEVENT
BEGIN:VEVENT
DTSTART;TZID=America/New_York:20250921T100000
DTEND;TZID=America/New_York:20250921T120000
DTSTAMP:20260424T163143
CREATED:20250829T162733Z
LAST-MODIFIED:20250829T162733Z
UID:10003332-1758448800-1758456000@www.templesinaidc.org
SUMMARY:Collective Elul Reflection Circle
DESCRIPTION:Congregants ages 16+ are invited to gather for for a community-building circle during this significant time in the Jewish calendar. We will reflect on the past year’s actions and set intentions for the coming year. \nHosted by the Multi-Racial Sinai Committee\, this circle will provide a formal and democratic process for sharing within a boundaried\, safe space. Our prompting questions will center themes of liberation\, justice\, and community. \nHaving a space where we can intentionally be present with others\, helps us gain insights\, accelerate personal learning and build relationships. Our hope is that this circle will give us individual and collective strength to pursue Tikkun Olam in the coming year. \nRegister here
URL:https://www.templesinaidc.org/event/collective-elul-reflection-circle/
LOCATION:Temple Sinai – 3100 Military Road NW\, Washington\, DC\, United States
CATEGORIES:Community,Davis Center for Social Justice,Spotlight
GEO:38.96926;-77.070949
END:VEVENT
BEGIN:VEVENT
DTSTART;TZID=America/New_York:20250918T190000
DTEND;TZID=America/New_York:20250918T210000
DTSTAMP:20260424T163143
CREATED:20250814T182420Z
LAST-MODIFIED:20250829T172315Z
UID:10003625-1758222000-1758229200@www.templesinaidc.org
SUMMARY:Davis Center Docs: Zurawski v Texas
DESCRIPTION:Women denied abortions in Texas despite life-threatening circumstances join forces with a lawyer to file a lawsuit against the state\, aiming to restore reproductive rights for themselves and others. \nJoin Temple Sinai and the Davis Center for Social Justice at the Avalon Theatre in NW DC for a screening of the critically acclaimed documentary Zurawski v Texas followed by a Q&A with Molly Duane\, the attorney featured in the film. \nView the trailer \nPurchase tickets
URL:https://www.templesinaidc.org/event/zurawski-v-texas/
LOCATION:Avalon Theatre
CATEGORIES:Davis Center for Social Justice,Spotlight
ATTACH;FMTTYPE=image/png:https://www.templesinaidc.org/wp-content/uploads/2025/08/Email.png
END:VEVENT
BEGIN:VEVENT
DTSTART;TZID=America/New_York:20250918T100000
DTEND;TZID=America/New_York:20250918T120000
DTSTAMP:20260424T163143
CREATED:20250820T193342Z
LAST-MODIFIED:20250912T160508Z
UID:10003627-1758189600-1758196800@www.templesinaidc.org
SUMMARY:Volunteering at A Wider Circle
DESCRIPTION:Volunteer at A Wider Circle with your fellow TS members! Lunch is not included in this program but those interested in going to Parkway Deli afterwards are more than welcome! If you have questions\, please contact Jim Jaffe or Ed Cohen. \nRSVP
URL:https://www.templesinaidc.org/event/volunteering-at-a-wider-circle-4/2025-09-18/
LOCATION:A Wider Circle – 9159 Brookville Rd\, Silver Spring\, MD\, United States
CATEGORIES:Davis Center for Social Justice,Social Action,Spotlight,TSMRJ
ATTACH;FMTTYPE=image/jpeg:https://www.templesinaidc.org/wp-content/uploads/2025/02/TSMRJ-Wider-Circle-scaled.jpg
GEO:39.003109;-77.029648
END:VEVENT
BEGIN:VEVENT
DTSTART;TZID=America/New_York:20250821T100000
DTEND;TZID=America/New_York:20250821T120000
DTSTAMP:20260424T163143
CREATED:20250520T143119Z
LAST-MODIFIED:20250520T171729Z
UID:10002900-1755770400-1755777600@www.templesinaidc.org
SUMMARY:Serve with Sinai Summer 2025
DESCRIPTION:We know that summer often brings extra free time. Whether you are retired\, between jobs\, or a teen looking for SSL hours\, spend time with fellow volunteers this summer while doing good work for our community. Advanced registration required. \nWednesday\, June 18\, 10am – 12pm (A Wider Circle\, 9159 Brookville Road\, Silver Spring)\nTuesday\, June 24\, 10am – 12pm (DC Diaper Bank\, 8860 Monard Drive\, Silver Spring) – TEENS ONLY\nThursday\, July 17\, 10am – 12pm (A Wider Circle\, 9159 Brookville Road\, Silver Spring)\nThursday\, August 21\, 10am – 12pm (A Wider Circle\, 9159 Brookville Road\, Silver Spring) \nRegister here \nA note for our teen volunteers: For A Wider Circle\, volunteers under 14 are welcome if they are accompanied by an adult. (Please register each person attending separately.) The teen volunteer session at DC Diaper Bank on Tuesday\, June 24 will be staffed by Temple Sinai clergy so kids 12 and up can attend on their own. \nIf you have questions\, please contact Jenny Cohen.
URL:https://www.templesinaidc.org/event/serve-with-sinai-summer-2025/2025-08-21/
LOCATION:A Wider Circle – 9159 Brookville Rd\, Silver Spring\, MD\, United States
CATEGORIES:Community,Davis Center for Social Justice,Social Action,Spotlight,Temple Teens,TSMRJ
ATTACH;FMTTYPE=image/png:https://www.templesinaidc.org/wp-content/uploads/2025/05/Serve-with-Sinai.png
GEO:39.003109;-77.029648
END:VEVENT
BEGIN:VEVENT
DTSTART;TZID=America/New_York:20250717T100000
DTEND;TZID=America/New_York:20250717T120000
DTSTAMP:20260424T163143
CREATED:20250520T143119Z
LAST-MODIFIED:20250520T171729Z
UID:10002899-1752746400-1752753600@www.templesinaidc.org
SUMMARY:Serve with Sinai Summer 2025
DESCRIPTION:We know that summer often brings extra free time. Whether you are retired\, between jobs\, or a teen looking for SSL hours\, spend time with fellow volunteers this summer while doing good work for our community. Advanced registration required. \nWednesday\, June 18\, 10am – 12pm (A Wider Circle\, 9159 Brookville Road\, Silver Spring)\nTuesday\, June 24\, 10am – 12pm (DC Diaper Bank\, 8860 Monard Drive\, Silver Spring) – TEENS ONLY\nThursday\, July 17\, 10am – 12pm (A Wider Circle\, 9159 Brookville Road\, Silver Spring)\nThursday\, August 21\, 10am – 12pm (A Wider Circle\, 9159 Brookville Road\, Silver Spring) \nRegister here \nA note for our teen volunteers: For A Wider Circle\, volunteers under 14 are welcome if they are accompanied by an adult. (Please register each person attending separately.) The teen volunteer session at DC Diaper Bank on Tuesday\, June 24 will be staffed by Temple Sinai clergy so kids 12 and up can attend on their own. \nIf you have questions\, please contact Jenny Cohen.
URL:https://www.templesinaidc.org/event/serve-with-sinai-summer-2025/2025-07-17/
LOCATION:A Wider Circle – 9159 Brookville Rd\, Silver Spring\, MD\, United States
CATEGORIES:Community,Davis Center for Social Justice,Social Action,Spotlight,Temple Teens,TSMRJ
ATTACH;FMTTYPE=image/png:https://www.templesinaidc.org/wp-content/uploads/2025/05/Serve-with-Sinai.png
GEO:39.003109;-77.029648
END:VEVENT
BEGIN:VEVENT
DTSTART;TZID=America/New_York:20250624T100000
DTEND;TZID=America/New_York:20250624T120000
DTSTAMP:20260424T163143
CREATED:20250520T143119Z
LAST-MODIFIED:20250520T171729Z
UID:10002898-1750759200-1750766400@www.templesinaidc.org
SUMMARY:Serve with Sinai Summer 2025
DESCRIPTION:We know that summer often brings extra free time. Whether you are retired\, between jobs\, or a teen looking for SSL hours\, spend time with fellow volunteers this summer while doing good work for our community. Advanced registration required. \nWednesday\, June 18\, 10am – 12pm (A Wider Circle\, 9159 Brookville Road\, Silver Spring)\nTuesday\, June 24\, 10am – 12pm (DC Diaper Bank\, 8860 Monard Drive\, Silver Spring) – TEENS ONLY\nThursday\, July 17\, 10am – 12pm (A Wider Circle\, 9159 Brookville Road\, Silver Spring)\nThursday\, August 21\, 10am – 12pm (A Wider Circle\, 9159 Brookville Road\, Silver Spring) \nRegister here \nA note for our teen volunteers: For A Wider Circle\, volunteers under 14 are welcome if they are accompanied by an adult. (Please register each person attending separately.) The teen volunteer session at DC Diaper Bank on Tuesday\, June 24 will be staffed by Temple Sinai clergy so kids 12 and up can attend on their own. \nIf you have questions\, please contact Jenny Cohen.
URL:https://www.templesinaidc.org/event/serve-with-sinai-summer-2025/2025-06-24/
LOCATION:A Wider Circle – 9159 Brookville Rd\, Silver Spring\, MD\, United States
CATEGORIES:Community,Davis Center for Social Justice,Social Action,Spotlight,Temple Teens,TSMRJ
ATTACH;FMTTYPE=image/png:https://www.templesinaidc.org/wp-content/uploads/2025/05/Serve-with-Sinai.png
GEO:39.003109;-77.029648
END:VEVENT
BEGIN:VEVENT
DTSTART;TZID=America/New_York:20250618T100000
DTEND;TZID=America/New_York:20250618T120000
DTSTAMP:20260424T163143
CREATED:20250520T143119Z
LAST-MODIFIED:20250520T171729Z
UID:10002897-1750240800-1750248000@www.templesinaidc.org
SUMMARY:Serve with Sinai Summer 2025
DESCRIPTION:We know that summer often brings extra free time. Whether you are retired\, between jobs\, or a teen looking for SSL hours\, spend time with fellow volunteers this summer while doing good work for our community. Advanced registration required. \nWednesday\, June 18\, 10am – 12pm (A Wider Circle\, 9159 Brookville Road\, Silver Spring)\nTuesday\, June 24\, 10am – 12pm (DC Diaper Bank\, 8860 Monard Drive\, Silver Spring) – TEENS ONLY\nThursday\, July 17\, 10am – 12pm (A Wider Circle\, 9159 Brookville Road\, Silver Spring)\nThursday\, August 21\, 10am – 12pm (A Wider Circle\, 9159 Brookville Road\, Silver Spring) \nRegister here \nA note for our teen volunteers: For A Wider Circle\, volunteers under 14 are welcome if they are accompanied by an adult. (Please register each person attending separately.) The teen volunteer session at DC Diaper Bank on Tuesday\, June 24 will be staffed by Temple Sinai clergy so kids 12 and up can attend on their own. \nIf you have questions\, please contact Jenny Cohen.
URL:https://www.templesinaidc.org/event/serve-with-sinai-summer-2025/2025-06-18/
LOCATION:A Wider Circle – 9159 Brookville Rd\, Silver Spring\, MD\, United States
CATEGORIES:Community,Davis Center for Social Justice,Social Action,Spotlight,Temple Teens,TSMRJ
ATTACH;FMTTYPE=image/png:https://www.templesinaidc.org/wp-content/uploads/2025/05/Serve-with-Sinai.png
GEO:39.003109;-77.029648
END:VEVENT
BEGIN:VEVENT
DTSTART;TZID=America/New_York:20250508T190000
DTEND;TZID=America/New_York:20250508T203000
DTSTAMP:20260424T163143
CREATED:20250415T115012Z
LAST-MODIFIED:20250424T201758Z
UID:10002725-1746730800-1746736200@www.templesinaidc.org
SUMMARY:WTF: Washington's Totally Fine!
DESCRIPTION:We are feeling the weight of these unprecedented times in Washington\, DC. Join us to learn about what is happening from experts in our Temple Sinai congregation and spend time with our community. The evening will begin with a panel of Sinai members representing a broad range of perspectives\, reflecting on the significance of this moment\, and how it is impacting our community and our city. \nPanelists: \n\nLynn Sweet\, Washington Bureau Chief from the Chicago Sun Times\,\nSteve Vladeck\, Professor at Georgetown Law Center\, author of NYT bestseller “The Shadow Docket”\,\nRoyce Murray\, Former Assistant Secretary for Border and Immigration Policy at the Department of Homeland Security\,\nMatt Frumin\, DC Councilmember\, Ward 3\nJamie Gorelick\, Partner at WilmerHale\, Former United States Deputy Attorney General\n\nThe panel will be followed by pizza\, beer and a chance to keep talking to each other. Join us for an evening of learning\, networking\, and conspiring. \nWhile we hope you can join us in person\, the panel portion of the program can be viewed virtually. Please indicate your preference when you register.
URL:https://www.templesinaidc.org/event/wtf-washingtons-totally-fine/
LOCATION:Temple Sinai – 3100 Military Road NW\, Washington\, DC\, United States
CATEGORIES:Community,Davis Center for Social Justice,Spotlight
ATTACH;FMTTYPE=image/jpeg:https://www.templesinaidc.org/wp-content/uploads/2025/04/WTF-Program.jpg
GEO:38.96926;-77.070949
END:VEVENT
BEGIN:VEVENT
DTSTART;TZID=America/New_York:20250504T100000
DTEND;TZID=America/New_York:20250504T120000
DTSTAMP:20260424T163143
CREATED:20250416T141323Z
LAST-MODIFIED:20250421T142933Z
UID:10002635-1746352800-1746360000@www.templesinaidc.org
SUMMARY:Multiracial Sinai Open House
DESCRIPTION:
URL:https://www.templesinaidc.org/event/multiracial-sinai-open-house/
LOCATION:Temple Sinai – 3100 Military Road NW\, Washington\, DC\, United States
CATEGORIES:Adult Education,Community,Davis Center for Social Justice,Social Action
GEO:38.96926;-77.070949
END:VEVENT
BEGIN:VEVENT
DTSTART;TZID=America/New_York:20250427T150000
DTEND;TZID=America/New_York:20250427T170000
DTSTAMP:20260424T163143
CREATED:20250324T151223Z
LAST-MODIFIED:20250407T154207Z
UID:10002615-1745766000-1745773200@www.templesinaidc.org
SUMMARY:Live Taping of “Outlawed” Podcast
DESCRIPTION:“A Rabbi\, A Reverend\, and an Abortionist Walk into a Podcast”\nJoin us at Temple Sinai for a special live taping of “Outlawed“\, the groundbreaking podcast that brings real stories and urgent conversations around reproductive health\, rights\, and justice directly to listeners. Co-hosted by Dr. Beverly Gray and Dr. Jonas Swartz\, Outlawed highlights the voices of patients\, providers\, and advocates navigating the shifting landscape of reproductive healthcare in America. \nFor this unique event\, Bev and Jonas will be joined by Rabbi Hannah Goldstein of Temple Sinai in Washington\, DC and Reverend Katey Zeh\, CEO of the Religious Community for Reproductive Choice.  Together\, they will bring an interfaith lens to the conversation and exploring how faith communities\, healthcare providers\, and advocates can stand together for reproductive dignity. \nFollowing the taping\, join us for a reception with light refreshments and the opportunity to continue the conversation with fellow attendees\, advocates\, and community leaders. \nRegister here. \nSponsorship opportunities are available; learn more here.
URL:https://www.templesinaidc.org/event/live-taping-of-outlawed-podcast/
LOCATION:Temple Sinai – 3100 Military Road NW\, Washington\, DC\, United States
CATEGORIES:Davis Center for Social Justice,Spotlight
ATTACH;FMTTYPE=image/jpeg:https://www.templesinaidc.org/wp-content/uploads/2025/03/Email_Web-Graphic.jpg
GEO:38.96926;-77.070949
END:VEVENT
BEGIN:VEVENT
DTSTART;TZID=America/New_York:20250302T150000
DTEND;TZID=America/New_York:20250302T170000
DTSTAMP:20260424T163143
CREATED:20250220T142413Z
LAST-MODIFIED:20250301T231555Z
UID:10002508-1740927600-1740934800@www.templesinaidc.org
SUMMARY:JOIN OR DIE Screening
DESCRIPTION:Register: https://templesinaidc.shulcloud.com/form/join-or-die
URL:https://www.templesinaidc.org/event/join-or-die-screening-2/
LOCATION:Temple Sinai – 3100 Military Road NW\, Washington\, DC\, United States
CATEGORIES:Adult Education,Davis Center for Social Justice,TSWRJ
ATTACH;FMTTYPE=image/png:https://www.templesinaidc.org/wp-content/uploads/2025/02/Join-or-Die-Screening-Slide.png
GEO:38.96926;-77.070949
END:VEVENT
BEGIN:VEVENT
DTSTART;TZID=America/New_York:20250223T113000
DTEND;TZID=America/New_York:20250223T123000
DTSTAMP:20260424T163143
CREATED:20250207T175657Z
LAST-MODIFIED:20250222T222038Z
UID:10000471-1740310200-1740313800@www.templesinaidc.org
SUMMARY:Organizing in a New Administration: Where Do We Go From Here?
DESCRIPTION:Register: https://templesinaidc.shulcloud.com/form/post-inauguration-discussion.html
URL:https://www.templesinaidc.org/event/organizing-in-a-new-administration-where-do-we-go-from-here/
LOCATION:Temple Sinai – 3100 Military Road NW\, Washington\, DC\, United States
CATEGORIES:Adult Education,Community,Davis Center for Social Justice,Social Action,Temple Teens
GEO:38.96926;-77.070949
END:VEVENT
BEGIN:VEVENT
DTSTART;TZID=America/New_York:20250221T183000
DTEND;TZID=America/New_York:20250221T193000
DTSTAMP:20260424T163143
CREATED:20250213T142706Z
LAST-MODIFIED:20250213T142706Z
UID:10002166-1740162600-1740166200@www.templesinaidc.org
SUMMARY:Repro Shabbat Service
DESCRIPTION:Please join us for Temple Sinai’s Reproductive Rights Shabbat with guest speaker\, Darcy Hirsh\, Director of Government Relations and Advocacy at the National Council of Jewish Women (NCJW)\, and a Temple Sinai member. Ms. Hirsh leads the organization’s policy work at the local\, state\, and federal levels\, as well as its critical advocacy in the courts. She will share her insights about the changing political environment. Our annual service coincides with Parshat Mishpatim to honor the Jewish value of reproductive freedom. \n\nCalling all clinicians\, advocates\, volunteers\, and educators of reproductive access and choices. Please join us for a photo with Darcy Hirsh immediately following Shabbat services.  Thank you for your important work!\n\nClick here for livestream.  \nServices are preceded by an oneg beginning at 5:45 pm. \nIn honor of our guest speaker\, we are recommending donations to NCJW’s Jewish Fund for Abortion Access. This fund supports patients by providing financial assistance to organizations directly helping those in need\, funds NCJW’s rapid response actions— including preparing amicus briefs in lawsuits—and supports abortion justice advocacy and education at the state and local levels.
URL:https://www.templesinaidc.org/event/shabbat-service-6-4/
LOCATION:Temple Sinai – 3100 Military Road NW\, Washington\, DC\, United States
CATEGORIES:Davis Center for Social Justice,Worship
ATTACH;FMTTYPE=image/png:https://www.templesinaidc.org/wp-content/uploads/2025/02/Repro-Shabbat-Social-Graphic-Template.png
GEO:38.96926;-77.070949
END:VEVENT
BEGIN:VEVENT
DTSTART;TZID=America/New_York:20250214T183000
DTEND;TZID=America/New_York:20250214T193000
DTSTAMP:20260424T163143
CREATED:20250213T142419Z
LAST-MODIFIED:20250213T142420Z
UID:10002165-1739557800-1739561400@www.templesinaidc.org
SUMMARY:Refugee Shabbat Service
DESCRIPTION:Join us for this special Shabbat service where we will be hearing from participants of our upcoming Border Trip. They will share their experiences of visiting the border communities and what we can do in our own community on this important issue. \nClick here for livestream. \n\n\n\nThe service will be preceded by an oneg featuring catering from Immigrant Food starting at 5:45 pm.
URL:https://www.templesinaidc.org/event/shabbat-service-6-3/
LOCATION:Temple Sinai – 3100 Military Road NW\, Washington\, DC\, United States
CATEGORIES:Davis Center for Social Justice,Worship
ATTACH;FMTTYPE=image/png:https://www.templesinaidc.org/wp-content/uploads/2025/02/HIAS-Refugee-Shabbat-2025.png
GEO:38.96926;-77.070949
END:VEVENT
END:VCALENDAR