BEGIN:VCALENDAR
VERSION:2.0
PRODID:-//Temple Sinai - ECPv6.15.20//NONSGML v1.0//EN
CALSCALE:GREGORIAN
METHOD:PUBLISH
X-ORIGINAL-URL:https://www.templesinaidc.org
X-WR-CALDESC:Events for Temple Sinai
REFRESH-INTERVAL;VALUE=DURATION:PT1H
X-Robots-Tag:noindex
X-PUBLISHED-TTL:PT1H
BEGIN:VTIMEZONE
TZID:America/New_York
BEGIN:DAYLIGHT
TZOFFSETFROM:-0500
TZOFFSETTO:-0400
TZNAME:EDT
DTSTART:20250309T070000
END:DAYLIGHT
BEGIN:STANDARD
TZOFFSETFROM:-0400
TZOFFSETTO:-0500
TZNAME:EST
DTSTART:20251102T060000
END:STANDARD
BEGIN:DAYLIGHT
TZOFFSETFROM:-0500
TZOFFSETTO:-0400
TZNAME:EDT
DTSTART:20260308T070000
END:DAYLIGHT
BEGIN:STANDARD
TZOFFSETFROM:-0400
TZOFFSETTO:-0500
TZNAME:EST
DTSTART:20261101T060000
END:STANDARD
BEGIN:DAYLIGHT
TZOFFSETFROM:-0500
TZOFFSETTO:-0400
TZNAME:EDT
DTSTART:20270314T070000
END:DAYLIGHT
BEGIN:STANDARD
TZOFFSETFROM:-0400
TZOFFSETTO:-0500
TZNAME:EST
DTSTART:20271107T060000
END:STANDARD
END:VTIMEZONE
BEGIN:VEVENT
DTSTART;TZID=America/New_York:20260426T090000
DTEND;TZID=America/New_York:20260426T130000
DTSTAMP:20260424T113607
CREATED:20260331T160614Z
LAST-MODIFIED:20260331T160614Z
UID:10004254-1777194000-1777208400@www.templesinaidc.org
SUMMARY:Planting Hope Native Plant Pickup Day
DESCRIPTION:Sacred Grounds: A Community Native Plant Program\nTemple Sinai’s Green Team is launching Sacred Grounds\, a National Wildlife Federation program supported locally by Interfaith Power & Light and Interfaith Partners for the Chesapeake. This initiative focuses on planting native species to support wildlife\, protect local water\, and care for our community and future generations. \nRegister to receive free native plants to plant at home. Pick up your plants at Temple Sinai on April 26 and help create habitat for local wildlife.
URL:https://www.templesinaidc.org/event/planting-hope-native-plant-pickup-day/
CATEGORIES:Davis Center for Social Justice,Spotlight
ATTACH;FMTTYPE=image/jpeg:https://www.templesinaidc.org/wp-content/uploads/2026/01/Native-Plants.jpg
END:VEVENT
BEGIN:VEVENT
DTSTART;TZID=America/New_York:20260426T100000
DTEND;TZID=America/New_York:20260426T110000
DTSTAMP:20260424T113607
CREATED:20260213T164701Z
LAST-MODIFIED:20260415T192531Z
UID:10004264-1777197600-1777201200@www.templesinaidc.org
SUMMARY:CIESJ Book Discussion
DESCRIPTION:Join Congregation Ramot Shalom of Be’er Shevah and Temple Sinai of DC for a virtual book discussion of The Hilltop by Assaf Gavron. This book should open up a very intense and significant conversation about issues in contemporary Israel. \nRegister to join via Zoom \n  \nA sprawling\, daring novel\, which dismantles the extreme and absurd reality in the Israeli-occupied West Bank: Catch 22 meets 21st century Israel. Violence\, greed\, lust for power and the blurring of values\, but also a burning ideological passion. As always\, Gavron charts a path between styles and genres\, between realism and satire\, between being earnest and wildly funny. Gavron wrote parts of The Hilltop in a cabin in a settlement in the West Bank.
URL:https://www.templesinaidc.org/event/ciesj-book-discussion-5/
CATEGORIES:Israel Engagement & Social Justice,Spotlight
ATTACH;FMTTYPE=image/jpeg:https://www.templesinaidc.org/wp-content/uploads/2026/02/The-Hilltop-Crop.jpg
LOCATION:https://www.templesinaidc.org/event/ciesj-book-discussion-5/
END:VEVENT
BEGIN:VEVENT
DTSTART;TZID=America/New_York:20260507T190000
DTEND;TZID=America/New_York:20260507T210000
DTSTAMP:20260424T113607
CREATED:20260421T142758Z
LAST-MODIFIED:20260421T142758Z
UID:10004375-1778180400-1778187600@www.templesinaidc.org
SUMMARY:WTF: Washington's Totally Fine! (Part 3)
DESCRIPTION:We are feeling the weight of these unprecedented times in Washington\, DC. Join us to learn about what is happening from experts in our Temple Sinai congregation and spend time with our community. The evening will begin with a panel of Sinai members representing a broad range of perspectives\, reflecting on how current events are impacting our community and our city. \nPanelists are: \n\nLibby Anker\, Professor of American Studies and Political Science at GW University\,\nBecca Kelly Slaughter\, Former Commissioner of the United States Federal Trade Commission\,\nSam Stein\, Managing Editor for the media company The Bulwark\, and a contributor for MSNBC\,\nSteve Vladeck\, Professor at Georgetown Law Center\, author of NYT bestseller “The Shadow Docket”\nWilliam Wechsler\, Senior Director of the Rafik Hariri Center and Middle East Programs at the Atlantic Council.\n\nThe panel will be followed by pizza\, beer and a chance to keep talking to each other. Join us for an evening of learning\, networking\, and conspiring. \nWhile we hope you can join us in person\, the panel portion of the program can be viewed virtually. Please indicate your preference when you register. \nREGISTER
URL:https://www.templesinaidc.org/event/wtf-washingtons-totally-fine-part-3/
CATEGORIES:Community,Davis Center for Social Justice,Spotlight
ATTACH;FMTTYPE=image/jpeg:https://www.templesinaidc.org/wp-content/uploads/2025/04/WTF-Program.jpg
END:VEVENT
BEGIN:VEVENT
DTSTART;TZID=America/New_York:20260510T074500
DTEND;TZID=America/New_York:20260510T100000
DTSTAMP:20260424T113607
CREATED:20251205T162328Z
LAST-MODIFIED:20260324T121517Z
UID:10004086-1778399100-1778407200@www.templesinaidc.org
SUMMARY:Tricia Davis 5K for Sinai House
DESCRIPTION:Celebrate Mother’s Day with us at the 12th Annual Tricia Davis 5K for Sinai House in Rock Creek Park. Ample\, free parking is available\, and strollers and dogs are welcome. \nRegister \nWe run\, walk\, and celebrate in honor of the memory of Tricia Davis\, who was committed to combating homelessness and turned this commitment towards the establishment and longevity of Sinai House.  Proceeds from the event will directly benefit Sinai House\, a residential social service program in Washington\, DC\, founded by Temple Sinai members\, in its mission to enable families to move from homelessness to self-sufficiency by providing safe and affordable housing\, comprehensive social services and financial support.  \nTo learn more about Sinai House’s mission and what we do\, visit www.SinaiHouse.org.
URL:https://www.templesinaidc.org/event/tricia-davis-5k-for-sinai-house-2/
LOCATION:Rock Creek Park Carter Barron Amphitheater\, 4850 Colorado Ave NW\, Washington\, DC\, 20011\, United States
CATEGORIES:Community,Sinai House,Social Action,Spotlight
ATTACH;FMTTYPE=image/jpeg:https://www.templesinaidc.org/wp-content/uploads/2025/04/SH5K2024RaceStart3.jpg
END:VEVENT
BEGIN:VEVENT
DTSTART;TZID=America/New_York:20260521T100000
DTEND;TZID=America/New_York:20260521T120000
DTSTAMP:20260424T113607
CREATED:20250820T193342Z
LAST-MODIFIED:20250912T160508Z
UID:10003807-1779357600-1779364800@www.templesinaidc.org
SUMMARY:Volunteering at A Wider Circle
DESCRIPTION:Volunteer at A Wider Circle with your fellow TS members! Lunch is not included in this program but those interested in going to Parkway Deli afterwards are more than welcome! If you have questions\, please contact Jim Jaffe or Ed Cohen. \nRSVP
URL:https://www.templesinaidc.org/event/volunteering-at-a-wider-circle-4/2026-05-21/
LOCATION:A Wider Circle – 9159 Brookville Rd\, Silver Spring\, MD\, United States
CATEGORIES:Davis Center for Social Justice,Social Action,Spotlight,TSMRJ
ATTACH;FMTTYPE=image/jpeg:https://www.templesinaidc.org/wp-content/uploads/2025/02/TSMRJ-Wider-Circle-scaled.jpg
GEO:39.003109;-77.029648
END:VEVENT
BEGIN:VEVENT
DTSTART;TZID=America/New_York:20260618T100000
DTEND;TZID=America/New_York:20260618T120000
DTSTAMP:20260424T113607
CREATED:20250820T193342Z
LAST-MODIFIED:20250912T160508Z
UID:10003808-1781776800-1781784000@www.templesinaidc.org
SUMMARY:Volunteering at A Wider Circle
DESCRIPTION:Volunteer at A Wider Circle with your fellow TS members! Lunch is not included in this program but those interested in going to Parkway Deli afterwards are more than welcome! If you have questions\, please contact Jim Jaffe or Ed Cohen. \nRSVP
URL:https://www.templesinaidc.org/event/volunteering-at-a-wider-circle-4/2026-06-18/
LOCATION:A Wider Circle – 9159 Brookville Rd\, Silver Spring\, MD\, United States
CATEGORIES:Davis Center for Social Justice,Social Action,Spotlight,TSMRJ
ATTACH;FMTTYPE=image/jpeg:https://www.templesinaidc.org/wp-content/uploads/2025/02/TSMRJ-Wider-Circle-scaled.jpg
GEO:39.003109;-77.029648
END:VEVENT
END:VCALENDAR