BEGIN:VCALENDAR
VERSION:2.0
PRODID:-//Temple Sinai - ECPv6.15.20//NONSGML v1.0//EN
CALSCALE:GREGORIAN
METHOD:PUBLISH
X-ORIGINAL-URL:https://www.templesinaidc.org
X-WR-CALDESC:Events for Temple Sinai
REFRESH-INTERVAL;VALUE=DURATION:PT1H
X-Robots-Tag:noindex
X-PUBLISHED-TTL:PT1H
BEGIN:VTIMEZONE
TZID:America/New_York
BEGIN:DAYLIGHT
TZOFFSETFROM:-0500
TZOFFSETTO:-0400
TZNAME:EDT
DTSTART:20250309T070000
END:DAYLIGHT
BEGIN:STANDARD
TZOFFSETFROM:-0400
TZOFFSETTO:-0500
TZNAME:EST
DTSTART:20251102T060000
END:STANDARD
BEGIN:DAYLIGHT
TZOFFSETFROM:-0500
TZOFFSETTO:-0400
TZNAME:EDT
DTSTART:20260308T070000
END:DAYLIGHT
BEGIN:STANDARD
TZOFFSETFROM:-0400
TZOFFSETTO:-0500
TZNAME:EST
DTSTART:20261101T060000
END:STANDARD
BEGIN:DAYLIGHT
TZOFFSETFROM:-0500
TZOFFSETTO:-0400
TZNAME:EDT
DTSTART:20270314T070000
END:DAYLIGHT
BEGIN:STANDARD
TZOFFSETFROM:-0400
TZOFFSETTO:-0500
TZNAME:EST
DTSTART:20271107T060000
END:STANDARD
END:VTIMEZONE
BEGIN:VEVENT
DTSTART;TZID=America/New_York:20260501T180000
DTEND;TZID=America/New_York:20260501T203000
DTSTAMP:20260424T003439
CREATED:20260401T132408Z
LAST-MODIFIED:20260401T132408Z
UID:10004342-1777658400-1777667400@www.templesinaidc.org
SUMMARY:Member Connection Shabbat Oneg
DESCRIPTION:Join the Membership Committee and lay leaders for an evening of connection around our weekly Shabbat service with all of our clergy and Cantor-in-Residence Becky Mann. The musical service is at 6:30 pm; our special oneg will begin at 6:00 pm and continue after the service concludes. Join us when it works for you! \nRSVP
URL:https://www.templesinaidc.org/event/member-connection-shabbat-oneg/
LOCATION:DC
CATEGORIES:Community,Spotlight,Worship
ATTACH;FMTTYPE=image/jpeg:https://www.templesinaidc.org/wp-content/uploads/2026/04/Member-Connection-Shabbat-Graphic.jpg
END:VEVENT
BEGIN:VEVENT
DTSTART;TZID=America/New_York:20260502T091500
DTEND;TZID=America/New_York:20260502T101500
DTSTAMP:20260424T003439
CREATED:20250211T185134Z
LAST-MODIFIED:20250430T194932Z
UID:10000910-1777713300-1777716900@www.templesinaidc.org
SUMMARY:Torah Study
DESCRIPTION:Join us in person or virtually every Saturday morning for a discussion of the Torah reading for the week led by our clergy. No RSVP necessary. \nVisit the Google Classroom \nClick to join via Zoom (Meeting ID: 839 7118 5697)
URL:https://www.templesinaidc.org/event/torah-study-119/2026-05-02/
LOCATION:Temple Sinai – 3100 Military Road NW\, Washington\, DC\, United States
CATEGORIES:Adult Education,Spotlight
ATTACH;FMTTYPE=image/jpeg:https://www.templesinaidc.org/wp-content/uploads/2025/02/IMG-450-scaled.jpg
GEO:38.96926;-77.070949
END:VEVENT
BEGIN:VEVENT
DTSTART;TZID=America/New_York:20260502T150000
DTEND;TZID=America/New_York:20260502T170000
DTSTAMP:20260424T003439
CREATED:20260410T154500Z
LAST-MODIFIED:20260415T180845Z
UID:10004366-1777734000-1777741200@www.templesinaidc.org
SUMMARY:Sinai South Gathering
DESCRIPTION:Meet Your Sinai Neighbors! \nThose living in DC\, south of Temple Sinai\, are invited to an informal gathering at a member’s home in Dupont. Enjoy meeting your neighbors\, perhaps there’s even someone on your block. Past Sinai South gatherings have included Dupont\, West End\, Foggy Bottom\, Georgetown\, and others within walking distance of these neighborhoods. Address will be provided via confirmation email after you RSVP. \nRSVP here.
URL:https://www.templesinaidc.org/event/sinai-south-gathering/
LOCATION:DC
CATEGORIES:Community,Spotlight
END:VEVENT
BEGIN:VEVENT
DTSTART;TZID=America/New_York:20260505T100000
DTEND;TZID=America/New_York:20260505T113000
DTSTAMP:20260424T003439
CREATED:20251013T180547Z
LAST-MODIFIED:20251015T200131Z
UID:10003930-1777975200-1777980600@www.templesinaidc.org
SUMMARY:Tuesday Adult Class
DESCRIPTION:This year’s theme is Jewish liturgy and services. Please purchase a copy of the book Inviting God In: A Guide to Jewish Prayer by Rabbi Jeffrey K. Salkin. In-person and virtual participation welcome. \nThis class is taught by Rabbi Jon Roos and meets on the 1st and 3rd Tuesday of the month through Spring 2026. If you have questions\, email Gail Sell. \nVisit the Google classroom.
URL:https://www.templesinaidc.org/event/tuesday-adult-class-9/2026-05-05/
LOCATION:https://templesinaidc-org.zoom.us/j/87033408056
CATEGORIES:Adult Education,Spotlight
ATTACH;FMTTYPE=image/jpeg:https://www.templesinaidc.org/wp-content/uploads/2025/10/2025-2026-Tuesday-Adult-Class.jpg
END:VEVENT
BEGIN:VEVENT
DTSTART;TZID=America/New_York:20260507T190000
DTEND;TZID=America/New_York:20260507T210000
DTSTAMP:20260424T003439
CREATED:20260421T142758Z
LAST-MODIFIED:20260421T142758Z
UID:10004375-1778180400-1778187600@www.templesinaidc.org
SUMMARY:WTF: Washington's Totally Fine! (Part 3)
DESCRIPTION:We are feeling the weight of these unprecedented times in Washington\, DC. Join us to learn about what is happening from experts in our Temple Sinai congregation and spend time with our community. The evening will begin with a panel of Sinai members representing a broad range of perspectives\, reflecting on how current events are impacting our community and our city. \nPanelists are: \n\nLibby Anker\, Professor of American Studies and Political Science at GW University\,\nBecca Kelly Slaughter\, Former Commissioner of the United States Federal Trade Commission\,\nSam Stein\, Managing Editor for the media company The Bulwark\, and a contributor for MSNBC\,\nSteve Vladeck\, Professor at Georgetown Law Center\, author of NYT bestseller “The Shadow Docket”\nWilliam Wechsler\, Senior Director of the Rafik Hariri Center and Middle East Programs at the Atlantic Council.\n\nThe panel will be followed by pizza\, beer and a chance to keep talking to each other. Join us for an evening of learning\, networking\, and conspiring. \nWhile we hope you can join us in person\, the panel portion of the program can be viewed virtually. Please indicate your preference when you register. \nREGISTER
URL:https://www.templesinaidc.org/event/wtf-washingtons-totally-fine-part-3/
LOCATION:DC
CATEGORIES:Community,Davis Center for Social Justice,Spotlight
ATTACH;FMTTYPE=image/jpeg:https://www.templesinaidc.org/wp-content/uploads/2025/04/WTF-Program.jpg
END:VEVENT
BEGIN:VEVENT
DTSTART;TZID=America/New_York:20260508T173000
DTEND;TZID=America/New_York:20260508T193000
DTSTAMP:20260424T003439
CREATED:20251205T162040Z
LAST-MODIFIED:20260421T180447Z
UID:10002229-1778261400-1778268600@www.templesinaidc.org
SUMMARY:Sinai House Homes & Hearts: Family Shabbat Dinner & Service
DESCRIPTION:Join us for Shabbat as we celebrate Sinai House. \n\n4:30 pm Playground Open\n5:00 pm Outdoor Tot Shabbat service\n5:30 pm Family Shabbat Dinner. RSVP for dinner.\n6:30 pm Shabbat Service followed by a festive oneg. Watch livestream.\n\n 
URL:https://www.templesinaidc.org/event/shabbat-service-6-18/
LOCATION:Temple Sinai – 3100 Military Road NW\, Washington\, DC\, United States
CATEGORIES:Community,Sinai House,Spotlight,Worship,Young Families
ATTACH;FMTTYPE=image/jpeg:https://www.templesinaidc.org/wp-content/uploads/2025/02/Homes-Hearts.jpg
GEO:38.96926;-77.070949
END:VEVENT
BEGIN:VEVENT
DTSTART;TZID=America/New_York:20260509T091500
DTEND;TZID=America/New_York:20260509T101500
DTSTAMP:20260424T003439
CREATED:20250211T185134Z
LAST-MODIFIED:20250430T194932Z
UID:10000911-1778318100-1778321700@www.templesinaidc.org
SUMMARY:Torah Study
DESCRIPTION:Join us in person or virtually every Saturday morning for a discussion of the Torah reading for the week led by our clergy. No RSVP necessary. \nVisit the Google Classroom \nClick to join via Zoom (Meeting ID: 839 7118 5697)
URL:https://www.templesinaidc.org/event/torah-study-119/2026-05-09/
LOCATION:Temple Sinai – 3100 Military Road NW\, Washington\, DC\, United States
CATEGORIES:Adult Education,Spotlight
ATTACH;FMTTYPE=image/jpeg:https://www.templesinaidc.org/wp-content/uploads/2025/02/IMG-450-scaled.jpg
GEO:38.96926;-77.070949
END:VEVENT
BEGIN:VEVENT
DTSTART;TZID=America/New_York:20260510T074500
DTEND;TZID=America/New_York:20260510T100000
DTSTAMP:20260424T003439
CREATED:20251205T162328Z
LAST-MODIFIED:20260324T121517Z
UID:10004086-1778399100-1778407200@www.templesinaidc.org
SUMMARY:Tricia Davis 5K for Sinai House
DESCRIPTION:Celebrate Mother’s Day with us at the 12th Annual Tricia Davis 5K for Sinai House in Rock Creek Park. Ample\, free parking is available\, and strollers and dogs are welcome. \nRegister \nWe run\, walk\, and celebrate in honor of the memory of Tricia Davis\, who was committed to combating homelessness and turned this commitment towards the establishment and longevity of Sinai House.  Proceeds from the event will directly benefit Sinai House\, a residential social service program in Washington\, DC\, founded by Temple Sinai members\, in its mission to enable families to move from homelessness to self-sufficiency by providing safe and affordable housing\, comprehensive social services and financial support.  \nTo learn more about Sinai House’s mission and what we do\, visit www.SinaiHouse.org.
URL:https://www.templesinaidc.org/event/tricia-davis-5k-for-sinai-house-2/
LOCATION:Rock Creek Park Carter Barron Amphitheater\, 4850 Colorado Ave NW\, Washington\, DC\, 20011\, United States
CATEGORIES:Community,Sinai House,Social Action,Spotlight
ATTACH;FMTTYPE=image/jpeg:https://www.templesinaidc.org/wp-content/uploads/2025/04/SH5K2024RaceStart3.jpg
END:VEVENT
BEGIN:VEVENT
DTSTART;TZID=America/New_York:20260512T100000
DTEND;TZID=America/New_York:20260512T113000
DTSTAMP:20260424T003439
CREATED:20250813T142830Z
LAST-MODIFIED:20251124T180838Z
UID:10002909-1778580000-1778585400@www.templesinaidc.org
SUMMARY:SinaiReads Book Discussion
DESCRIPTION:Rabbi Goldstein will lead a discussion of Khirbet Khizeh by S. Yizhar. Join in person or virtually; no advance registration required. \nJoin via Zoom (Meeting ID: 408 091 6682)
URL:https://www.templesinaidc.org/event/sinaireads-book-discussion-5/
LOCATION:https://templesinaidc-org.zoom.us/j/4080916682
CATEGORIES:Adult Education,Spotlight
ATTACH;FMTTYPE=image/jpeg:https://www.templesinaidc.org/wp-content/uploads/2025/08/Khirbet-Khizeh-crop.jpg
END:VEVENT
BEGIN:VEVENT
DTSTART;TZID=America/New_York:20260514T180000
DTEND;TZID=America/New_York:20260514T210000
DTSTAMP:20260424T003439
CREATED:20250610T125219Z
LAST-MODIFIED:20260414T152800Z
UID:10002877-1778781600-1778792400@www.templesinaidc.org
SUMMARY:TSWRJ Annual Meeting
DESCRIPTION:Get Ready to Sparkle!\nTSWRJ Annual Meeting & Second Sparkle Jewelry Exchange\nJoin us for hors d’oeuvres and drinks with your “sister friends\,” help shape TSWRJ’s future as we elect and install our new board and then get ready to Sparkle at our first-ever Second Sparkle Jewelry Exchange & Fundraiser! \nHow Second Sparkle Works\nRefresh your jewelry box. Support TSWRJ. Share stories. Sparkle together. Donate gently loved jewelry in advance (up to 5 items) and earn one bonus token for each accepted piece — on top of the token included with your registration. Then on May 14\, use your tokens to “shop” for new-to-you treasures! \nCost: $18.00 — Your registration is a tax-deductible TSWRJ fundraising donation and includes event entry\, one token to find your perfect treasure\, and refreshments. \nCollection Dates — Bring Items in a Labeled Ziplock Bag\nApril 12\, 11 AM — Social Hall (TSWRJ Mitzvah Art Project)\nMay 7 — LAST CHANCE: Maj Night \nCan’t make any of these dates? No worries — contact Andrea Harnett (aharnett123@gmail.com) to arrange a drop-off. \nAny unclaimed jewelry will be donated to Suited for Change\, a DC nonprofit that equips women in need with professional attire\, coaching\, and skills training on their path to financial independence. \nQuestions? Email rachelbethfleischer@gmail.com \nRegister
URL:https://www.templesinaidc.org/event/tswrj-annual-meeting-3/
LOCATION:DC
CATEGORIES:Spotlight,TSWRJ
ATTACH;FMTTYPE=image/png:https://www.templesinaidc.org/wp-content/uploads/2025/06/Sparkle-Crop.png
END:VEVENT
BEGIN:VEVENT
DTSTART;TZID=America/New_York:20260516T091500
DTEND;TZID=America/New_York:20260516T101500
DTSTAMP:20260424T003439
CREATED:20250211T185134Z
LAST-MODIFIED:20250430T194932Z
UID:10000912-1778922900-1778926500@www.templesinaidc.org
SUMMARY:Torah Study
DESCRIPTION:Join us in person or virtually every Saturday morning for a discussion of the Torah reading for the week led by our clergy. No RSVP necessary. \nVisit the Google Classroom \nClick to join via Zoom (Meeting ID: 839 7118 5697)
URL:https://www.templesinaidc.org/event/torah-study-119/2026-05-16/
LOCATION:Temple Sinai – 3100 Military Road NW\, Washington\, DC\, United States
CATEGORIES:Adult Education,Spotlight
ATTACH;FMTTYPE=image/jpeg:https://www.templesinaidc.org/wp-content/uploads/2025/02/IMG-450-scaled.jpg
GEO:38.96926;-77.070949
END:VEVENT
BEGIN:VEVENT
DTSTART;TZID=America/New_York:20260516T093000
DTEND;TZID=America/New_York:20260516T103000
DTSTAMP:20260424T003439
CREATED:20250212T204115Z
LAST-MODIFIED:20250512T193811Z
UID:10002044-1778923800-1778927400@www.templesinaidc.org
SUMMARY:Tot Shabbat Storytime
DESCRIPTION:Head to the TSLibrary for a special Shabbat Storytime with librarian Ruth Polk. We’ll also enjoy challah\, juice\, crafts\, and have some time to browse the shelves! \nRSVP here. \n\nBest for children ages 0-5 and their families.\n\nVisit the library any time! Check out the online catalogue.
URL:https://www.templesinaidc.org/event/tot-shabbat-storytime-4/2026-05-16/
LOCATION:Temple Sinai – 3100 Military Road NW\, Washington\, DC\, United States
CATEGORIES:Spotlight,Young Families
ATTACH;FMTTYPE=image/jpeg:https://www.templesinaidc.org/wp-content/uploads/2025/02/Library-Ruth-Polk-Storytime-scaled.jpg
GEO:38.96926;-77.070949
END:VEVENT
BEGIN:VEVENT
DTSTART;TZID=America/New_York:20260516T190000
DTEND;TZID=America/New_York:20260516T220000
DTSTAMP:20260424T003439
CREATED:20260414T153731Z
LAST-MODIFIED:20260414T153731Z
UID:10004367-1778958000-1778968800@www.templesinaidc.org
SUMMARY:Sinai Social
DESCRIPTION:Join us for an unforgettable evening of generosity\, connection\, and celebration at the 2026 Temple Sinai Nursery School fundraising event: The Sinai Social. Guests will enjoy great food\, an open bar\, curated live and silent auction items\, music\, and the opportunity to make a meaningful impact. Every donation directly supports Temple Sinai Nursery School\, helping us further our mission to support and build a vibrant Jewish community and create a lasting impact. \nAll even proceeds support TSNS programming\, including needs based scholarships. \nBuy your ticket\, book your babysitter\, and get ready for a tropical evening of fun with your TSNS friends! \nWe are looking for items to add to our auction fundraiser. If you would like to donate an item or experience to the auction\, please click here. \nBuy Tickets
URL:https://www.templesinaidc.org/event/sinai-social/
LOCATION:DC
CATEGORIES:Community,Spotlight,Young Families
ATTACH;FMTTYPE=image/png:https://www.templesinaidc.org/wp-content/uploads/2026/04/Sinai-Social.png
END:VEVENT
BEGIN:VEVENT
DTSTART;TZID=America/New_York:20260519T100000
DTEND;TZID=America/New_York:20260519T113000
DTSTAMP:20260424T003439
CREATED:20251013T180547Z
LAST-MODIFIED:20251015T200131Z
UID:10003924-1779184800-1779190200@www.templesinaidc.org
SUMMARY:Tuesday Adult Class
DESCRIPTION:This year’s theme is Jewish liturgy and services. Please purchase a copy of the book Inviting God In: A Guide to Jewish Prayer by Rabbi Jeffrey K. Salkin. In-person and virtual participation welcome. \nThis class is taught by Rabbi Jon Roos and meets on the 1st and 3rd Tuesday of the month through Spring 2026. If you have questions\, email Gail Sell. \nVisit the Google classroom.
URL:https://www.templesinaidc.org/event/tuesday-adult-class-9/2026-05-19/
LOCATION:https://templesinaidc-org.zoom.us/j/87033408056
CATEGORIES:Adult Education,Spotlight
ATTACH;FMTTYPE=image/jpeg:https://www.templesinaidc.org/wp-content/uploads/2025/10/2025-2026-Tuesday-Adult-Class.jpg
END:VEVENT
BEGIN:VEVENT
DTSTART;TZID=America/New_York:20260521T100000
DTEND;TZID=America/New_York:20260521T120000
DTSTAMP:20260424T003439
CREATED:20250820T193342Z
LAST-MODIFIED:20250912T160508Z
UID:10003807-1779357600-1779364800@www.templesinaidc.org
SUMMARY:Volunteering at A Wider Circle
DESCRIPTION:Volunteer at A Wider Circle with your fellow TS members! Lunch is not included in this program but those interested in going to Parkway Deli afterwards are more than welcome! If you have questions\, please contact Jim Jaffe or Ed Cohen. \nRSVP
URL:https://www.templesinaidc.org/event/volunteering-at-a-wider-circle-4/2026-05-21/
LOCATION:A Wider Circle – 9159 Brookville Rd\, Silver Spring\, MD\, United States
CATEGORIES:Davis Center for Social Justice,Social Action,Spotlight,TSMRJ
ATTACH;FMTTYPE=image/jpeg:https://www.templesinaidc.org/wp-content/uploads/2025/02/TSMRJ-Wider-Circle-scaled.jpg
GEO:39.003109;-77.029648
END:VEVENT
BEGIN:VEVENT
DTSTART;TZID=America/New_York:20260523T091500
DTEND;TZID=America/New_York:20260523T101500
DTSTAMP:20260424T003439
CREATED:20250211T185134Z
LAST-MODIFIED:20250430T194932Z
UID:10000913-1779527700-1779531300@www.templesinaidc.org
SUMMARY:Torah Study
DESCRIPTION:Join us in person or virtually every Saturday morning for a discussion of the Torah reading for the week led by our clergy. No RSVP necessary. \nVisit the Google Classroom \nClick to join via Zoom (Meeting ID: 839 7118 5697)
URL:https://www.templesinaidc.org/event/torah-study-119/2026-05-23/
LOCATION:Temple Sinai – 3100 Military Road NW\, Washington\, DC\, United States
CATEGORIES:Adult Education,Spotlight
ATTACH;FMTTYPE=image/jpeg:https://www.templesinaidc.org/wp-content/uploads/2025/02/IMG-450-scaled.jpg
GEO:38.96926;-77.070949
END:VEVENT
BEGIN:VEVENT
DTSTART;TZID=America/New_York:20260527T193000
DTEND;TZID=America/New_York:20260527T210000
DTSTAMP:20260424T003439
CREATED:20260422T142655Z
LAST-MODIFIED:20260422T142655Z
UID:10004377-1779910200-1779915600@www.templesinaidc.org
SUMMARY:2026 Temple Sinai Annual Meeting
DESCRIPTION:Please plan to attend Temple Sinai’s annual meeting. We will vote for the slate of temple leadership\, highlight this year’s accomplishments\, learn about plans for the coming year\, and discuss the challenges we are facing. \nJoining in person? No RSVP required\nJoining virtually? Please register to join via Zoom.* \n*adult members should register and join individually for voting purposes. \n\nMeeting Materials\nLinks will be added as they become available. \n\nAgenda\nSpecial Rules of Order\n2025 Annual Meeting Minutes\nNominating Committee Report\n2026-2027 Budget Narrative\n2026-2027 Operating Budget\n2026-2027 Capital Budget\nMember Recognition
URL:https://www.templesinaidc.org/event/2026-temple-sinai-annual-meeting/
LOCATION:Temple Sinai – 3100 Military Road NW\, Washington\, DC\, United States
CATEGORIES:Community,Spotlight
ATTACH;FMTTYPE=image/png:https://www.templesinaidc.org/wp-content/uploads/2026/04/Annual-Meeting.png
GEO:38.96926;-77.070949
END:VEVENT
BEGIN:VEVENT
DTSTART;TZID=America/New_York:20260530T091500
DTEND;TZID=America/New_York:20260530T101500
DTSTAMP:20260424T003439
CREATED:20250211T185134Z
LAST-MODIFIED:20250430T194932Z
UID:10000914-1780132500-1780136100@www.templesinaidc.org
SUMMARY:Torah Study
DESCRIPTION:Join us in person or virtually every Saturday morning for a discussion of the Torah reading for the week led by our clergy. No RSVP necessary. \nVisit the Google Classroom \nClick to join via Zoom (Meeting ID: 839 7118 5697)
URL:https://www.templesinaidc.org/event/torah-study-119/2026-05-30/
LOCATION:Temple Sinai – 3100 Military Road NW\, Washington\, DC\, United States
CATEGORIES:Adult Education,Spotlight
ATTACH;FMTTYPE=image/jpeg:https://www.templesinaidc.org/wp-content/uploads/2025/02/IMG-450-scaled.jpg
GEO:38.96926;-77.070949
END:VEVENT
END:VCALENDAR