BEGIN:VCALENDAR
VERSION:2.0
PRODID:-//Temple Sinai - ECPv6.15.20//NONSGML v1.0//EN
CALSCALE:GREGORIAN
METHOD:PUBLISH
X-ORIGINAL-URL:https://www.templesinaidc.org
X-WR-CALDESC:Events for Temple Sinai
REFRESH-INTERVAL;VALUE=DURATION:PT1H
X-Robots-Tag:noindex
X-PUBLISHED-TTL:PT1H
BEGIN:VTIMEZONE
TZID:America/New_York
BEGIN:DAYLIGHT
TZOFFSETFROM:-0500
TZOFFSETTO:-0400
TZNAME:EDT
DTSTART:20250309T070000
END:DAYLIGHT
BEGIN:STANDARD
TZOFFSETFROM:-0400
TZOFFSETTO:-0500
TZNAME:EST
DTSTART:20251102T060000
END:STANDARD
BEGIN:DAYLIGHT
TZOFFSETFROM:-0500
TZOFFSETTO:-0400
TZNAME:EDT
DTSTART:20260308T070000
END:DAYLIGHT
BEGIN:STANDARD
TZOFFSETFROM:-0400
TZOFFSETTO:-0500
TZNAME:EST
DTSTART:20261101T060000
END:STANDARD
BEGIN:DAYLIGHT
TZOFFSETFROM:-0500
TZOFFSETTO:-0400
TZNAME:EDT
DTSTART:20270314T070000
END:DAYLIGHT
BEGIN:STANDARD
TZOFFSETFROM:-0400
TZOFFSETTO:-0500
TZNAME:EST
DTSTART:20271107T060000
END:STANDARD
END:VTIMEZONE
BEGIN:VEVENT
DTSTART;TZID=America/New_York:20260620T091500
DTEND;TZID=America/New_York:20260620T101500
DTSTAMP:20260424T060221
CREATED:20250211T185134Z
LAST-MODIFIED:20250430T194932Z
UID:10000917-1781946900-1781950500@www.templesinaidc.org
SUMMARY:Torah Study
DESCRIPTION:Join us in person or virtually every Saturday morning for a discussion of the Torah reading for the week led by our clergy. No RSVP necessary. \nVisit the Google Classroom \nClick to join via Zoom (Meeting ID: 839 7118 5697)
URL:https://www.templesinaidc.org/event/torah-study-119/2026-06-20/
LOCATION:Temple Sinai – 3100 Military Road NW\, Washington\, DC\, United States
CATEGORIES:Adult Education,Spotlight
ATTACH;FMTTYPE=image/jpeg:https://www.templesinaidc.org/wp-content/uploads/2025/02/IMG-450-scaled.jpg
GEO:38.96926;-77.070949
END:VEVENT
BEGIN:VEVENT
DTSTART;TZID=America/New_York:20260620T093000
DTEND;TZID=America/New_York:20260620T103000
DTSTAMP:20260424T060221
CREATED:20250212T204115Z
LAST-MODIFIED:20250512T193811Z
UID:10002045-1781947800-1781951400@www.templesinaidc.org
SUMMARY:Tot Shabbat Storytime
DESCRIPTION:Head to the TSLibrary for a special Shabbat Storytime with librarian Ruth Polk. We’ll also enjoy challah\, juice\, crafts\, and have some time to browse the shelves! \nRSVP here. \n\nBest for children ages 0-5 and their families.\n\nVisit the library any time! Check out the online catalogue.
URL:https://www.templesinaidc.org/event/tot-shabbat-storytime-4/2026-06-20/
LOCATION:Temple Sinai – 3100 Military Road NW\, Washington\, DC\, United States
CATEGORIES:Spotlight,Young Families
ATTACH;FMTTYPE=image/jpeg:https://www.templesinaidc.org/wp-content/uploads/2025/02/Library-Ruth-Polk-Storytime-scaled.jpg
GEO:38.96926;-77.070949
END:VEVENT
END:VCALENDAR