BEGIN:VCALENDAR
VERSION:2.0
PRODID:-//Temple Sinai - ECPv6.15.20//NONSGML v1.0//EN
CALSCALE:GREGORIAN
METHOD:PUBLISH
X-WR-CALNAME:Temple Sinai
X-ORIGINAL-URL:https://www.templesinaidc.org
X-WR-CALDESC:Events for Temple Sinai
REFRESH-INTERVAL;VALUE=DURATION:PT1H
X-Robots-Tag:noindex
X-PUBLISHED-TTL:PT1H
BEGIN:VTIMEZONE
TZID:America/New_York
BEGIN:DAYLIGHT
TZOFFSETFROM:-0500
TZOFFSETTO:-0400
TZNAME:EDT
DTSTART:20260308T070000
END:DAYLIGHT
BEGIN:STANDARD
TZOFFSETFROM:-0400
TZOFFSETTO:-0500
TZNAME:EST
DTSTART:20261101T060000
END:STANDARD
BEGIN:DAYLIGHT
TZOFFSETFROM:-0500
TZOFFSETTO:-0400
TZNAME:EDT
DTSTART:20270314T070000
END:DAYLIGHT
BEGIN:STANDARD
TZOFFSETFROM:-0400
TZOFFSETTO:-0500
TZNAME:EST
DTSTART:20271107T060000
END:STANDARD
BEGIN:DAYLIGHT
TZOFFSETFROM:-0500
TZOFFSETTO:-0400
TZNAME:EDT
DTSTART:20280312T070000
END:DAYLIGHT
BEGIN:STANDARD
TZOFFSETFROM:-0400
TZOFFSETTO:-0500
TZNAME:EST
DTSTART:20281105T060000
END:STANDARD
BEGIN:DAYLIGHT
TZOFFSETFROM:-0500
TZOFFSETTO:-0400
TZNAME:EDT
DTSTART:20290311T070000
END:DAYLIGHT
BEGIN:STANDARD
TZOFFSETFROM:-0400
TZOFFSETTO:-0500
TZNAME:EST
DTSTART:20291104T060000
END:STANDARD
END:VTIMEZONE
BEGIN:VEVENT
DTSTART;TZID=America/New_York:20270828T091500
DTEND;TZID=America/New_York:20270828T101500
DTSTAMP:20260424T174849
CREATED:20250211T185134Z
LAST-MODIFIED:20250430T194932Z
UID:10000979-1819444500-1819448100@www.templesinaidc.org
SUMMARY:Torah Study
DESCRIPTION:Join us in person or virtually every Saturday morning for a discussion of the Torah reading for the week led by our clergy. No RSVP necessary. \nVisit the Google Classroom \nClick to join via Zoom (Meeting ID: 839 7118 5697)
URL:https://www.templesinaidc.org/event/torah-study-119/2027-08-28/
LOCATION:Temple Sinai – 3100 Military Road NW\, Washington\, DC\, United States
CATEGORIES:Adult Education,Spotlight
ATTACH;FMTTYPE=image/jpeg:https://www.templesinaidc.org/wp-content/uploads/2025/02/IMG-450-scaled.jpg
GEO:38.96926;-77.070949
END:VEVENT
BEGIN:VEVENT
DTSTART;TZID=America/New_York:20270904T091500
DTEND;TZID=America/New_York:20270904T101500
DTSTAMP:20260424T174849
CREATED:20250211T185134Z
LAST-MODIFIED:20250430T194932Z
UID:10000980-1820049300-1820052900@www.templesinaidc.org
SUMMARY:Torah Study
DESCRIPTION:Join us in person or virtually every Saturday morning for a discussion of the Torah reading for the week led by our clergy. No RSVP necessary. \nVisit the Google Classroom \nClick to join via Zoom (Meeting ID: 839 7118 5697)
URL:https://www.templesinaidc.org/event/torah-study-119/2027-09-04/
LOCATION:Temple Sinai – 3100 Military Road NW\, Washington\, DC\, United States
CATEGORIES:Adult Education,Spotlight
ATTACH;FMTTYPE=image/jpeg:https://www.templesinaidc.org/wp-content/uploads/2025/02/IMG-450-scaled.jpg
GEO:38.96926;-77.070949
END:VEVENT
BEGIN:VEVENT
DTSTART;TZID=America/New_York:20270911T091500
DTEND;TZID=America/New_York:20270911T101500
DTSTAMP:20260424T174849
CREATED:20250211T185134Z
LAST-MODIFIED:20250430T194932Z
UID:10000981-1820654100-1820657700@www.templesinaidc.org
SUMMARY:Torah Study
DESCRIPTION:Join us in person or virtually every Saturday morning for a discussion of the Torah reading for the week led by our clergy. No RSVP necessary. \nVisit the Google Classroom \nClick to join via Zoom (Meeting ID: 839 7118 5697)
URL:https://www.templesinaidc.org/event/torah-study-119/2027-09-11/
LOCATION:Temple Sinai – 3100 Military Road NW\, Washington\, DC\, United States
CATEGORIES:Adult Education,Spotlight
ATTACH;FMTTYPE=image/jpeg:https://www.templesinaidc.org/wp-content/uploads/2025/02/IMG-450-scaled.jpg
GEO:38.96926;-77.070949
END:VEVENT
BEGIN:VEVENT
DTSTART;TZID=America/New_York:20270918T091500
DTEND;TZID=America/New_York:20270918T101500
DTSTAMP:20260424T174849
CREATED:20250211T185134Z
LAST-MODIFIED:20250430T194932Z
UID:10000982-1821258900-1821262500@www.templesinaidc.org
SUMMARY:Torah Study
DESCRIPTION:Join us in person or virtually every Saturday morning for a discussion of the Torah reading for the week led by our clergy. No RSVP necessary. \nVisit the Google Classroom \nClick to join via Zoom (Meeting ID: 839 7118 5697)
URL:https://www.templesinaidc.org/event/torah-study-119/2027-09-18/
LOCATION:Temple Sinai – 3100 Military Road NW\, Washington\, DC\, United States
CATEGORIES:Adult Education,Spotlight
ATTACH;FMTTYPE=image/jpeg:https://www.templesinaidc.org/wp-content/uploads/2025/02/IMG-450-scaled.jpg
GEO:38.96926;-77.070949
END:VEVENT
BEGIN:VEVENT
DTSTART;TZID=America/New_York:20270918T093000
DTEND;TZID=America/New_York:20270918T103000
DTSTAMP:20260424T174849
CREATED:20250212T204115Z
LAST-MODIFIED:20250512T193811Z
UID:10002060-1821259800-1821263400@www.templesinaidc.org
SUMMARY:Tot Shabbat Storytime
DESCRIPTION:Head to the TSLibrary for a special Shabbat Storytime with librarian Ruth Polk. We’ll also enjoy challah\, juice\, crafts\, and have some time to browse the shelves! \nRSVP here. \n\nBest for children ages 0-5 and their families.\n\nVisit the library any time! Check out the online catalogue.
URL:https://www.templesinaidc.org/event/tot-shabbat-storytime-4/2027-09-18/
LOCATION:Temple Sinai – 3100 Military Road NW\, Washington\, DC\, United States
CATEGORIES:Spotlight,Young Families
ATTACH;FMTTYPE=image/jpeg:https://www.templesinaidc.org/wp-content/uploads/2025/02/Library-Ruth-Polk-Storytime-scaled.jpg
GEO:38.96926;-77.070949
END:VEVENT
BEGIN:VEVENT
DTSTART;TZID=America/New_York:20270925T091500
DTEND;TZID=America/New_York:20270925T101500
DTSTAMP:20260424T174849
CREATED:20250211T185134Z
LAST-MODIFIED:20250430T194932Z
UID:10000983-1821863700-1821867300@www.templesinaidc.org
SUMMARY:Torah Study
DESCRIPTION:Join us in person or virtually every Saturday morning for a discussion of the Torah reading for the week led by our clergy. No RSVP necessary. \nVisit the Google Classroom \nClick to join via Zoom (Meeting ID: 839 7118 5697)
URL:https://www.templesinaidc.org/event/torah-study-119/2027-09-25/
LOCATION:Temple Sinai – 3100 Military Road NW\, Washington\, DC\, United States
CATEGORIES:Adult Education,Spotlight
ATTACH;FMTTYPE=image/jpeg:https://www.templesinaidc.org/wp-content/uploads/2025/02/IMG-450-scaled.jpg
GEO:38.96926;-77.070949
END:VEVENT
BEGIN:VEVENT
DTSTART;TZID=America/New_York:20271002T091500
DTEND;TZID=America/New_York:20271002T101500
DTSTAMP:20260424T174849
CREATED:20250211T185134Z
LAST-MODIFIED:20250430T194932Z
UID:10000984-1822468500-1822472100@www.templesinaidc.org
SUMMARY:Torah Study
DESCRIPTION:Join us in person or virtually every Saturday morning for a discussion of the Torah reading for the week led by our clergy. No RSVP necessary. \nVisit the Google Classroom \nClick to join via Zoom (Meeting ID: 839 7118 5697)
URL:https://www.templesinaidc.org/event/torah-study-119/2027-10-02/
LOCATION:Temple Sinai – 3100 Military Road NW\, Washington\, DC\, United States
CATEGORIES:Adult Education,Spotlight
ATTACH;FMTTYPE=image/jpeg:https://www.templesinaidc.org/wp-content/uploads/2025/02/IMG-450-scaled.jpg
GEO:38.96926;-77.070949
END:VEVENT
BEGIN:VEVENT
DTSTART;TZID=America/New_York:20271009T091500
DTEND;TZID=America/New_York:20271009T101500
DTSTAMP:20260424T174849
CREATED:20250211T185134Z
LAST-MODIFIED:20250430T194932Z
UID:10000985-1823073300-1823076900@www.templesinaidc.org
SUMMARY:Torah Study
DESCRIPTION:Join us in person or virtually every Saturday morning for a discussion of the Torah reading for the week led by our clergy. No RSVP necessary. \nVisit the Google Classroom \nClick to join via Zoom (Meeting ID: 839 7118 5697)
URL:https://www.templesinaidc.org/event/torah-study-119/2027-10-09/
LOCATION:Temple Sinai – 3100 Military Road NW\, Washington\, DC\, United States
CATEGORIES:Adult Education,Spotlight
ATTACH;FMTTYPE=image/jpeg:https://www.templesinaidc.org/wp-content/uploads/2025/02/IMG-450-scaled.jpg
GEO:38.96926;-77.070949
END:VEVENT
BEGIN:VEVENT
DTSTART;TZID=America/New_York:20271016T091500
DTEND;TZID=America/New_York:20271016T101500
DTSTAMP:20260424T174849
CREATED:20250211T185134Z
LAST-MODIFIED:20250430T194932Z
UID:10000986-1823678100-1823681700@www.templesinaidc.org
SUMMARY:Torah Study
DESCRIPTION:Join us in person or virtually every Saturday morning for a discussion of the Torah reading for the week led by our clergy. No RSVP necessary. \nVisit the Google Classroom \nClick to join via Zoom (Meeting ID: 839 7118 5697)
URL:https://www.templesinaidc.org/event/torah-study-119/2027-10-16/
LOCATION:Temple Sinai – 3100 Military Road NW\, Washington\, DC\, United States
CATEGORIES:Adult Education,Spotlight
ATTACH;FMTTYPE=image/jpeg:https://www.templesinaidc.org/wp-content/uploads/2025/02/IMG-450-scaled.jpg
GEO:38.96926;-77.070949
END:VEVENT
BEGIN:VEVENT
DTSTART;TZID=America/New_York:20271016T093000
DTEND;TZID=America/New_York:20271016T103000
DTSTAMP:20260424T174849
CREATED:20250212T204115Z
LAST-MODIFIED:20250512T193811Z
UID:10002061-1823679000-1823682600@www.templesinaidc.org
SUMMARY:Tot Shabbat Storytime
DESCRIPTION:Head to the TSLibrary for a special Shabbat Storytime with librarian Ruth Polk. We’ll also enjoy challah\, juice\, crafts\, and have some time to browse the shelves! \nRSVP here. \n\nBest for children ages 0-5 and their families.\n\nVisit the library any time! Check out the online catalogue.
URL:https://www.templesinaidc.org/event/tot-shabbat-storytime-4/2027-10-16/
LOCATION:Temple Sinai – 3100 Military Road NW\, Washington\, DC\, United States
CATEGORIES:Spotlight,Young Families
ATTACH;FMTTYPE=image/jpeg:https://www.templesinaidc.org/wp-content/uploads/2025/02/Library-Ruth-Polk-Storytime-scaled.jpg
GEO:38.96926;-77.070949
END:VEVENT
BEGIN:VEVENT
DTSTART;TZID=America/New_York:20271023T091500
DTEND;TZID=America/New_York:20271023T101500
DTSTAMP:20260424T174849
CREATED:20250211T185134Z
LAST-MODIFIED:20250430T194932Z
UID:10000987-1824282900-1824286500@www.templesinaidc.org
SUMMARY:Torah Study
DESCRIPTION:Join us in person or virtually every Saturday morning for a discussion of the Torah reading for the week led by our clergy. No RSVP necessary. \nVisit the Google Classroom \nClick to join via Zoom (Meeting ID: 839 7118 5697)
URL:https://www.templesinaidc.org/event/torah-study-119/2027-10-23/
LOCATION:Temple Sinai – 3100 Military Road NW\, Washington\, DC\, United States
CATEGORIES:Adult Education,Spotlight
ATTACH;FMTTYPE=image/jpeg:https://www.templesinaidc.org/wp-content/uploads/2025/02/IMG-450-scaled.jpg
GEO:38.96926;-77.070949
END:VEVENT
BEGIN:VEVENT
DTSTART;TZID=America/New_York:20271030T091500
DTEND;TZID=America/New_York:20271030T101500
DTSTAMP:20260424T174849
CREATED:20250211T185134Z
LAST-MODIFIED:20250430T194932Z
UID:10000988-1824887700-1824891300@www.templesinaidc.org
SUMMARY:Torah Study
DESCRIPTION:Join us in person or virtually every Saturday morning for a discussion of the Torah reading for the week led by our clergy. No RSVP necessary. \nVisit the Google Classroom \nClick to join via Zoom (Meeting ID: 839 7118 5697)
URL:https://www.templesinaidc.org/event/torah-study-119/2027-10-30/
LOCATION:Temple Sinai – 3100 Military Road NW\, Washington\, DC\, United States
CATEGORIES:Adult Education,Spotlight
ATTACH;FMTTYPE=image/jpeg:https://www.templesinaidc.org/wp-content/uploads/2025/02/IMG-450-scaled.jpg
GEO:38.96926;-77.070949
END:VEVENT
BEGIN:VEVENT
DTSTART;TZID=America/New_York:20271106T091500
DTEND;TZID=America/New_York:20271106T101500
DTSTAMP:20260424T174849
CREATED:20250211T185134Z
LAST-MODIFIED:20250430T194932Z
UID:10000989-1825492500-1825496100@www.templesinaidc.org
SUMMARY:Torah Study
DESCRIPTION:Join us in person or virtually every Saturday morning for a discussion of the Torah reading for the week led by our clergy. No RSVP necessary. \nVisit the Google Classroom \nClick to join via Zoom (Meeting ID: 839 7118 5697)
URL:https://www.templesinaidc.org/event/torah-study-119/2027-11-06/
LOCATION:Temple Sinai – 3100 Military Road NW\, Washington\, DC\, United States
CATEGORIES:Adult Education,Spotlight
ATTACH;FMTTYPE=image/jpeg:https://www.templesinaidc.org/wp-content/uploads/2025/02/IMG-450-scaled.jpg
GEO:38.96926;-77.070949
END:VEVENT
BEGIN:VEVENT
DTSTART;TZID=America/New_York:20271113T091500
DTEND;TZID=America/New_York:20271113T101500
DTSTAMP:20260424T174849
CREATED:20250211T185134Z
LAST-MODIFIED:20250430T194932Z
UID:10000990-1826097300-1826100900@www.templesinaidc.org
SUMMARY:Torah Study
DESCRIPTION:Join us in person or virtually every Saturday morning for a discussion of the Torah reading for the week led by our clergy. No RSVP necessary. \nVisit the Google Classroom \nClick to join via Zoom (Meeting ID: 839 7118 5697)
URL:https://www.templesinaidc.org/event/torah-study-119/2027-11-13/
LOCATION:Temple Sinai – 3100 Military Road NW\, Washington\, DC\, United States
CATEGORIES:Adult Education,Spotlight
ATTACH;FMTTYPE=image/jpeg:https://www.templesinaidc.org/wp-content/uploads/2025/02/IMG-450-scaled.jpg
GEO:38.96926;-77.070949
END:VEVENT
BEGIN:VEVENT
DTSTART;TZID=America/New_York:20271120T091500
DTEND;TZID=America/New_York:20271120T101500
DTSTAMP:20260424T174849
CREATED:20250211T185134Z
LAST-MODIFIED:20250430T194932Z
UID:10000991-1826702100-1826705700@www.templesinaidc.org
SUMMARY:Torah Study
DESCRIPTION:Join us in person or virtually every Saturday morning for a discussion of the Torah reading for the week led by our clergy. No RSVP necessary. \nVisit the Google Classroom \nClick to join via Zoom (Meeting ID: 839 7118 5697)
URL:https://www.templesinaidc.org/event/torah-study-119/2027-11-20/
LOCATION:Temple Sinai – 3100 Military Road NW\, Washington\, DC\, United States
CATEGORIES:Adult Education,Spotlight
ATTACH;FMTTYPE=image/jpeg:https://www.templesinaidc.org/wp-content/uploads/2025/02/IMG-450-scaled.jpg
GEO:38.96926;-77.070949
END:VEVENT
BEGIN:VEVENT
DTSTART;TZID=America/New_York:20271120T093000
DTEND;TZID=America/New_York:20271120T103000
DTSTAMP:20260424T174849
CREATED:20250212T204115Z
LAST-MODIFIED:20250512T193811Z
UID:10002062-1826703000-1826706600@www.templesinaidc.org
SUMMARY:Tot Shabbat Storytime
DESCRIPTION:Head to the TSLibrary for a special Shabbat Storytime with librarian Ruth Polk. We’ll also enjoy challah\, juice\, crafts\, and have some time to browse the shelves! \nRSVP here. \n\nBest for children ages 0-5 and their families.\n\nVisit the library any time! Check out the online catalogue.
URL:https://www.templesinaidc.org/event/tot-shabbat-storytime-4/2027-11-20/
LOCATION:Temple Sinai – 3100 Military Road NW\, Washington\, DC\, United States
CATEGORIES:Spotlight,Young Families
ATTACH;FMTTYPE=image/jpeg:https://www.templesinaidc.org/wp-content/uploads/2025/02/Library-Ruth-Polk-Storytime-scaled.jpg
GEO:38.96926;-77.070949
END:VEVENT
BEGIN:VEVENT
DTSTART;TZID=America/New_York:20271127T091500
DTEND;TZID=America/New_York:20271127T101500
DTSTAMP:20260424T174849
CREATED:20250211T185134Z
LAST-MODIFIED:20250430T194932Z
UID:10000992-1827306900-1827310500@www.templesinaidc.org
SUMMARY:Torah Study
DESCRIPTION:Join us in person or virtually every Saturday morning for a discussion of the Torah reading for the week led by our clergy. No RSVP necessary. \nVisit the Google Classroom \nClick to join via Zoom (Meeting ID: 839 7118 5697)
URL:https://www.templesinaidc.org/event/torah-study-119/2027-11-27/
LOCATION:Temple Sinai – 3100 Military Road NW\, Washington\, DC\, United States
CATEGORIES:Adult Education,Spotlight
ATTACH;FMTTYPE=image/jpeg:https://www.templesinaidc.org/wp-content/uploads/2025/02/IMG-450-scaled.jpg
GEO:38.96926;-77.070949
END:VEVENT
BEGIN:VEVENT
DTSTART;TZID=America/New_York:20271204T091500
DTEND;TZID=America/New_York:20271204T101500
DTSTAMP:20260424T174849
CREATED:20250211T185134Z
LAST-MODIFIED:20250430T194932Z
UID:10000993-1827911700-1827915300@www.templesinaidc.org
SUMMARY:Torah Study
DESCRIPTION:Join us in person or virtually every Saturday morning for a discussion of the Torah reading for the week led by our clergy. No RSVP necessary. \nVisit the Google Classroom \nClick to join via Zoom (Meeting ID: 839 7118 5697)
URL:https://www.templesinaidc.org/event/torah-study-119/2027-12-04/
LOCATION:Temple Sinai – 3100 Military Road NW\, Washington\, DC\, United States
CATEGORIES:Adult Education,Spotlight
ATTACH;FMTTYPE=image/jpeg:https://www.templesinaidc.org/wp-content/uploads/2025/02/IMG-450-scaled.jpg
GEO:38.96926;-77.070949
END:VEVENT
BEGIN:VEVENT
DTSTART;TZID=America/New_York:20271211T091500
DTEND;TZID=America/New_York:20271211T101500
DTSTAMP:20260424T174849
CREATED:20250211T185134Z
LAST-MODIFIED:20250430T194932Z
UID:10000994-1828516500-1828520100@www.templesinaidc.org
SUMMARY:Torah Study
DESCRIPTION:Join us in person or virtually every Saturday morning for a discussion of the Torah reading for the week led by our clergy. No RSVP necessary. \nVisit the Google Classroom \nClick to join via Zoom (Meeting ID: 839 7118 5697)
URL:https://www.templesinaidc.org/event/torah-study-119/2027-12-11/
LOCATION:Temple Sinai – 3100 Military Road NW\, Washington\, DC\, United States
CATEGORIES:Adult Education,Spotlight
ATTACH;FMTTYPE=image/jpeg:https://www.templesinaidc.org/wp-content/uploads/2025/02/IMG-450-scaled.jpg
GEO:38.96926;-77.070949
END:VEVENT
BEGIN:VEVENT
DTSTART;TZID=America/New_York:20271218T091500
DTEND;TZID=America/New_York:20271218T101500
DTSTAMP:20260424T174849
CREATED:20250211T185134Z
LAST-MODIFIED:20250430T194932Z
UID:10000995-1829121300-1829124900@www.templesinaidc.org
SUMMARY:Torah Study
DESCRIPTION:Join us in person or virtually every Saturday morning for a discussion of the Torah reading for the week led by our clergy. No RSVP necessary. \nVisit the Google Classroom \nClick to join via Zoom (Meeting ID: 839 7118 5697)
URL:https://www.templesinaidc.org/event/torah-study-119/2027-12-18/
LOCATION:Temple Sinai – 3100 Military Road NW\, Washington\, DC\, United States
CATEGORIES:Adult Education,Spotlight
ATTACH;FMTTYPE=image/jpeg:https://www.templesinaidc.org/wp-content/uploads/2025/02/IMG-450-scaled.jpg
GEO:38.96926;-77.070949
END:VEVENT
BEGIN:VEVENT
DTSTART;TZID=America/New_York:20271218T093000
DTEND;TZID=America/New_York:20271218T103000
DTSTAMP:20260424T174849
CREATED:20250212T204115Z
LAST-MODIFIED:20250512T193811Z
UID:10002063-1829122200-1829125800@www.templesinaidc.org
SUMMARY:Tot Shabbat Storytime
DESCRIPTION:Head to the TSLibrary for a special Shabbat Storytime with librarian Ruth Polk. We’ll also enjoy challah\, juice\, crafts\, and have some time to browse the shelves! \nRSVP here. \n\nBest for children ages 0-5 and their families.\n\nVisit the library any time! Check out the online catalogue.
URL:https://www.templesinaidc.org/event/tot-shabbat-storytime-4/2027-12-18/
LOCATION:Temple Sinai – 3100 Military Road NW\, Washington\, DC\, United States
CATEGORIES:Spotlight,Young Families
ATTACH;FMTTYPE=image/jpeg:https://www.templesinaidc.org/wp-content/uploads/2025/02/Library-Ruth-Polk-Storytime-scaled.jpg
GEO:38.96926;-77.070949
END:VEVENT
BEGIN:VEVENT
DTSTART;TZID=America/New_York:20271225T091500
DTEND;TZID=America/New_York:20271225T101500
DTSTAMP:20260424T174849
CREATED:20250211T185134Z
LAST-MODIFIED:20250430T194932Z
UID:10000996-1829726100-1829729700@www.templesinaidc.org
SUMMARY:Torah Study
DESCRIPTION:Join us in person or virtually every Saturday morning for a discussion of the Torah reading for the week led by our clergy. No RSVP necessary. \nVisit the Google Classroom \nClick to join via Zoom (Meeting ID: 839 7118 5697)
URL:https://www.templesinaidc.org/event/torah-study-119/2027-12-25/
LOCATION:Temple Sinai – 3100 Military Road NW\, Washington\, DC\, United States
CATEGORIES:Adult Education,Spotlight
ATTACH;FMTTYPE=image/jpeg:https://www.templesinaidc.org/wp-content/uploads/2025/02/IMG-450-scaled.jpg
GEO:38.96926;-77.070949
END:VEVENT
BEGIN:VEVENT
DTSTART;TZID=America/New_York:20280101T091500
DTEND;TZID=America/New_York:20280101T101500
DTSTAMP:20260424T174849
CREATED:20250211T185134Z
LAST-MODIFIED:20250430T194932Z
UID:10000997-1830330900-1830334500@www.templesinaidc.org
SUMMARY:Torah Study
DESCRIPTION:Join us in person or virtually every Saturday morning for a discussion of the Torah reading for the week led by our clergy. No RSVP necessary. \nVisit the Google Classroom \nClick to join via Zoom (Meeting ID: 839 7118 5697)
URL:https://www.templesinaidc.org/event/torah-study-119/2028-01-01/
LOCATION:Temple Sinai – 3100 Military Road NW\, Washington\, DC\, United States
CATEGORIES:Adult Education,Spotlight
ATTACH;FMTTYPE=image/jpeg:https://www.templesinaidc.org/wp-content/uploads/2025/02/IMG-450-scaled.jpg
GEO:38.96926;-77.070949
END:VEVENT
BEGIN:VEVENT
DTSTART;TZID=America/New_York:20280108T091500
DTEND;TZID=America/New_York:20280108T101500
DTSTAMP:20260424T174849
CREATED:20250211T185134Z
LAST-MODIFIED:20250430T194932Z
UID:10000998-1830935700-1830939300@www.templesinaidc.org
SUMMARY:Torah Study
DESCRIPTION:Join us in person or virtually every Saturday morning for a discussion of the Torah reading for the week led by our clergy. No RSVP necessary. \nVisit the Google Classroom \nClick to join via Zoom (Meeting ID: 839 7118 5697)
URL:https://www.templesinaidc.org/event/torah-study-119/2028-01-08/
LOCATION:Temple Sinai – 3100 Military Road NW\, Washington\, DC\, United States
CATEGORIES:Adult Education,Spotlight
ATTACH;FMTTYPE=image/jpeg:https://www.templesinaidc.org/wp-content/uploads/2025/02/IMG-450-scaled.jpg
GEO:38.96926;-77.070949
END:VEVENT
BEGIN:VEVENT
DTSTART;TZID=America/New_York:20280115T091500
DTEND;TZID=America/New_York:20280115T101500
DTSTAMP:20260424T174849
CREATED:20250211T185134Z
LAST-MODIFIED:20250430T194932Z
UID:10000999-1831540500-1831544100@www.templesinaidc.org
SUMMARY:Torah Study
DESCRIPTION:Join us in person or virtually every Saturday morning for a discussion of the Torah reading for the week led by our clergy. No RSVP necessary. \nVisit the Google Classroom \nClick to join via Zoom (Meeting ID: 839 7118 5697)
URL:https://www.templesinaidc.org/event/torah-study-119/2028-01-15/
LOCATION:Temple Sinai – 3100 Military Road NW\, Washington\, DC\, United States
CATEGORIES:Adult Education,Spotlight
ATTACH;FMTTYPE=image/jpeg:https://www.templesinaidc.org/wp-content/uploads/2025/02/IMG-450-scaled.jpg
GEO:38.96926;-77.070949
END:VEVENT
BEGIN:VEVENT
DTSTART;TZID=America/New_York:20280115T093000
DTEND;TZID=America/New_York:20280115T103000
DTSTAMP:20260424T174849
CREATED:20250212T204115Z
LAST-MODIFIED:20250512T193811Z
UID:10002064-1831541400-1831545000@www.templesinaidc.org
SUMMARY:Tot Shabbat Storytime
DESCRIPTION:Head to the TSLibrary for a special Shabbat Storytime with librarian Ruth Polk. We’ll also enjoy challah\, juice\, crafts\, and have some time to browse the shelves! \nRSVP here. \n\nBest for children ages 0-5 and their families.\n\nVisit the library any time! Check out the online catalogue.
URL:https://www.templesinaidc.org/event/tot-shabbat-storytime-4/2028-01-15/
LOCATION:Temple Sinai – 3100 Military Road NW\, Washington\, DC\, United States
CATEGORIES:Spotlight,Young Families
ATTACH;FMTTYPE=image/jpeg:https://www.templesinaidc.org/wp-content/uploads/2025/02/Library-Ruth-Polk-Storytime-scaled.jpg
GEO:38.96926;-77.070949
END:VEVENT
BEGIN:VEVENT
DTSTART;TZID=America/New_York:20280122T091500
DTEND;TZID=America/New_York:20280122T101500
DTSTAMP:20260424T174849
CREATED:20250211T185134Z
LAST-MODIFIED:20250430T194932Z
UID:10001000-1832145300-1832148900@www.templesinaidc.org
SUMMARY:Torah Study
DESCRIPTION:Join us in person or virtually every Saturday morning for a discussion of the Torah reading for the week led by our clergy. No RSVP necessary. \nVisit the Google Classroom \nClick to join via Zoom (Meeting ID: 839 7118 5697)
URL:https://www.templesinaidc.org/event/torah-study-119/2028-01-22/
LOCATION:Temple Sinai – 3100 Military Road NW\, Washington\, DC\, United States
CATEGORIES:Adult Education,Spotlight
ATTACH;FMTTYPE=image/jpeg:https://www.templesinaidc.org/wp-content/uploads/2025/02/IMG-450-scaled.jpg
GEO:38.96926;-77.070949
END:VEVENT
BEGIN:VEVENT
DTSTART;TZID=America/New_York:20280129T091500
DTEND;TZID=America/New_York:20280129T101500
DTSTAMP:20260424T174849
CREATED:20250211T185134Z
LAST-MODIFIED:20250430T194932Z
UID:10001001-1832750100-1832753700@www.templesinaidc.org
SUMMARY:Torah Study
DESCRIPTION:Join us in person or virtually every Saturday morning for a discussion of the Torah reading for the week led by our clergy. No RSVP necessary. \nVisit the Google Classroom \nClick to join via Zoom (Meeting ID: 839 7118 5697)
URL:https://www.templesinaidc.org/event/torah-study-119/2028-01-29/
LOCATION:Temple Sinai – 3100 Military Road NW\, Washington\, DC\, United States
CATEGORIES:Adult Education,Spotlight
ATTACH;FMTTYPE=image/jpeg:https://www.templesinaidc.org/wp-content/uploads/2025/02/IMG-450-scaled.jpg
GEO:38.96926;-77.070949
END:VEVENT
BEGIN:VEVENT
DTSTART;TZID=America/New_York:20280205T091500
DTEND;TZID=America/New_York:20280205T101500
DTSTAMP:20260424T174849
CREATED:20250211T185134Z
LAST-MODIFIED:20250430T194932Z
UID:10001002-1833354900-1833358500@www.templesinaidc.org
SUMMARY:Torah Study
DESCRIPTION:Join us in person or virtually every Saturday morning for a discussion of the Torah reading for the week led by our clergy. No RSVP necessary. \nVisit the Google Classroom \nClick to join via Zoom (Meeting ID: 839 7118 5697)
URL:https://www.templesinaidc.org/event/torah-study-119/2028-02-05/
LOCATION:Temple Sinai – 3100 Military Road NW\, Washington\, DC\, United States
CATEGORIES:Adult Education,Spotlight
ATTACH;FMTTYPE=image/jpeg:https://www.templesinaidc.org/wp-content/uploads/2025/02/IMG-450-scaled.jpg
GEO:38.96926;-77.070949
END:VEVENT
BEGIN:VEVENT
DTSTART;TZID=America/New_York:20280212T091500
DTEND;TZID=America/New_York:20280212T101500
DTSTAMP:20260424T174849
CREATED:20250211T185134Z
LAST-MODIFIED:20250430T194932Z
UID:10001003-1833959700-1833963300@www.templesinaidc.org
SUMMARY:Torah Study
DESCRIPTION:Join us in person or virtually every Saturday morning for a discussion of the Torah reading for the week led by our clergy. No RSVP necessary. \nVisit the Google Classroom \nClick to join via Zoom (Meeting ID: 839 7118 5697)
URL:https://www.templesinaidc.org/event/torah-study-119/2028-02-12/
LOCATION:Temple Sinai – 3100 Military Road NW\, Washington\, DC\, United States
CATEGORIES:Adult Education,Spotlight
ATTACH;FMTTYPE=image/jpeg:https://www.templesinaidc.org/wp-content/uploads/2025/02/IMG-450-scaled.jpg
GEO:38.96926;-77.070949
END:VEVENT
END:VCALENDAR