BEGIN:VCALENDAR
VERSION:2.0
PRODID:-//Temple Sinai - ECPv6.15.20//NONSGML v1.0//EN
CALSCALE:GREGORIAN
METHOD:PUBLISH
X-WR-CALNAME:Temple Sinai
X-ORIGINAL-URL:https://www.templesinaidc.org
X-WR-CALDESC:Events for Temple Sinai
REFRESH-INTERVAL;VALUE=DURATION:PT1H
X-Robots-Tag:noindex
X-PUBLISHED-TTL:PT1H
BEGIN:VTIMEZONE
TZID:America/New_York
BEGIN:DAYLIGHT
TZOFFSETFROM:-0500
TZOFFSETTO:-0400
TZNAME:EDT
DTSTART:20250309T070000
END:DAYLIGHT
BEGIN:STANDARD
TZOFFSETFROM:-0400
TZOFFSETTO:-0500
TZNAME:EST
DTSTART:20251102T060000
END:STANDARD
BEGIN:DAYLIGHT
TZOFFSETFROM:-0500
TZOFFSETTO:-0400
TZNAME:EDT
DTSTART:20260308T070000
END:DAYLIGHT
BEGIN:STANDARD
TZOFFSETFROM:-0400
TZOFFSETTO:-0500
TZNAME:EST
DTSTART:20261101T060000
END:STANDARD
BEGIN:DAYLIGHT
TZOFFSETFROM:-0500
TZOFFSETTO:-0400
TZNAME:EDT
DTSTART:20270314T070000
END:DAYLIGHT
BEGIN:STANDARD
TZOFFSETFROM:-0400
TZOFFSETTO:-0500
TZNAME:EST
DTSTART:20271107T060000
END:STANDARD
BEGIN:DAYLIGHT
TZOFFSETFROM:-0500
TZOFFSETTO:-0400
TZNAME:EDT
DTSTART:20280312T070000
END:DAYLIGHT
BEGIN:STANDARD
TZOFFSETFROM:-0400
TZOFFSETTO:-0500
TZNAME:EST
DTSTART:20281105T060000
END:STANDARD
END:VTIMEZONE
BEGIN:VEVENT
DTSTART;TZID=America/New_York:20260919T093000
DTEND;TZID=America/New_York:20260919T103000
DTSTAMP:20260424T074604
CREATED:20250212T204115Z
LAST-MODIFIED:20250512T193811Z
UID:10002048-1789810200-1789813800@www.templesinaidc.org
SUMMARY:Tot Shabbat Storytime
DESCRIPTION:Head to the TSLibrary for a special Shabbat Storytime with librarian Ruth Polk. We’ll also enjoy challah\, juice\, crafts\, and have some time to browse the shelves! \nRSVP here. \n\nBest for children ages 0-5 and their families.\n\nVisit the library any time! Check out the online catalogue.
URL:https://www.templesinaidc.org/event/tot-shabbat-storytime-4/2026-09-19/
LOCATION:Temple Sinai – 3100 Military Road NW\, Washington\, DC\, United States
CATEGORIES:Spotlight,Young Families
ATTACH;FMTTYPE=image/jpeg:https://www.templesinaidc.org/wp-content/uploads/2025/02/Library-Ruth-Polk-Storytime-scaled.jpg
GEO:38.96926;-77.070949
END:VEVENT
BEGIN:VEVENT
DTSTART;TZID=America/New_York:20260926T091500
DTEND;TZID=America/New_York:20260926T101500
DTSTAMP:20260424T074604
CREATED:20250211T185134Z
LAST-MODIFIED:20250430T194932Z
UID:10000931-1790414100-1790417700@www.templesinaidc.org
SUMMARY:Torah Study
DESCRIPTION:Join us in person or virtually every Saturday morning for a discussion of the Torah reading for the week led by our clergy. No RSVP necessary. \nVisit the Google Classroom \nClick to join via Zoom (Meeting ID: 839 7118 5697)
URL:https://www.templesinaidc.org/event/torah-study-119/2026-09-26/
LOCATION:Temple Sinai – 3100 Military Road NW\, Washington\, DC\, United States
CATEGORIES:Adult Education,Spotlight
ATTACH;FMTTYPE=image/jpeg:https://www.templesinaidc.org/wp-content/uploads/2025/02/IMG-450-scaled.jpg
GEO:38.96926;-77.070949
END:VEVENT
BEGIN:VEVENT
DTSTART;TZID=America/New_York:20261003T091500
DTEND;TZID=America/New_York:20261003T101500
DTSTAMP:20260424T074604
CREATED:20250211T185134Z
LAST-MODIFIED:20250430T194932Z
UID:10000932-1791018900-1791022500@www.templesinaidc.org
SUMMARY:Torah Study
DESCRIPTION:Join us in person or virtually every Saturday morning for a discussion of the Torah reading for the week led by our clergy. No RSVP necessary. \nVisit the Google Classroom \nClick to join via Zoom (Meeting ID: 839 7118 5697)
URL:https://www.templesinaidc.org/event/torah-study-119/2026-10-03/
LOCATION:Temple Sinai – 3100 Military Road NW\, Washington\, DC\, United States
CATEGORIES:Adult Education,Spotlight
ATTACH;FMTTYPE=image/jpeg:https://www.templesinaidc.org/wp-content/uploads/2025/02/IMG-450-scaled.jpg
GEO:38.96926;-77.070949
END:VEVENT
BEGIN:VEVENT
DTSTART;TZID=America/New_York:20261009T173000
DTEND;TZID=America/New_York:20261009T183000
DTSTAMP:20260424T074604
CREATED:20251202T132749Z
LAST-MODIFIED:20260203T185653Z
UID:10004030-1791567000-1791570600@www.templesinaidc.org
SUMMARY:Family Shabbat Dinner
DESCRIPTION:Come at 5:30 pm for a casual pizza dinner and activities before the 6:30 pm Shabbat Service. \nRSVP here \nThe cost is $18 per family to ensure this program can continue to thrive. Additional donations are welcome and a zero-cost option is available if this is more appropriate for your family. \nQuestions? Contact Lisa Resnikoff.
URL:https://www.templesinaidc.org/event/family-shabbat-dinner-8/2026-10-09/
LOCATION:Temple Sinai – 3100 Military Road NW\, Washington\, DC\, United States
CATEGORIES:Community,Spotlight,Young Families
ATTACH;FMTTYPE=image/png:https://www.templesinaidc.org/wp-content/uploads/2025/07/Family-Shabbats-2025-26.png
GEO:38.96926;-77.070949
END:VEVENT
BEGIN:VEVENT
DTSTART;TZID=America/New_York:20261010T091500
DTEND;TZID=America/New_York:20261010T101500
DTSTAMP:20260424T074604
CREATED:20250211T185134Z
LAST-MODIFIED:20250430T194932Z
UID:10000933-1791623700-1791627300@www.templesinaidc.org
SUMMARY:Torah Study
DESCRIPTION:Join us in person or virtually every Saturday morning for a discussion of the Torah reading for the week led by our clergy. No RSVP necessary. \nVisit the Google Classroom \nClick to join via Zoom (Meeting ID: 839 7118 5697)
URL:https://www.templesinaidc.org/event/torah-study-119/2026-10-10/
LOCATION:Temple Sinai – 3100 Military Road NW\, Washington\, DC\, United States
CATEGORIES:Adult Education,Spotlight
ATTACH;FMTTYPE=image/jpeg:https://www.templesinaidc.org/wp-content/uploads/2025/02/IMG-450-scaled.jpg
GEO:38.96926;-77.070949
END:VEVENT
BEGIN:VEVENT
DTSTART;TZID=America/New_York:20261017T091500
DTEND;TZID=America/New_York:20261017T101500
DTSTAMP:20260424T074604
CREATED:20250211T185134Z
LAST-MODIFIED:20250430T194932Z
UID:10000934-1792228500-1792232100@www.templesinaidc.org
SUMMARY:Torah Study
DESCRIPTION:Join us in person or virtually every Saturday morning for a discussion of the Torah reading for the week led by our clergy. No RSVP necessary. \nVisit the Google Classroom \nClick to join via Zoom (Meeting ID: 839 7118 5697)
URL:https://www.templesinaidc.org/event/torah-study-119/2026-10-17/
LOCATION:Temple Sinai – 3100 Military Road NW\, Washington\, DC\, United States
CATEGORIES:Adult Education,Spotlight
ATTACH;FMTTYPE=image/jpeg:https://www.templesinaidc.org/wp-content/uploads/2025/02/IMG-450-scaled.jpg
GEO:38.96926;-77.070949
END:VEVENT
BEGIN:VEVENT
DTSTART;TZID=America/New_York:20261017T093000
DTEND;TZID=America/New_York:20261017T103000
DTSTAMP:20260424T074604
CREATED:20250212T204115Z
LAST-MODIFIED:20250512T193811Z
UID:10002049-1792229400-1792233000@www.templesinaidc.org
SUMMARY:Tot Shabbat Storytime
DESCRIPTION:Head to the TSLibrary for a special Shabbat Storytime with librarian Ruth Polk. We’ll also enjoy challah\, juice\, crafts\, and have some time to browse the shelves! \nRSVP here. \n\nBest for children ages 0-5 and their families.\n\nVisit the library any time! Check out the online catalogue.
URL:https://www.templesinaidc.org/event/tot-shabbat-storytime-4/2026-10-17/
LOCATION:Temple Sinai – 3100 Military Road NW\, Washington\, DC\, United States
CATEGORIES:Spotlight,Young Families
ATTACH;FMTTYPE=image/jpeg:https://www.templesinaidc.org/wp-content/uploads/2025/02/Library-Ruth-Polk-Storytime-scaled.jpg
GEO:38.96926;-77.070949
END:VEVENT
BEGIN:VEVENT
DTSTART;TZID=America/New_York:20261024T091500
DTEND;TZID=America/New_York:20261024T101500
DTSTAMP:20260424T074604
CREATED:20250211T185134Z
LAST-MODIFIED:20250430T194932Z
UID:10000935-1792833300-1792836900@www.templesinaidc.org
SUMMARY:Torah Study
DESCRIPTION:Join us in person or virtually every Saturday morning for a discussion of the Torah reading for the week led by our clergy. No RSVP necessary. \nVisit the Google Classroom \nClick to join via Zoom (Meeting ID: 839 7118 5697)
URL:https://www.templesinaidc.org/event/torah-study-119/2026-10-24/
LOCATION:Temple Sinai – 3100 Military Road NW\, Washington\, DC\, United States
CATEGORIES:Adult Education,Spotlight
ATTACH;FMTTYPE=image/jpeg:https://www.templesinaidc.org/wp-content/uploads/2025/02/IMG-450-scaled.jpg
GEO:38.96926;-77.070949
END:VEVENT
BEGIN:VEVENT
DTSTART;TZID=America/New_York:20261031T091500
DTEND;TZID=America/New_York:20261031T101500
DTSTAMP:20260424T074604
CREATED:20250211T185134Z
LAST-MODIFIED:20250430T194932Z
UID:10000936-1793438100-1793441700@www.templesinaidc.org
SUMMARY:Torah Study
DESCRIPTION:Join us in person or virtually every Saturday morning for a discussion of the Torah reading for the week led by our clergy. No RSVP necessary. \nVisit the Google Classroom \nClick to join via Zoom (Meeting ID: 839 7118 5697)
URL:https://www.templesinaidc.org/event/torah-study-119/2026-10-31/
LOCATION:Temple Sinai – 3100 Military Road NW\, Washington\, DC\, United States
CATEGORIES:Adult Education,Spotlight
ATTACH;FMTTYPE=image/jpeg:https://www.templesinaidc.org/wp-content/uploads/2025/02/IMG-450-scaled.jpg
GEO:38.96926;-77.070949
END:VEVENT
BEGIN:VEVENT
DTSTART;TZID=America/New_York:20261107T091500
DTEND;TZID=America/New_York:20261107T101500
DTSTAMP:20260424T074604
CREATED:20250211T185134Z
LAST-MODIFIED:20250430T194932Z
UID:10000937-1794042900-1794046500@www.templesinaidc.org
SUMMARY:Torah Study
DESCRIPTION:Join us in person or virtually every Saturday morning for a discussion of the Torah reading for the week led by our clergy. No RSVP necessary. \nVisit the Google Classroom \nClick to join via Zoom (Meeting ID: 839 7118 5697)
URL:https://www.templesinaidc.org/event/torah-study-119/2026-11-07/
LOCATION:Temple Sinai – 3100 Military Road NW\, Washington\, DC\, United States
CATEGORIES:Adult Education,Spotlight
ATTACH;FMTTYPE=image/jpeg:https://www.templesinaidc.org/wp-content/uploads/2025/02/IMG-450-scaled.jpg
GEO:38.96926;-77.070949
END:VEVENT
BEGIN:VEVENT
DTSTART;TZID=America/New_York:20261113T173000
DTEND;TZID=America/New_York:20261113T183000
DTSTAMP:20260424T074604
CREATED:20251202T132749Z
LAST-MODIFIED:20260203T185653Z
UID:10004031-1794591000-1794594600@www.templesinaidc.org
SUMMARY:Family Shabbat Dinner
DESCRIPTION:Come at 5:30 pm for a casual pizza dinner and activities before the 6:30 pm Shabbat Service. \nRSVP here \nThe cost is $18 per family to ensure this program can continue to thrive. Additional donations are welcome and a zero-cost option is available if this is more appropriate for your family. \nQuestions? Contact Lisa Resnikoff.
URL:https://www.templesinaidc.org/event/family-shabbat-dinner-8/2026-11-13/
LOCATION:Temple Sinai – 3100 Military Road NW\, Washington\, DC\, United States
CATEGORIES:Community,Spotlight,Young Families
ATTACH;FMTTYPE=image/png:https://www.templesinaidc.org/wp-content/uploads/2025/07/Family-Shabbats-2025-26.png
GEO:38.96926;-77.070949
END:VEVENT
BEGIN:VEVENT
DTSTART;TZID=America/New_York:20261114T091500
DTEND;TZID=America/New_York:20261114T101500
DTSTAMP:20260424T074604
CREATED:20250211T185134Z
LAST-MODIFIED:20250430T194932Z
UID:10000938-1794647700-1794651300@www.templesinaidc.org
SUMMARY:Torah Study
DESCRIPTION:Join us in person or virtually every Saturday morning for a discussion of the Torah reading for the week led by our clergy. No RSVP necessary. \nVisit the Google Classroom \nClick to join via Zoom (Meeting ID: 839 7118 5697)
URL:https://www.templesinaidc.org/event/torah-study-119/2026-11-14/
LOCATION:Temple Sinai – 3100 Military Road NW\, Washington\, DC\, United States
CATEGORIES:Adult Education,Spotlight
ATTACH;FMTTYPE=image/jpeg:https://www.templesinaidc.org/wp-content/uploads/2025/02/IMG-450-scaled.jpg
GEO:38.96926;-77.070949
END:VEVENT
BEGIN:VEVENT
DTSTART;TZID=America/New_York:20261121T091500
DTEND;TZID=America/New_York:20261121T101500
DTSTAMP:20260424T074604
CREATED:20250211T185134Z
LAST-MODIFIED:20250430T194932Z
UID:10000939-1795252500-1795256100@www.templesinaidc.org
SUMMARY:Torah Study
DESCRIPTION:Join us in person or virtually every Saturday morning for a discussion of the Torah reading for the week led by our clergy. No RSVP necessary. \nVisit the Google Classroom \nClick to join via Zoom (Meeting ID: 839 7118 5697)
URL:https://www.templesinaidc.org/event/torah-study-119/2026-11-21/
LOCATION:Temple Sinai – 3100 Military Road NW\, Washington\, DC\, United States
CATEGORIES:Adult Education,Spotlight
ATTACH;FMTTYPE=image/jpeg:https://www.templesinaidc.org/wp-content/uploads/2025/02/IMG-450-scaled.jpg
GEO:38.96926;-77.070949
END:VEVENT
BEGIN:VEVENT
DTSTART;TZID=America/New_York:20261121T093000
DTEND;TZID=America/New_York:20261121T103000
DTSTAMP:20260424T074604
CREATED:20250212T204115Z
LAST-MODIFIED:20250512T193811Z
UID:10002050-1795253400-1795257000@www.templesinaidc.org
SUMMARY:Tot Shabbat Storytime
DESCRIPTION:Head to the TSLibrary for a special Shabbat Storytime with librarian Ruth Polk. We’ll also enjoy challah\, juice\, crafts\, and have some time to browse the shelves! \nRSVP here. \n\nBest for children ages 0-5 and their families.\n\nVisit the library any time! Check out the online catalogue.
URL:https://www.templesinaidc.org/event/tot-shabbat-storytime-4/2026-11-21/
LOCATION:Temple Sinai – 3100 Military Road NW\, Washington\, DC\, United States
CATEGORIES:Spotlight,Young Families
ATTACH;FMTTYPE=image/jpeg:https://www.templesinaidc.org/wp-content/uploads/2025/02/Library-Ruth-Polk-Storytime-scaled.jpg
GEO:38.96926;-77.070949
END:VEVENT
BEGIN:VEVENT
DTSTART;TZID=America/New_York:20261128T091500
DTEND;TZID=America/New_York:20261128T101500
DTSTAMP:20260424T074604
CREATED:20250211T185134Z
LAST-MODIFIED:20250430T194932Z
UID:10000940-1795857300-1795860900@www.templesinaidc.org
SUMMARY:Torah Study
DESCRIPTION:Join us in person or virtually every Saturday morning for a discussion of the Torah reading for the week led by our clergy. No RSVP necessary. \nVisit the Google Classroom \nClick to join via Zoom (Meeting ID: 839 7118 5697)
URL:https://www.templesinaidc.org/event/torah-study-119/2026-11-28/
LOCATION:Temple Sinai – 3100 Military Road NW\, Washington\, DC\, United States
CATEGORIES:Adult Education,Spotlight
ATTACH;FMTTYPE=image/jpeg:https://www.templesinaidc.org/wp-content/uploads/2025/02/IMG-450-scaled.jpg
GEO:38.96926;-77.070949
END:VEVENT
BEGIN:VEVENT
DTSTART;TZID=America/New_York:20261205T091500
DTEND;TZID=America/New_York:20261205T101500
DTSTAMP:20260424T074604
CREATED:20250211T185134Z
LAST-MODIFIED:20250430T194932Z
UID:10000941-1796462100-1796465700@www.templesinaidc.org
SUMMARY:Torah Study
DESCRIPTION:Join us in person or virtually every Saturday morning for a discussion of the Torah reading for the week led by our clergy. No RSVP necessary. \nVisit the Google Classroom \nClick to join via Zoom (Meeting ID: 839 7118 5697)
URL:https://www.templesinaidc.org/event/torah-study-119/2026-12-05/
LOCATION:Temple Sinai – 3100 Military Road NW\, Washington\, DC\, United States
CATEGORIES:Adult Education,Spotlight
ATTACH;FMTTYPE=image/jpeg:https://www.templesinaidc.org/wp-content/uploads/2025/02/IMG-450-scaled.jpg
GEO:38.96926;-77.070949
END:VEVENT
BEGIN:VEVENT
DTSTART;TZID=America/New_York:20261211T173000
DTEND;TZID=America/New_York:20261211T183000
DTSTAMP:20260424T074604
CREATED:20251202T132749Z
LAST-MODIFIED:20260203T185653Z
UID:10004032-1797010200-1797013800@www.templesinaidc.org
SUMMARY:Family Shabbat Dinner
DESCRIPTION:Come at 5:30 pm for a casual pizza dinner and activities before the 6:30 pm Shabbat Service. \nRSVP here \nThe cost is $18 per family to ensure this program can continue to thrive. Additional donations are welcome and a zero-cost option is available if this is more appropriate for your family. \nQuestions? Contact Lisa Resnikoff.
URL:https://www.templesinaidc.org/event/family-shabbat-dinner-8/2026-12-11/
LOCATION:Temple Sinai – 3100 Military Road NW\, Washington\, DC\, United States
CATEGORIES:Community,Spotlight,Young Families
ATTACH;FMTTYPE=image/png:https://www.templesinaidc.org/wp-content/uploads/2025/07/Family-Shabbats-2025-26.png
GEO:38.96926;-77.070949
END:VEVENT
BEGIN:VEVENT
DTSTART;TZID=America/New_York:20261212T091500
DTEND;TZID=America/New_York:20261212T101500
DTSTAMP:20260424T074604
CREATED:20250211T185134Z
LAST-MODIFIED:20250430T194932Z
UID:10000942-1797066900-1797070500@www.templesinaidc.org
SUMMARY:Torah Study
DESCRIPTION:Join us in person or virtually every Saturday morning for a discussion of the Torah reading for the week led by our clergy. No RSVP necessary. \nVisit the Google Classroom \nClick to join via Zoom (Meeting ID: 839 7118 5697)
URL:https://www.templesinaidc.org/event/torah-study-119/2026-12-12/
LOCATION:Temple Sinai – 3100 Military Road NW\, Washington\, DC\, United States
CATEGORIES:Adult Education,Spotlight
ATTACH;FMTTYPE=image/jpeg:https://www.templesinaidc.org/wp-content/uploads/2025/02/IMG-450-scaled.jpg
GEO:38.96926;-77.070949
END:VEVENT
BEGIN:VEVENT
DTSTART;TZID=America/New_York:20261219T091500
DTEND;TZID=America/New_York:20261219T101500
DTSTAMP:20260424T074604
CREATED:20250211T185134Z
LAST-MODIFIED:20250430T194932Z
UID:10000943-1797671700-1797675300@www.templesinaidc.org
SUMMARY:Torah Study
DESCRIPTION:Join us in person or virtually every Saturday morning for a discussion of the Torah reading for the week led by our clergy. No RSVP necessary. \nVisit the Google Classroom \nClick to join via Zoom (Meeting ID: 839 7118 5697)
URL:https://www.templesinaidc.org/event/torah-study-119/2026-12-19/
LOCATION:Temple Sinai – 3100 Military Road NW\, Washington\, DC\, United States
CATEGORIES:Adult Education,Spotlight
ATTACH;FMTTYPE=image/jpeg:https://www.templesinaidc.org/wp-content/uploads/2025/02/IMG-450-scaled.jpg
GEO:38.96926;-77.070949
END:VEVENT
BEGIN:VEVENT
DTSTART;TZID=America/New_York:20261219T093000
DTEND;TZID=America/New_York:20261219T103000
DTSTAMP:20260424T074604
CREATED:20250212T204115Z
LAST-MODIFIED:20250512T193811Z
UID:10002051-1797672600-1797676200@www.templesinaidc.org
SUMMARY:Tot Shabbat Storytime
DESCRIPTION:Head to the TSLibrary for a special Shabbat Storytime with librarian Ruth Polk. We’ll also enjoy challah\, juice\, crafts\, and have some time to browse the shelves! \nRSVP here. \n\nBest for children ages 0-5 and their families.\n\nVisit the library any time! Check out the online catalogue.
URL:https://www.templesinaidc.org/event/tot-shabbat-storytime-4/2026-12-19/
LOCATION:Temple Sinai – 3100 Military Road NW\, Washington\, DC\, United States
CATEGORIES:Spotlight,Young Families
ATTACH;FMTTYPE=image/jpeg:https://www.templesinaidc.org/wp-content/uploads/2025/02/Library-Ruth-Polk-Storytime-scaled.jpg
GEO:38.96926;-77.070949
END:VEVENT
BEGIN:VEVENT
DTSTART;TZID=America/New_York:20261226T091500
DTEND;TZID=America/New_York:20261226T101500
DTSTAMP:20260424T074604
CREATED:20250211T185134Z
LAST-MODIFIED:20250430T194932Z
UID:10000944-1798276500-1798280100@www.templesinaidc.org
SUMMARY:Torah Study
DESCRIPTION:Join us in person or virtually every Saturday morning for a discussion of the Torah reading for the week led by our clergy. No RSVP necessary. \nVisit the Google Classroom \nClick to join via Zoom (Meeting ID: 839 7118 5697)
URL:https://www.templesinaidc.org/event/torah-study-119/2026-12-26/
LOCATION:Temple Sinai – 3100 Military Road NW\, Washington\, DC\, United States
CATEGORIES:Adult Education,Spotlight
ATTACH;FMTTYPE=image/jpeg:https://www.templesinaidc.org/wp-content/uploads/2025/02/IMG-450-scaled.jpg
GEO:38.96926;-77.070949
END:VEVENT
BEGIN:VEVENT
DTSTART;TZID=America/New_York:20270102T091500
DTEND;TZID=America/New_York:20270102T101500
DTSTAMP:20260424T074604
CREATED:20250211T185134Z
LAST-MODIFIED:20250430T194932Z
UID:10000945-1798881300-1798884900@www.templesinaidc.org
SUMMARY:Torah Study
DESCRIPTION:Join us in person or virtually every Saturday morning for a discussion of the Torah reading for the week led by our clergy. No RSVP necessary. \nVisit the Google Classroom \nClick to join via Zoom (Meeting ID: 839 7118 5697)
URL:https://www.templesinaidc.org/event/torah-study-119/2027-01-02/
LOCATION:Temple Sinai – 3100 Military Road NW\, Washington\, DC\, United States
CATEGORIES:Adult Education,Spotlight
ATTACH;FMTTYPE=image/jpeg:https://www.templesinaidc.org/wp-content/uploads/2025/02/IMG-450-scaled.jpg
GEO:38.96926;-77.070949
END:VEVENT
BEGIN:VEVENT
DTSTART;TZID=America/New_York:20270109T091500
DTEND;TZID=America/New_York:20270109T101500
DTSTAMP:20260424T074604
CREATED:20250211T185134Z
LAST-MODIFIED:20250430T194932Z
UID:10000946-1799486100-1799489700@www.templesinaidc.org
SUMMARY:Torah Study
DESCRIPTION:Join us in person or virtually every Saturday morning for a discussion of the Torah reading for the week led by our clergy. No RSVP necessary. \nVisit the Google Classroom \nClick to join via Zoom (Meeting ID: 839 7118 5697)
URL:https://www.templesinaidc.org/event/torah-study-119/2027-01-09/
LOCATION:Temple Sinai – 3100 Military Road NW\, Washington\, DC\, United States
CATEGORIES:Adult Education,Spotlight
ATTACH;FMTTYPE=image/jpeg:https://www.templesinaidc.org/wp-content/uploads/2025/02/IMG-450-scaled.jpg
GEO:38.96926;-77.070949
END:VEVENT
BEGIN:VEVENT
DTSTART;TZID=America/New_York:20270116T091500
DTEND;TZID=America/New_York:20270116T101500
DTSTAMP:20260424T074604
CREATED:20250211T185134Z
LAST-MODIFIED:20250430T194932Z
UID:10000947-1800090900-1800094500@www.templesinaidc.org
SUMMARY:Torah Study
DESCRIPTION:Join us in person or virtually every Saturday morning for a discussion of the Torah reading for the week led by our clergy. No RSVP necessary. \nVisit the Google Classroom \nClick to join via Zoom (Meeting ID: 839 7118 5697)
URL:https://www.templesinaidc.org/event/torah-study-119/2027-01-16/
LOCATION:Temple Sinai – 3100 Military Road NW\, Washington\, DC\, United States
CATEGORIES:Adult Education,Spotlight
ATTACH;FMTTYPE=image/jpeg:https://www.templesinaidc.org/wp-content/uploads/2025/02/IMG-450-scaled.jpg
GEO:38.96926;-77.070949
END:VEVENT
BEGIN:VEVENT
DTSTART;TZID=America/New_York:20270116T093000
DTEND;TZID=America/New_York:20270116T103000
DTSTAMP:20260424T074604
CREATED:20250212T204115Z
LAST-MODIFIED:20250512T193811Z
UID:10002052-1800091800-1800095400@www.templesinaidc.org
SUMMARY:Tot Shabbat Storytime
DESCRIPTION:Head to the TSLibrary for a special Shabbat Storytime with librarian Ruth Polk. We’ll also enjoy challah\, juice\, crafts\, and have some time to browse the shelves! \nRSVP here. \n\nBest for children ages 0-5 and their families.\n\nVisit the library any time! Check out the online catalogue.
URL:https://www.templesinaidc.org/event/tot-shabbat-storytime-4/2027-01-16/
LOCATION:Temple Sinai – 3100 Military Road NW\, Washington\, DC\, United States
CATEGORIES:Spotlight,Young Families
ATTACH;FMTTYPE=image/jpeg:https://www.templesinaidc.org/wp-content/uploads/2025/02/Library-Ruth-Polk-Storytime-scaled.jpg
GEO:38.96926;-77.070949
END:VEVENT
BEGIN:VEVENT
DTSTART;TZID=America/New_York:20270123T091500
DTEND;TZID=America/New_York:20270123T101500
DTSTAMP:20260424T074604
CREATED:20250211T185134Z
LAST-MODIFIED:20250430T194932Z
UID:10000948-1800695700-1800699300@www.templesinaidc.org
SUMMARY:Torah Study
DESCRIPTION:Join us in person or virtually every Saturday morning for a discussion of the Torah reading for the week led by our clergy. No RSVP necessary. \nVisit the Google Classroom \nClick to join via Zoom (Meeting ID: 839 7118 5697)
URL:https://www.templesinaidc.org/event/torah-study-119/2027-01-23/
LOCATION:Temple Sinai – 3100 Military Road NW\, Washington\, DC\, United States
CATEGORIES:Adult Education,Spotlight
ATTACH;FMTTYPE=image/jpeg:https://www.templesinaidc.org/wp-content/uploads/2025/02/IMG-450-scaled.jpg
GEO:38.96926;-77.070949
END:VEVENT
BEGIN:VEVENT
DTSTART;TZID=America/New_York:20270130T091500
DTEND;TZID=America/New_York:20270130T101500
DTSTAMP:20260424T074604
CREATED:20250211T185134Z
LAST-MODIFIED:20250430T194932Z
UID:10000949-1801300500-1801304100@www.templesinaidc.org
SUMMARY:Torah Study
DESCRIPTION:Join us in person or virtually every Saturday morning for a discussion of the Torah reading for the week led by our clergy. No RSVP necessary. \nVisit the Google Classroom \nClick to join via Zoom (Meeting ID: 839 7118 5697)
URL:https://www.templesinaidc.org/event/torah-study-119/2027-01-30/
LOCATION:Temple Sinai – 3100 Military Road NW\, Washington\, DC\, United States
CATEGORIES:Adult Education,Spotlight
ATTACH;FMTTYPE=image/jpeg:https://www.templesinaidc.org/wp-content/uploads/2025/02/IMG-450-scaled.jpg
GEO:38.96926;-77.070949
END:VEVENT
BEGIN:VEVENT
DTSTART;TZID=America/New_York:20270206T091500
DTEND;TZID=America/New_York:20270206T101500
DTSTAMP:20260424T074604
CREATED:20250211T185134Z
LAST-MODIFIED:20250430T194932Z
UID:10000950-1801905300-1801908900@www.templesinaidc.org
SUMMARY:Torah Study
DESCRIPTION:Join us in person or virtually every Saturday morning for a discussion of the Torah reading for the week led by our clergy. No RSVP necessary. \nVisit the Google Classroom \nClick to join via Zoom (Meeting ID: 839 7118 5697)
URL:https://www.templesinaidc.org/event/torah-study-119/2027-02-06/
LOCATION:Temple Sinai – 3100 Military Road NW\, Washington\, DC\, United States
CATEGORIES:Adult Education,Spotlight
ATTACH;FMTTYPE=image/jpeg:https://www.templesinaidc.org/wp-content/uploads/2025/02/IMG-450-scaled.jpg
GEO:38.96926;-77.070949
END:VEVENT
BEGIN:VEVENT
DTSTART;TZID=America/New_York:20270213T091500
DTEND;TZID=America/New_York:20270213T101500
DTSTAMP:20260424T074604
CREATED:20250211T185134Z
LAST-MODIFIED:20250430T194932Z
UID:10000951-1802510100-1802513700@www.templesinaidc.org
SUMMARY:Torah Study
DESCRIPTION:Join us in person or virtually every Saturday morning for a discussion of the Torah reading for the week led by our clergy. No RSVP necessary. \nVisit the Google Classroom \nClick to join via Zoom (Meeting ID: 839 7118 5697)
URL:https://www.templesinaidc.org/event/torah-study-119/2027-02-13/
LOCATION:Temple Sinai – 3100 Military Road NW\, Washington\, DC\, United States
CATEGORIES:Adult Education,Spotlight
ATTACH;FMTTYPE=image/jpeg:https://www.templesinaidc.org/wp-content/uploads/2025/02/IMG-450-scaled.jpg
GEO:38.96926;-77.070949
END:VEVENT
BEGIN:VEVENT
DTSTART;TZID=America/New_York:20270220T091500
DTEND;TZID=America/New_York:20270220T101500
DTSTAMP:20260424T074604
CREATED:20250211T185134Z
LAST-MODIFIED:20250430T194932Z
UID:10000952-1803114900-1803118500@www.templesinaidc.org
SUMMARY:Torah Study
DESCRIPTION:Join us in person or virtually every Saturday morning for a discussion of the Torah reading for the week led by our clergy. No RSVP necessary. \nVisit the Google Classroom \nClick to join via Zoom (Meeting ID: 839 7118 5697)
URL:https://www.templesinaidc.org/event/torah-study-119/2027-02-20/
LOCATION:Temple Sinai – 3100 Military Road NW\, Washington\, DC\, United States
CATEGORIES:Adult Education,Spotlight
ATTACH;FMTTYPE=image/jpeg:https://www.templesinaidc.org/wp-content/uploads/2025/02/IMG-450-scaled.jpg
GEO:38.96926;-77.070949
END:VEVENT
END:VCALENDAR