BEGIN:VCALENDAR
VERSION:2.0
PRODID:-//Temple Sinai - ECPv6.15.20//NONSGML v1.0//EN
CALSCALE:GREGORIAN
METHOD:PUBLISH
X-WR-CALNAME:Temple Sinai
X-ORIGINAL-URL:https://www.templesinaidc.org
X-WR-CALDESC:Events for Temple Sinai
REFRESH-INTERVAL;VALUE=DURATION:PT1H
X-Robots-Tag:noindex
X-PUBLISHED-TTL:PT1H
BEGIN:VTIMEZONE
TZID:America/New_York
BEGIN:DAYLIGHT
TZOFFSETFROM:-0500
TZOFFSETTO:-0400
TZNAME:EDT
DTSTART:20260308T070000
END:DAYLIGHT
BEGIN:STANDARD
TZOFFSETFROM:-0400
TZOFFSETTO:-0500
TZNAME:EST
DTSTART:20261101T060000
END:STANDARD
BEGIN:DAYLIGHT
TZOFFSETFROM:-0500
TZOFFSETTO:-0400
TZNAME:EDT
DTSTART:20270314T070000
END:DAYLIGHT
BEGIN:STANDARD
TZOFFSETFROM:-0400
TZOFFSETTO:-0500
TZNAME:EST
DTSTART:20271107T060000
END:STANDARD
BEGIN:DAYLIGHT
TZOFFSETFROM:-0500
TZOFFSETTO:-0400
TZNAME:EDT
DTSTART:20280312T070000
END:DAYLIGHT
BEGIN:STANDARD
TZOFFSETFROM:-0400
TZOFFSETTO:-0500
TZNAME:EST
DTSTART:20281105T060000
END:STANDARD
END:VTIMEZONE
BEGIN:VEVENT
DTSTART;TZID=America/New_York:20270116T093000
DTEND;TZID=America/New_York:20270116T103000
DTSTAMP:20260424T110207
CREATED:20250212T204115Z
LAST-MODIFIED:20250512T193811Z
UID:10002052-1800091800-1800095400@www.templesinaidc.org
SUMMARY:Tot Shabbat Storytime
DESCRIPTION:Head to the TSLibrary for a special Shabbat Storytime with librarian Ruth Polk. We’ll also enjoy challah\, juice\, crafts\, and have some time to browse the shelves! \nRSVP here. \n\nBest for children ages 0-5 and their families.\n\nVisit the library any time! Check out the online catalogue.
URL:https://www.templesinaidc.org/event/tot-shabbat-storytime-4/2027-01-16/
LOCATION:Temple Sinai – 3100 Military Road NW\, Washington\, DC\, United States
CATEGORIES:Spotlight,Young Families
ATTACH;FMTTYPE=image/jpeg:https://www.templesinaidc.org/wp-content/uploads/2025/02/Library-Ruth-Polk-Storytime-scaled.jpg
GEO:38.96926;-77.070949
END:VEVENT
BEGIN:VEVENT
DTSTART;TZID=America/New_York:20270123T091500
DTEND;TZID=America/New_York:20270123T101500
DTSTAMP:20260424T110207
CREATED:20250211T185134Z
LAST-MODIFIED:20250430T194932Z
UID:10000948-1800695700-1800699300@www.templesinaidc.org
SUMMARY:Torah Study
DESCRIPTION:Join us in person or virtually every Saturday morning for a discussion of the Torah reading for the week led by our clergy. No RSVP necessary. \nVisit the Google Classroom \nClick to join via Zoom (Meeting ID: 839 7118 5697)
URL:https://www.templesinaidc.org/event/torah-study-119/2027-01-23/
LOCATION:Temple Sinai – 3100 Military Road NW\, Washington\, DC\, United States
CATEGORIES:Adult Education,Spotlight
ATTACH;FMTTYPE=image/jpeg:https://www.templesinaidc.org/wp-content/uploads/2025/02/IMG-450-scaled.jpg
GEO:38.96926;-77.070949
END:VEVENT
BEGIN:VEVENT
DTSTART;TZID=America/New_York:20270130T091500
DTEND;TZID=America/New_York:20270130T101500
DTSTAMP:20260424T110207
CREATED:20250211T185134Z
LAST-MODIFIED:20250430T194932Z
UID:10000949-1801300500-1801304100@www.templesinaidc.org
SUMMARY:Torah Study
DESCRIPTION:Join us in person or virtually every Saturday morning for a discussion of the Torah reading for the week led by our clergy. No RSVP necessary. \nVisit the Google Classroom \nClick to join via Zoom (Meeting ID: 839 7118 5697)
URL:https://www.templesinaidc.org/event/torah-study-119/2027-01-30/
LOCATION:Temple Sinai – 3100 Military Road NW\, Washington\, DC\, United States
CATEGORIES:Adult Education,Spotlight
ATTACH;FMTTYPE=image/jpeg:https://www.templesinaidc.org/wp-content/uploads/2025/02/IMG-450-scaled.jpg
GEO:38.96926;-77.070949
END:VEVENT
BEGIN:VEVENT
DTSTART;TZID=America/New_York:20270206T091500
DTEND;TZID=America/New_York:20270206T101500
DTSTAMP:20260424T110207
CREATED:20250211T185134Z
LAST-MODIFIED:20250430T194932Z
UID:10000950-1801905300-1801908900@www.templesinaidc.org
SUMMARY:Torah Study
DESCRIPTION:Join us in person or virtually every Saturday morning for a discussion of the Torah reading for the week led by our clergy. No RSVP necessary. \nVisit the Google Classroom \nClick to join via Zoom (Meeting ID: 839 7118 5697)
URL:https://www.templesinaidc.org/event/torah-study-119/2027-02-06/
LOCATION:Temple Sinai – 3100 Military Road NW\, Washington\, DC\, United States
CATEGORIES:Adult Education,Spotlight
ATTACH;FMTTYPE=image/jpeg:https://www.templesinaidc.org/wp-content/uploads/2025/02/IMG-450-scaled.jpg
GEO:38.96926;-77.070949
END:VEVENT
BEGIN:VEVENT
DTSTART;TZID=America/New_York:20270213T091500
DTEND;TZID=America/New_York:20270213T101500
DTSTAMP:20260424T110207
CREATED:20250211T185134Z
LAST-MODIFIED:20250430T194932Z
UID:10000951-1802510100-1802513700@www.templesinaidc.org
SUMMARY:Torah Study
DESCRIPTION:Join us in person or virtually every Saturday morning for a discussion of the Torah reading for the week led by our clergy. No RSVP necessary. \nVisit the Google Classroom \nClick to join via Zoom (Meeting ID: 839 7118 5697)
URL:https://www.templesinaidc.org/event/torah-study-119/2027-02-13/
LOCATION:Temple Sinai – 3100 Military Road NW\, Washington\, DC\, United States
CATEGORIES:Adult Education,Spotlight
ATTACH;FMTTYPE=image/jpeg:https://www.templesinaidc.org/wp-content/uploads/2025/02/IMG-450-scaled.jpg
GEO:38.96926;-77.070949
END:VEVENT
BEGIN:VEVENT
DTSTART;TZID=America/New_York:20270220T091500
DTEND;TZID=America/New_York:20270220T101500
DTSTAMP:20260424T110207
CREATED:20250211T185134Z
LAST-MODIFIED:20250430T194932Z
UID:10000952-1803114900-1803118500@www.templesinaidc.org
SUMMARY:Torah Study
DESCRIPTION:Join us in person or virtually every Saturday morning for a discussion of the Torah reading for the week led by our clergy. No RSVP necessary. \nVisit the Google Classroom \nClick to join via Zoom (Meeting ID: 839 7118 5697)
URL:https://www.templesinaidc.org/event/torah-study-119/2027-02-20/
LOCATION:Temple Sinai – 3100 Military Road NW\, Washington\, DC\, United States
CATEGORIES:Adult Education,Spotlight
ATTACH;FMTTYPE=image/jpeg:https://www.templesinaidc.org/wp-content/uploads/2025/02/IMG-450-scaled.jpg
GEO:38.96926;-77.070949
END:VEVENT
BEGIN:VEVENT
DTSTART;TZID=America/New_York:20270220T093000
DTEND;TZID=America/New_York:20270220T103000
DTSTAMP:20260424T110207
CREATED:20250212T204115Z
LAST-MODIFIED:20250512T193811Z
UID:10002053-1803115800-1803119400@www.templesinaidc.org
SUMMARY:Tot Shabbat Storytime
DESCRIPTION:Head to the TSLibrary for a special Shabbat Storytime with librarian Ruth Polk. We’ll also enjoy challah\, juice\, crafts\, and have some time to browse the shelves! \nRSVP here. \n\nBest for children ages 0-5 and their families.\n\nVisit the library any time! Check out the online catalogue.
URL:https://www.templesinaidc.org/event/tot-shabbat-storytime-4/2027-02-20/
LOCATION:Temple Sinai – 3100 Military Road NW\, Washington\, DC\, United States
CATEGORIES:Spotlight,Young Families
ATTACH;FMTTYPE=image/jpeg:https://www.templesinaidc.org/wp-content/uploads/2025/02/Library-Ruth-Polk-Storytime-scaled.jpg
GEO:38.96926;-77.070949
END:VEVENT
BEGIN:VEVENT
DTSTART;TZID=America/New_York:20270227T091500
DTEND;TZID=America/New_York:20270227T101500
DTSTAMP:20260424T110207
CREATED:20250211T185134Z
LAST-MODIFIED:20250430T194932Z
UID:10000953-1803719700-1803723300@www.templesinaidc.org
SUMMARY:Torah Study
DESCRIPTION:Join us in person or virtually every Saturday morning for a discussion of the Torah reading for the week led by our clergy. No RSVP necessary. \nVisit the Google Classroom \nClick to join via Zoom (Meeting ID: 839 7118 5697)
URL:https://www.templesinaidc.org/event/torah-study-119/2027-02-27/
LOCATION:Temple Sinai – 3100 Military Road NW\, Washington\, DC\, United States
CATEGORIES:Adult Education,Spotlight
ATTACH;FMTTYPE=image/jpeg:https://www.templesinaidc.org/wp-content/uploads/2025/02/IMG-450-scaled.jpg
GEO:38.96926;-77.070949
END:VEVENT
BEGIN:VEVENT
DTSTART;TZID=America/New_York:20270306T091500
DTEND;TZID=America/New_York:20270306T101500
DTSTAMP:20260424T110207
CREATED:20250211T185134Z
LAST-MODIFIED:20250430T194932Z
UID:10000954-1804324500-1804328100@www.templesinaidc.org
SUMMARY:Torah Study
DESCRIPTION:Join us in person or virtually every Saturday morning for a discussion of the Torah reading for the week led by our clergy. No RSVP necessary. \nVisit the Google Classroom \nClick to join via Zoom (Meeting ID: 839 7118 5697)
URL:https://www.templesinaidc.org/event/torah-study-119/2027-03-06/
LOCATION:Temple Sinai – 3100 Military Road NW\, Washington\, DC\, United States
CATEGORIES:Adult Education,Spotlight
ATTACH;FMTTYPE=image/jpeg:https://www.templesinaidc.org/wp-content/uploads/2025/02/IMG-450-scaled.jpg
GEO:38.96926;-77.070949
END:VEVENT
BEGIN:VEVENT
DTSTART;TZID=America/New_York:20270313T091500
DTEND;TZID=America/New_York:20270313T101500
DTSTAMP:20260424T110207
CREATED:20250211T185134Z
LAST-MODIFIED:20250430T194932Z
UID:10000955-1804929300-1804932900@www.templesinaidc.org
SUMMARY:Torah Study
DESCRIPTION:Join us in person or virtually every Saturday morning for a discussion of the Torah reading for the week led by our clergy. No RSVP necessary. \nVisit the Google Classroom \nClick to join via Zoom (Meeting ID: 839 7118 5697)
URL:https://www.templesinaidc.org/event/torah-study-119/2027-03-13/
LOCATION:Temple Sinai – 3100 Military Road NW\, Washington\, DC\, United States
CATEGORIES:Adult Education,Spotlight
ATTACH;FMTTYPE=image/jpeg:https://www.templesinaidc.org/wp-content/uploads/2025/02/IMG-450-scaled.jpg
GEO:38.96926;-77.070949
END:VEVENT
BEGIN:VEVENT
DTSTART;TZID=America/New_York:20270320T091500
DTEND;TZID=America/New_York:20270320T101500
DTSTAMP:20260424T110207
CREATED:20250211T185134Z
LAST-MODIFIED:20250430T194932Z
UID:10000956-1805534100-1805537700@www.templesinaidc.org
SUMMARY:Torah Study
DESCRIPTION:Join us in person or virtually every Saturday morning for a discussion of the Torah reading for the week led by our clergy. No RSVP necessary. \nVisit the Google Classroom \nClick to join via Zoom (Meeting ID: 839 7118 5697)
URL:https://www.templesinaidc.org/event/torah-study-119/2027-03-20/
LOCATION:Temple Sinai – 3100 Military Road NW\, Washington\, DC\, United States
CATEGORIES:Adult Education,Spotlight
ATTACH;FMTTYPE=image/jpeg:https://www.templesinaidc.org/wp-content/uploads/2025/02/IMG-450-scaled.jpg
GEO:38.96926;-77.070949
END:VEVENT
BEGIN:VEVENT
DTSTART;TZID=America/New_York:20270320T093000
DTEND;TZID=America/New_York:20270320T103000
DTSTAMP:20260424T110207
CREATED:20250212T204115Z
LAST-MODIFIED:20250512T193811Z
UID:10002054-1805535000-1805538600@www.templesinaidc.org
SUMMARY:Tot Shabbat Storytime
DESCRIPTION:Head to the TSLibrary for a special Shabbat Storytime with librarian Ruth Polk. We’ll also enjoy challah\, juice\, crafts\, and have some time to browse the shelves! \nRSVP here. \n\nBest for children ages 0-5 and their families.\n\nVisit the library any time! Check out the online catalogue.
URL:https://www.templesinaidc.org/event/tot-shabbat-storytime-4/2027-03-20/
LOCATION:Temple Sinai – 3100 Military Road NW\, Washington\, DC\, United States
CATEGORIES:Spotlight,Young Families
ATTACH;FMTTYPE=image/jpeg:https://www.templesinaidc.org/wp-content/uploads/2025/02/Library-Ruth-Polk-Storytime-scaled.jpg
GEO:38.96926;-77.070949
END:VEVENT
BEGIN:VEVENT
DTSTART;TZID=America/New_York:20270327T091500
DTEND;TZID=America/New_York:20270327T101500
DTSTAMP:20260424T110207
CREATED:20250211T185134Z
LAST-MODIFIED:20250430T194932Z
UID:10000957-1806138900-1806142500@www.templesinaidc.org
SUMMARY:Torah Study
DESCRIPTION:Join us in person or virtually every Saturday morning for a discussion of the Torah reading for the week led by our clergy. No RSVP necessary. \nVisit the Google Classroom \nClick to join via Zoom (Meeting ID: 839 7118 5697)
URL:https://www.templesinaidc.org/event/torah-study-119/2027-03-27/
LOCATION:Temple Sinai – 3100 Military Road NW\, Washington\, DC\, United States
CATEGORIES:Adult Education,Spotlight
ATTACH;FMTTYPE=image/jpeg:https://www.templesinaidc.org/wp-content/uploads/2025/02/IMG-450-scaled.jpg
GEO:38.96926;-77.070949
END:VEVENT
BEGIN:VEVENT
DTSTART;TZID=America/New_York:20270403T091500
DTEND;TZID=America/New_York:20270403T101500
DTSTAMP:20260424T110207
CREATED:20250211T185134Z
LAST-MODIFIED:20250430T194932Z
UID:10000958-1806743700-1806747300@www.templesinaidc.org
SUMMARY:Torah Study
DESCRIPTION:Join us in person or virtually every Saturday morning for a discussion of the Torah reading for the week led by our clergy. No RSVP necessary. \nVisit the Google Classroom \nClick to join via Zoom (Meeting ID: 839 7118 5697)
URL:https://www.templesinaidc.org/event/torah-study-119/2027-04-03/
LOCATION:Temple Sinai – 3100 Military Road NW\, Washington\, DC\, United States
CATEGORIES:Adult Education,Spotlight
ATTACH;FMTTYPE=image/jpeg:https://www.templesinaidc.org/wp-content/uploads/2025/02/IMG-450-scaled.jpg
GEO:38.96926;-77.070949
END:VEVENT
BEGIN:VEVENT
DTSTART;TZID=America/New_York:20270410T091500
DTEND;TZID=America/New_York:20270410T101500
DTSTAMP:20260424T110207
CREATED:20250211T185134Z
LAST-MODIFIED:20250430T194932Z
UID:10000959-1807348500-1807352100@www.templesinaidc.org
SUMMARY:Torah Study
DESCRIPTION:Join us in person or virtually every Saturday morning for a discussion of the Torah reading for the week led by our clergy. No RSVP necessary. \nVisit the Google Classroom \nClick to join via Zoom (Meeting ID: 839 7118 5697)
URL:https://www.templesinaidc.org/event/torah-study-119/2027-04-10/
LOCATION:Temple Sinai – 3100 Military Road NW\, Washington\, DC\, United States
CATEGORIES:Adult Education,Spotlight
ATTACH;FMTTYPE=image/jpeg:https://www.templesinaidc.org/wp-content/uploads/2025/02/IMG-450-scaled.jpg
GEO:38.96926;-77.070949
END:VEVENT
BEGIN:VEVENT
DTSTART;TZID=America/New_York:20270417T091500
DTEND;TZID=America/New_York:20270417T101500
DTSTAMP:20260424T110207
CREATED:20250211T185134Z
LAST-MODIFIED:20250430T194932Z
UID:10000960-1807953300-1807956900@www.templesinaidc.org
SUMMARY:Torah Study
DESCRIPTION:Join us in person or virtually every Saturday morning for a discussion of the Torah reading for the week led by our clergy. No RSVP necessary. \nVisit the Google Classroom \nClick to join via Zoom (Meeting ID: 839 7118 5697)
URL:https://www.templesinaidc.org/event/torah-study-119/2027-04-17/
LOCATION:Temple Sinai – 3100 Military Road NW\, Washington\, DC\, United States
CATEGORIES:Adult Education,Spotlight
ATTACH;FMTTYPE=image/jpeg:https://www.templesinaidc.org/wp-content/uploads/2025/02/IMG-450-scaled.jpg
GEO:38.96926;-77.070949
END:VEVENT
BEGIN:VEVENT
DTSTART;TZID=America/New_York:20270417T093000
DTEND;TZID=America/New_York:20270417T103000
DTSTAMP:20260424T110207
CREATED:20250212T204115Z
LAST-MODIFIED:20250512T193811Z
UID:10002055-1807954200-1807957800@www.templesinaidc.org
SUMMARY:Tot Shabbat Storytime
DESCRIPTION:Head to the TSLibrary for a special Shabbat Storytime with librarian Ruth Polk. We’ll also enjoy challah\, juice\, crafts\, and have some time to browse the shelves! \nRSVP here. \n\nBest for children ages 0-5 and their families.\n\nVisit the library any time! Check out the online catalogue.
URL:https://www.templesinaidc.org/event/tot-shabbat-storytime-4/2027-04-17/
LOCATION:Temple Sinai – 3100 Military Road NW\, Washington\, DC\, United States
CATEGORIES:Spotlight,Young Families
ATTACH;FMTTYPE=image/jpeg:https://www.templesinaidc.org/wp-content/uploads/2025/02/Library-Ruth-Polk-Storytime-scaled.jpg
GEO:38.96926;-77.070949
END:VEVENT
BEGIN:VEVENT
DTSTART;TZID=America/New_York:20270424T091500
DTEND;TZID=America/New_York:20270424T101500
DTSTAMP:20260424T110207
CREATED:20250211T185134Z
LAST-MODIFIED:20250430T194932Z
UID:10000961-1808558100-1808561700@www.templesinaidc.org
SUMMARY:Torah Study
DESCRIPTION:Join us in person or virtually every Saturday morning for a discussion of the Torah reading for the week led by our clergy. No RSVP necessary. \nVisit the Google Classroom \nClick to join via Zoom (Meeting ID: 839 7118 5697)
URL:https://www.templesinaidc.org/event/torah-study-119/2027-04-24/
LOCATION:Temple Sinai – 3100 Military Road NW\, Washington\, DC\, United States
CATEGORIES:Adult Education,Spotlight
ATTACH;FMTTYPE=image/jpeg:https://www.templesinaidc.org/wp-content/uploads/2025/02/IMG-450-scaled.jpg
GEO:38.96926;-77.070949
END:VEVENT
BEGIN:VEVENT
DTSTART;TZID=America/New_York:20270501T091500
DTEND;TZID=America/New_York:20270501T101500
DTSTAMP:20260424T110207
CREATED:20250211T185134Z
LAST-MODIFIED:20250430T194932Z
UID:10000962-1809162900-1809166500@www.templesinaidc.org
SUMMARY:Torah Study
DESCRIPTION:Join us in person or virtually every Saturday morning for a discussion of the Torah reading for the week led by our clergy. No RSVP necessary. \nVisit the Google Classroom \nClick to join via Zoom (Meeting ID: 839 7118 5697)
URL:https://www.templesinaidc.org/event/torah-study-119/2027-05-01/
LOCATION:Temple Sinai – 3100 Military Road NW\, Washington\, DC\, United States
CATEGORIES:Adult Education,Spotlight
ATTACH;FMTTYPE=image/jpeg:https://www.templesinaidc.org/wp-content/uploads/2025/02/IMG-450-scaled.jpg
GEO:38.96926;-77.070949
END:VEVENT
BEGIN:VEVENT
DTSTART;TZID=America/New_York:20270508T091500
DTEND;TZID=America/New_York:20270508T101500
DTSTAMP:20260424T110207
CREATED:20250211T185134Z
LAST-MODIFIED:20250430T194932Z
UID:10000963-1809767700-1809771300@www.templesinaidc.org
SUMMARY:Torah Study
DESCRIPTION:Join us in person or virtually every Saturday morning for a discussion of the Torah reading for the week led by our clergy. No RSVP necessary. \nVisit the Google Classroom \nClick to join via Zoom (Meeting ID: 839 7118 5697)
URL:https://www.templesinaidc.org/event/torah-study-119/2027-05-08/
LOCATION:Temple Sinai – 3100 Military Road NW\, Washington\, DC\, United States
CATEGORIES:Adult Education,Spotlight
ATTACH;FMTTYPE=image/jpeg:https://www.templesinaidc.org/wp-content/uploads/2025/02/IMG-450-scaled.jpg
GEO:38.96926;-77.070949
END:VEVENT
BEGIN:VEVENT
DTSTART;TZID=America/New_York:20270515T091500
DTEND;TZID=America/New_York:20270515T101500
DTSTAMP:20260424T110207
CREATED:20250211T185134Z
LAST-MODIFIED:20250430T194932Z
UID:10000964-1810372500-1810376100@www.templesinaidc.org
SUMMARY:Torah Study
DESCRIPTION:Join us in person or virtually every Saturday morning for a discussion of the Torah reading for the week led by our clergy. No RSVP necessary. \nVisit the Google Classroom \nClick to join via Zoom (Meeting ID: 839 7118 5697)
URL:https://www.templesinaidc.org/event/torah-study-119/2027-05-15/
LOCATION:Temple Sinai – 3100 Military Road NW\, Washington\, DC\, United States
CATEGORIES:Adult Education,Spotlight
ATTACH;FMTTYPE=image/jpeg:https://www.templesinaidc.org/wp-content/uploads/2025/02/IMG-450-scaled.jpg
GEO:38.96926;-77.070949
END:VEVENT
BEGIN:VEVENT
DTSTART;TZID=America/New_York:20270515T093000
DTEND;TZID=America/New_York:20270515T103000
DTSTAMP:20260424T110207
CREATED:20250212T204115Z
LAST-MODIFIED:20250512T193811Z
UID:10002056-1810373400-1810377000@www.templesinaidc.org
SUMMARY:Tot Shabbat Storytime
DESCRIPTION:Head to the TSLibrary for a special Shabbat Storytime with librarian Ruth Polk. We’ll also enjoy challah\, juice\, crafts\, and have some time to browse the shelves! \nRSVP here. \n\nBest for children ages 0-5 and their families.\n\nVisit the library any time! Check out the online catalogue.
URL:https://www.templesinaidc.org/event/tot-shabbat-storytime-4/2027-05-15/
LOCATION:Temple Sinai – 3100 Military Road NW\, Washington\, DC\, United States
CATEGORIES:Spotlight,Young Families
ATTACH;FMTTYPE=image/jpeg:https://www.templesinaidc.org/wp-content/uploads/2025/02/Library-Ruth-Polk-Storytime-scaled.jpg
GEO:38.96926;-77.070949
END:VEVENT
BEGIN:VEVENT
DTSTART;TZID=America/New_York:20270522T091500
DTEND;TZID=America/New_York:20270522T101500
DTSTAMP:20260424T110207
CREATED:20250211T185134Z
LAST-MODIFIED:20250430T194932Z
UID:10000965-1810977300-1810980900@www.templesinaidc.org
SUMMARY:Torah Study
DESCRIPTION:Join us in person or virtually every Saturday morning for a discussion of the Torah reading for the week led by our clergy. No RSVP necessary. \nVisit the Google Classroom \nClick to join via Zoom (Meeting ID: 839 7118 5697)
URL:https://www.templesinaidc.org/event/torah-study-119/2027-05-22/
LOCATION:Temple Sinai – 3100 Military Road NW\, Washington\, DC\, United States
CATEGORIES:Adult Education,Spotlight
ATTACH;FMTTYPE=image/jpeg:https://www.templesinaidc.org/wp-content/uploads/2025/02/IMG-450-scaled.jpg
GEO:38.96926;-77.070949
END:VEVENT
BEGIN:VEVENT
DTSTART;TZID=America/New_York:20270529T091500
DTEND;TZID=America/New_York:20270529T101500
DTSTAMP:20260424T110207
CREATED:20250211T185134Z
LAST-MODIFIED:20250430T194932Z
UID:10000966-1811582100-1811585700@www.templesinaidc.org
SUMMARY:Torah Study
DESCRIPTION:Join us in person or virtually every Saturday morning for a discussion of the Torah reading for the week led by our clergy. No RSVP necessary. \nVisit the Google Classroom \nClick to join via Zoom (Meeting ID: 839 7118 5697)
URL:https://www.templesinaidc.org/event/torah-study-119/2027-05-29/
LOCATION:Temple Sinai – 3100 Military Road NW\, Washington\, DC\, United States
CATEGORIES:Adult Education,Spotlight
ATTACH;FMTTYPE=image/jpeg:https://www.templesinaidc.org/wp-content/uploads/2025/02/IMG-450-scaled.jpg
GEO:38.96926;-77.070949
END:VEVENT
BEGIN:VEVENT
DTSTART;TZID=America/New_York:20270605T091500
DTEND;TZID=America/New_York:20270605T101500
DTSTAMP:20260424T110208
CREATED:20250211T185134Z
LAST-MODIFIED:20250430T194932Z
UID:10000967-1812186900-1812190500@www.templesinaidc.org
SUMMARY:Torah Study
DESCRIPTION:Join us in person or virtually every Saturday morning for a discussion of the Torah reading for the week led by our clergy. No RSVP necessary. \nVisit the Google Classroom \nClick to join via Zoom (Meeting ID: 839 7118 5697)
URL:https://www.templesinaidc.org/event/torah-study-119/2027-06-05/
LOCATION:Temple Sinai – 3100 Military Road NW\, Washington\, DC\, United States
CATEGORIES:Adult Education,Spotlight
ATTACH;FMTTYPE=image/jpeg:https://www.templesinaidc.org/wp-content/uploads/2025/02/IMG-450-scaled.jpg
GEO:38.96926;-77.070949
END:VEVENT
BEGIN:VEVENT
DTSTART;TZID=America/New_York:20270612T091500
DTEND;TZID=America/New_York:20270612T101500
DTSTAMP:20260424T110208
CREATED:20250211T185134Z
LAST-MODIFIED:20250430T194932Z
UID:10000968-1812791700-1812795300@www.templesinaidc.org
SUMMARY:Torah Study
DESCRIPTION:Join us in person or virtually every Saturday morning for a discussion of the Torah reading for the week led by our clergy. No RSVP necessary. \nVisit the Google Classroom \nClick to join via Zoom (Meeting ID: 839 7118 5697)
URL:https://www.templesinaidc.org/event/torah-study-119/2027-06-12/
LOCATION:Temple Sinai – 3100 Military Road NW\, Washington\, DC\, United States
CATEGORIES:Adult Education,Spotlight
ATTACH;FMTTYPE=image/jpeg:https://www.templesinaidc.org/wp-content/uploads/2025/02/IMG-450-scaled.jpg
GEO:38.96926;-77.070949
END:VEVENT
BEGIN:VEVENT
DTSTART;TZID=America/New_York:20270619T091500
DTEND;TZID=America/New_York:20270619T101500
DTSTAMP:20260424T110208
CREATED:20250211T185134Z
LAST-MODIFIED:20250430T194932Z
UID:10000969-1813396500-1813400100@www.templesinaidc.org
SUMMARY:Torah Study
DESCRIPTION:Join us in person or virtually every Saturday morning for a discussion of the Torah reading for the week led by our clergy. No RSVP necessary. \nVisit the Google Classroom \nClick to join via Zoom (Meeting ID: 839 7118 5697)
URL:https://www.templesinaidc.org/event/torah-study-119/2027-06-19/
LOCATION:Temple Sinai – 3100 Military Road NW\, Washington\, DC\, United States
CATEGORIES:Adult Education,Spotlight
ATTACH;FMTTYPE=image/jpeg:https://www.templesinaidc.org/wp-content/uploads/2025/02/IMG-450-scaled.jpg
GEO:38.96926;-77.070949
END:VEVENT
BEGIN:VEVENT
DTSTART;TZID=America/New_York:20270619T093000
DTEND;TZID=America/New_York:20270619T103000
DTSTAMP:20260424T110208
CREATED:20250212T204115Z
LAST-MODIFIED:20250512T193811Z
UID:10002057-1813397400-1813401000@www.templesinaidc.org
SUMMARY:Tot Shabbat Storytime
DESCRIPTION:Head to the TSLibrary for a special Shabbat Storytime with librarian Ruth Polk. We’ll also enjoy challah\, juice\, crafts\, and have some time to browse the shelves! \nRSVP here. \n\nBest for children ages 0-5 and their families.\n\nVisit the library any time! Check out the online catalogue.
URL:https://www.templesinaidc.org/event/tot-shabbat-storytime-4/2027-06-19/
LOCATION:Temple Sinai – 3100 Military Road NW\, Washington\, DC\, United States
CATEGORIES:Spotlight,Young Families
ATTACH;FMTTYPE=image/jpeg:https://www.templesinaidc.org/wp-content/uploads/2025/02/Library-Ruth-Polk-Storytime-scaled.jpg
GEO:38.96926;-77.070949
END:VEVENT
BEGIN:VEVENT
DTSTART;TZID=America/New_York:20270626T091500
DTEND;TZID=America/New_York:20270626T101500
DTSTAMP:20260424T110208
CREATED:20250211T185134Z
LAST-MODIFIED:20250430T194932Z
UID:10000970-1814001300-1814004900@www.templesinaidc.org
SUMMARY:Torah Study
DESCRIPTION:Join us in person or virtually every Saturday morning for a discussion of the Torah reading for the week led by our clergy. No RSVP necessary. \nVisit the Google Classroom \nClick to join via Zoom (Meeting ID: 839 7118 5697)
URL:https://www.templesinaidc.org/event/torah-study-119/2027-06-26/
LOCATION:Temple Sinai – 3100 Military Road NW\, Washington\, DC\, United States
CATEGORIES:Adult Education,Spotlight
ATTACH;FMTTYPE=image/jpeg:https://www.templesinaidc.org/wp-content/uploads/2025/02/IMG-450-scaled.jpg
GEO:38.96926;-77.070949
END:VEVENT
BEGIN:VEVENT
DTSTART;TZID=America/New_York:20270703T091500
DTEND;TZID=America/New_York:20270703T101500
DTSTAMP:20260424T110208
CREATED:20250211T185134Z
LAST-MODIFIED:20250430T194932Z
UID:10000971-1814606100-1814609700@www.templesinaidc.org
SUMMARY:Torah Study
DESCRIPTION:Join us in person or virtually every Saturday morning for a discussion of the Torah reading for the week led by our clergy. No RSVP necessary. \nVisit the Google Classroom \nClick to join via Zoom (Meeting ID: 839 7118 5697)
URL:https://www.templesinaidc.org/event/torah-study-119/2027-07-03/
LOCATION:Temple Sinai – 3100 Military Road NW\, Washington\, DC\, United States
CATEGORIES:Adult Education,Spotlight
ATTACH;FMTTYPE=image/jpeg:https://www.templesinaidc.org/wp-content/uploads/2025/02/IMG-450-scaled.jpg
GEO:38.96926;-77.070949
END:VEVENT
END:VCALENDAR