BEGIN:VCALENDAR
VERSION:2.0
PRODID:-//Temple Sinai - ECPv6.15.20//NONSGML v1.0//EN
CALSCALE:GREGORIAN
METHOD:PUBLISH
X-WR-CALNAME:Temple Sinai
X-ORIGINAL-URL:https://www.templesinaidc.org
X-WR-CALDESC:Events for Temple Sinai
REFRESH-INTERVAL;VALUE=DURATION:PT1H
X-Robots-Tag:noindex
X-PUBLISHED-TTL:PT1H
BEGIN:VTIMEZONE
TZID:America/New_York
BEGIN:DAYLIGHT
TZOFFSETFROM:-0500
TZOFFSETTO:-0400
TZNAME:EDT
DTSTART:20240310T070000
END:DAYLIGHT
BEGIN:STANDARD
TZOFFSETFROM:-0400
TZOFFSETTO:-0500
TZNAME:EST
DTSTART:20241103T060000
END:STANDARD
BEGIN:DAYLIGHT
TZOFFSETFROM:-0500
TZOFFSETTO:-0400
TZNAME:EDT
DTSTART:20250309T070000
END:DAYLIGHT
BEGIN:STANDARD
TZOFFSETFROM:-0400
TZOFFSETTO:-0500
TZNAME:EST
DTSTART:20251102T060000
END:STANDARD
BEGIN:DAYLIGHT
TZOFFSETFROM:-0500
TZOFFSETTO:-0400
TZNAME:EDT
DTSTART:20260308T070000
END:DAYLIGHT
BEGIN:STANDARD
TZOFFSETFROM:-0400
TZOFFSETTO:-0500
TZNAME:EST
DTSTART:20261101T060000
END:STANDARD
END:VTIMEZONE
BEGIN:VEVENT
DTSTART;VALUE=DATE:20250923
DTEND;VALUE=DATE:20250924
DTSTAMP:20260420T182148
CREATED:20250805T115826Z
LAST-MODIFIED:20250805T115826Z
UID:10003593-1758585600-1758671999@www.templesinaidc.org
SUMMARY:Rosh HaShanah
DESCRIPTION:Learn more about our service schedule and other details here.
URL:https://www.templesinaidc.org/event/rosh-hashanah/
LOCATION:DC
CATEGORIES:Holidays,Spotlight
ATTACH;FMTTYPE=image/jpeg:https://www.templesinaidc.org/wp-content/uploads/2025/08/High-Holidays-No-Date-Presentation-169.jpg
END:VEVENT
BEGIN:VEVENT
DTSTART;VALUE=DATE:20250922
DTEND;VALUE=DATE:20250923
DTSTAMP:20260420T182148
CREATED:20250805T115651Z
LAST-MODIFIED:20250805T115716Z
UID:10003592-1758499200-1758585599@www.templesinaidc.org
SUMMARY:Erev Rosh HaShanah
DESCRIPTION:Learn more about our service schedule and other details here.
URL:https://www.templesinaidc.org/event/erev-rosh-hashanah/
LOCATION:DC
CATEGORIES:Holidays,Spotlight
ATTACH;FMTTYPE=image/jpeg:https://www.templesinaidc.org/wp-content/uploads/2025/08/High-Holidays-No-Date-Presentation-169.jpg
END:VEVENT
BEGIN:VEVENT
DTSTART;TZID=America/New_York:20250920T103000
DTEND;TZID=America/New_York:20250920T120000
DTSTAMP:20260420T182148
CREATED:20250212T171449Z
LAST-MODIFIED:20250407T154902Z
UID:10001575-1758364200-1758369600@www.templesinaidc.org
SUMMARY:Kehillat Shabbat Service
DESCRIPTION:These lay-led services offer opportunities to chant a few verses of Torah or Haftarah in a supportive atmosphere. Participants can also sign up to deliver a d’var Torah (analysis of the weekly Torah portion) that leads to a group discussion. \nLivestream links are posted on our website weekly
URL:https://www.templesinaidc.org/event/kehillat-shabbat-service-24/2025-09-20/
LOCATION:Temple Sinai – 3100 Military Road NW\, Washington\, DC\, United States
CATEGORIES:Worship
GEO:38.96926;-77.070949
END:VEVENT
BEGIN:VEVENT
DTSTART;TZID=America/New_York:20250919T183000
DTEND;TZID=America/New_York:20250919T203000
DTSTAMP:20260420T182148
CREATED:20250805T114614Z
LAST-MODIFIED:20250910T175454Z
UID:10002196-1758306600-1758313800@www.templesinaidc.org
SUMMARY:Selichot Shabbat Service & Festive Oneg
DESCRIPTION:The New Year is almost here! Selichot (a service of forgiveness) is your chance to get yourself in the right head and heart space for the High Holidays. The traditional Selichot liturgy is a series of penitential prayers. \nAt Temple Sinai\, we bring the themes of Selichot into our final Shabbat before Rosh HaShanah. At this in-the-round service featuring Sonya Hayes on violin\, we will begin to hear the familiar musical themes of the holidays and change the Torah covers to white as we mark our final Shabbat of preparation before the Days of Awe. \nA festive oneg will follow tonight’s service. \nClick here for livestream.
URL:https://www.templesinaidc.org/event/shabbat-service-6-13/
LOCATION:Temple Sinai – 3100 Military Road NW\, Washington\, DC\, United States
CATEGORIES:Worship
ATTACH;FMTTYPE=image/jpeg:https://www.templesinaidc.org/wp-content/uploads/2025/08/Selichot-Shabbat.jpg
GEO:38.96926;-77.070949
END:VEVENT
BEGIN:VEVENT
DTSTART;TZID=America/New_York:20250913T173000
DTEND;TZID=America/New_York:20250913T184500
DTSTAMP:20260420T182148
CREATED:20250407T184755Z
LAST-MODIFIED:20250421T161436Z
UID:10002664-1757784600-1757789100@www.templesinaidc.org
SUMMARY:B'nei Mitzvah of Zac Wancjer and Sebastian Neustadt
DESCRIPTION:
URL:https://www.templesinaidc.org/event/bnei-mitzvah-of-zac-wancjer-and-sebastian-neustadt/
LOCATION:Temple Sinai – 3100 Military Road NW\, Washington\, DC\, United States
CATEGORIES:Worship
ATTACH;FMTTYPE=image/jpeg:https://www.templesinaidc.org/wp-content/uploads/2025/02/Boxcast-.jpg
GEO:38.96926;-77.070949
END:VEVENT
BEGIN:VEVENT
DTSTART;TZID=America/New_York:20250913T103000
DTEND;TZID=America/New_York:20250913T120000
DTSTAMP:20260420T182148
CREATED:20250407T184731Z
LAST-MODIFIED:20250421T161436Z
UID:10002663-1757759400-1757764800@www.templesinaidc.org
SUMMARY:B'nei Mitzvah of Jake Zelin and Bea Harbert
DESCRIPTION:
URL:https://www.templesinaidc.org/event/bnei-mitzvah-of-jake-zelin-and-bea-harbert/
LOCATION:Temple Sinai – 3100 Military Road NW\, Washington\, DC\, United States
CATEGORIES:Worship
ATTACH;FMTTYPE=image/jpeg:https://www.templesinaidc.org/wp-content/uploads/2025/02/Boxcast-.jpg
GEO:38.96926;-77.070949
END:VEVENT
BEGIN:VEVENT
DTSTART;TZID=America/New_York:20250912T183000
DTEND;TZID=America/New_York:20250912T193000
DTSTAMP:20260420T182148
CREATED:20250828T192738Z
LAST-MODIFIED:20250828T192739Z
UID:10002195-1757701800-1757705400@www.templesinaidc.org
SUMMARY:Shabbat Service
DESCRIPTION:Join us in person or virtually for our weekly Shabbat service. Click here for livestream
URL:https://www.templesinaidc.org/event/shabbat-service-6-14/
LOCATION:Temple Sinai – 3100 Military Road NW\, Washington\, DC\, United States
CATEGORIES:Worship
ATTACH;FMTTYPE=image/jpeg:https://www.templesinaidc.org/wp-content/uploads/2025/02/Boxcast-.jpg
GEO:38.96926;-77.070949
END:VEVENT
BEGIN:VEVENT
DTSTART;TZID=America/New_York:20250912T173000
DTEND;TZID=America/New_York:20250912T183000
DTSTAMP:20260420T182148
CREATED:20250718T171916Z
LAST-MODIFIED:20250829T173909Z
UID:10003568-1757698200-1757701800@www.templesinaidc.org
SUMMARY:Family Shabbat Dinner
DESCRIPTION:Come at 5:30 pm for a casual pizza dinner and activities before the 6:30 pm Shabbat Service. \nRSVP here \nThe cost is $18 per family to ensure this program can continue to thrive. Additional donations are welcome and a zero-cost option is available if this is more appropriate for your family.
URL:https://www.templesinaidc.org/event/family-shabbat-dinner-4/
LOCATION:Temple Sinai – 3100 Military Road NW\, Washington\, DC\, United States
CATEGORIES:Community,Target,Worship,Young Families
ATTACH;FMTTYPE=image/png:https://www.templesinaidc.org/wp-content/uploads/2025/07/Family-Shabbats-2025-26.png
GEO:38.96926;-77.070949
END:VEVENT
BEGIN:VEVENT
DTSTART;TZID=America/New_York:20250906T103000
DTEND;TZID=America/New_York:20250906T120000
DTSTAMP:20260420T182148
CREATED:20250407T184702Z
LAST-MODIFIED:20250421T161435Z
UID:10002662-1757154600-1757160000@www.templesinaidc.org
SUMMARY:Bat Mitzvah of Emma Reiser
DESCRIPTION:
URL:https://www.templesinaidc.org/event/bat-mitzvah-of-emma-reiser/
LOCATION:Temple Sinai – 3100 Military Road NW\, Washington\, DC\, United States
CATEGORIES:Worship
ATTACH;FMTTYPE=image/jpeg:https://www.templesinaidc.org/wp-content/uploads/2025/02/Boxcast-.jpg
GEO:38.96926;-77.070949
END:VEVENT
BEGIN:VEVENT
DTSTART;TZID=America/New_York:20250906T103000
DTEND;TZID=America/New_York:20250906T120000
DTSTAMP:20260420T182148
CREATED:20250212T171339Z
LAST-MODIFIED:20250505T132216Z
UID:10001454-1757154600-1757160000@www.templesinaidc.org
SUMMARY:Kehillat Shabbat Service
DESCRIPTION:These lay-led services offer opportunities to chant a few verses of Torah or Haftarah in a supportive atmosphere. Participants can also sign up to deliver a d’var Torah (analysis of the weekly Torah portion) that leads to a group discussion. \nClick here for livestream
URL:https://www.templesinaidc.org/event/kehillat-shabbat-service-23/2025-09-06/
LOCATION:Temple Sinai – 3100 Military Road NW\, Washington\, DC\, United States
CATEGORIES:Worship
ATTACH;FMTTYPE=image/png:https://www.templesinaidc.org/wp-content/uploads/2025/02/Beit-Am.png
GEO:38.96926;-77.070949
END:VEVENT
BEGIN:VEVENT
DTSTART;TZID=America/New_York:20250905T183000
DTEND;TZID=America/New_York:20250905T193000
DTSTAMP:20260420T182148
CREATED:20250213T141737Z
LAST-MODIFIED:20260218T210832Z
UID:10002194-1757097000-1757100600@www.templesinaidc.org
SUMMARY:Shabbat Service
DESCRIPTION:Join us in person or virtually for our weekly Shabbat service. Click here for livestream.  \nServices are preceded by an oneg beginning at 6:00 pm.
URL:https://www.templesinaidc.org/event/shabbat-service-6/2025-09-05/
LOCATION:Temple Sinai – 3100 Military Road NW\, Washington\, DC\, United States
CATEGORIES:Worship
ATTACH;FMTTYPE=image/jpeg:https://www.templesinaidc.org/wp-content/uploads/2025/02/Boxcast-.jpg
GEO:38.96926;-77.070949
END:VEVENT
BEGIN:VEVENT
DTSTART;VALUE=DATE:20250905
DTEND;VALUE=DATE:20250907
DTSTAMP:20260420T182148
CREATED:20250814T140647Z
LAST-MODIFIED:20250814T142641Z
UID:10003624-1757030400-1757203199@www.templesinaidc.org
SUMMARY:Elul Guest Scholar Dalia Marx
DESCRIPTION:Sponsored in part by the Rabbi Fred N. Reiner Life Long Learning Fund\nRabbi Dr. Dalia Marx will be the featured guest speaker for our month of Elul preparations for the new year. She will speak at: \n\nShabbat services\, Friday\, September 5\, at 6:30 pm with an oneg preceding the service at 6:00 pm\nTorah Study\, Saturday\, September 6\, at 9:15 am\nKehillat Shabbat services\, Saturday\, September 6 at 10:30 am with a kiddush lunch following the service.\nRSVP for lunch.\n\nRabbi Marx describes the month of Elul as a time of soul-searching and repentance (teshuvah) that are individual and personal but that take place within a larger matrix of mutual responsibility and an effort to seek the face of God and other people. Elul concludes the Hebrew year\, but it also flows into the year to come\, as a month of self-evaluation (cheshbon ha-nefesh)\, doing teshuvah\, and preparing our hearts for the Days of Awe\, the new year\, and its blessings (From Time to Time\, 333). Her teachings will focus on this time of year and elevate our engagement with this special period on the Jewish calendar. \n\nAbout Rabbi Marx\nRabbi Dalia Marx\, Ph.D.\, is the Rabbi Aaron D. Panken Professor of Liturgy and Midrash at Hebrew Union College’s Taube Family Campus in Jerusalem\, and teaches in various academic institutions in Israel and Europe. \nMarx\, a tenth generation Jerusalemite\, earned her doctorate at the Hebrew University and her rabbinic ordination at Hebrew Union College in Jerusalem and Cincinnati in 2002. She is involved in various research projects and is active in promoting liberal Judaism in Israel. Marx writes for academic and popular journals and publications. \nMarx is the lead editor of the Israeli Reform siddur\, Tfillat HaAdam (2020). She is the author of When I Sleep and When I Wake: On Prayers between Dusk and Dawn (Yediot Sfarim\, 2010\, in Hebrew)\, A Feminist Commentary of the Babylonian Talmud (Mohr Siebeck\, 2013). She is currently working on the new Israeli Reform High Holidays Machzor\, together with Rabbi Leora Ezrachi. \nHer book on the Jewish calendar\, From Time to Time: Journeys in the Jewish Calendar (CCAR Press\, 2024)\, was the core text for our adult learning course over the past year. Rabbi Dalia’s HUC podcast with Rabbi Dan Prath\, Kanfei Ruach (Produced and Edited by Doron Levin) about Jewish Prayer. \nMarx lives in Jerusalem with her husband\, Roly Zyblersztein\, Ph.D. They have three children.
URL:https://www.templesinaidc.org/event/elul-guest-scholar-dalia-marx/
LOCATION:DC
CATEGORIES:Adult Education,Holidays,Spotlight,Worship
ATTACH;FMTTYPE=image/png:https://www.templesinaidc.org/wp-content/uploads/2025/08/Dalia-Marx-Elul-2025.png
END:VEVENT
BEGIN:VEVENT
DTSTART;TZID=America/New_York:20250829T183000
DTEND;TZID=America/New_York:20250829T193000
DTSTAMP:20260420T182148
CREATED:20250807T130531Z
LAST-MODIFIED:20250807T130531Z
UID:10003036-1756492200-1756495800@www.templesinaidc.org
SUMMARY:Shabbat Healing Service
DESCRIPTION:Join us in person or virtually for a service that will offer the opportunity for communal singing\, reflective meditation\, and an extended healing liturgy. Tonight’s service will also include a marriage blessing (aufruf) for Keith Rosten and Olga Applegate. \nClick here for livestream.  \n\nServices are preceded by an oneg beginning at 6:00 pm. Tonight’s oneg is sponsored by Keith Rosten & Olga Applegate in celebration of their aufruf and marriage.
URL:https://www.templesinaidc.org/event/shabbat-healing-service-2/
LOCATION:Temple Sinai – 3100 Military Road NW\, Washington\, DC\, United States
CATEGORIES:Support Groups,Worship
ATTACH;FMTTYPE=image/jpeg:https://www.templesinaidc.org/wp-content/uploads/2025/02/Boxcast-.jpg
GEO:38.96926;-77.070949
END:VEVENT
BEGIN:VEVENT
DTSTART;TZID=America/New_York:20250823T103000
DTEND;TZID=America/New_York:20250823T120000
DTSTAMP:20260420T182148
CREATED:20250407T184638Z
LAST-MODIFIED:20250421T161435Z
UID:10002661-1755945000-1755950400@www.templesinaidc.org
SUMMARY:B'nei Mitzvah of Ryan Sternberg and Lily Hausfeld
DESCRIPTION:
URL:https://www.templesinaidc.org/event/bnei-mitzvah-of-ryan-sternberg-and-lily-hausfeld/
LOCATION:Temple Sinai – 3100 Military Road NW\, Washington\, DC\, United States
CATEGORIES:Worship
ATTACH;FMTTYPE=image/jpeg:https://www.templesinaidc.org/wp-content/uploads/2025/02/Boxcast-.jpg
GEO:38.96926;-77.070949
END:VEVENT
BEGIN:VEVENT
DTSTART;TZID=America/New_York:20250823T093000
DTEND;TZID=America/New_York:20250823T103000
DTSTAMP:20260420T182148
CREATED:20250714T194323Z
LAST-MODIFIED:20250714T194526Z
UID:10003558-1755941400-1755945000@www.templesinaidc.org
SUMMARY:Tot Shabbat Playdate
DESCRIPTION:Join us for a tot-friendly service led by our clergy followed by time on the playground. We’ll have challah\, juice\, bagels\, and coffee too! \nRSVP here. \n\nBest for children ages 0-5 and their families.
URL:https://www.templesinaidc.org/event/tot-shabbat-playdate-5-3/2025-08-23/
LOCATION:Temple Sinai – 3100 Military Road NW\, Washington\, DC\, United States
CATEGORIES:Worship,Young Families
ATTACH;FMTTYPE=image/jpeg:https://www.templesinaidc.org/wp-content/uploads/2025/02/Tot-Shabbat-Playdate-scaled.jpg
GEO:38.96926;-77.070949
END:VEVENT
BEGIN:VEVENT
DTSTART;TZID=America/New_York:20250822T183000
DTEND;TZID=America/New_York:20250822T193000
DTSTAMP:20260420T182148
CREATED:20250213T141737Z
LAST-MODIFIED:20260218T210832Z
UID:10002192-1755887400-1755891000@www.templesinaidc.org
SUMMARY:Shabbat Service
DESCRIPTION:Join us in person or virtually for our weekly Shabbat service. Click here for livestream.  \nServices are preceded by an oneg beginning at 6:00 pm.
URL:https://www.templesinaidc.org/event/shabbat-service-6/2025-08-22/
LOCATION:Temple Sinai – 3100 Military Road NW\, Washington\, DC\, United States
CATEGORIES:Worship
ATTACH;FMTTYPE=image/jpeg:https://www.templesinaidc.org/wp-content/uploads/2025/02/Boxcast-.jpg
GEO:38.96926;-77.070949
END:VEVENT
BEGIN:VEVENT
DTSTART;TZID=America/New_York:20250816T103000
DTEND;TZID=America/New_York:20250816T120000
DTSTAMP:20260420T182148
CREATED:20250212T171449Z
LAST-MODIFIED:20250407T154902Z
UID:10001574-1755340200-1755345600@www.templesinaidc.org
SUMMARY:Kehillat Shabbat Service
DESCRIPTION:These lay-led services offer opportunities to chant a few verses of Torah or Haftarah in a supportive atmosphere. Participants can also sign up to deliver a d’var Torah (analysis of the weekly Torah portion) that leads to a group discussion. \nLivestream links are posted on our website weekly
URL:https://www.templesinaidc.org/event/kehillat-shabbat-service-24/2025-08-16/
LOCATION:Temple Sinai – 3100 Military Road NW\, Washington\, DC\, United States
CATEGORIES:Worship
GEO:38.96926;-77.070949
END:VEVENT
BEGIN:VEVENT
DTSTART;TZID=America/New_York:20250815T183000
DTEND;TZID=America/New_York:20250815T193000
DTSTAMP:20260420T182148
CREATED:20250213T141737Z
LAST-MODIFIED:20260218T210832Z
UID:10002191-1755282600-1755286200@www.templesinaidc.org
SUMMARY:Shabbat Service
DESCRIPTION:Join us in person or virtually for our weekly Shabbat service. Click here for livestream.  \nServices are preceded by an oneg beginning at 6:00 pm.
URL:https://www.templesinaidc.org/event/shabbat-service-6/2025-08-15/
LOCATION:Temple Sinai – 3100 Military Road NW\, Washington\, DC\, United States
CATEGORIES:Worship
ATTACH;FMTTYPE=image/jpeg:https://www.templesinaidc.org/wp-content/uploads/2025/02/Boxcast-.jpg
GEO:38.96926;-77.070949
END:VEVENT
BEGIN:VEVENT
DTSTART;TZID=America/New_York:20250815T173000
DTEND;TZID=America/New_York:20250815T183000
DTSTAMP:20260420T182148
CREATED:20250718T171713Z
LAST-MODIFIED:20250728T160938Z
UID:10003567-1755279000-1755282600@www.templesinaidc.org
SUMMARY:Family Shabbat Dinner
DESCRIPTION:Come at 5:30 pm for a casual pizza dinner and activities before the 6:30 pm Shabbat Service. \nRSVP here \nTonight’s dinner is sponsored in part by Jordan and Arden Missal in honor of the baby naming of Greer Rose Missal. \nThe cost is $18 per family to ensure this program can continue to thrive. Additional donations are welcome and a zero-cost option is available if this is more appropriate for your family.
URL:https://www.templesinaidc.org/event/family-shabbat-dinner-2/
LOCATION:Temple Sinai – 3100 Military Road NW\, Washington\, DC\, United States
CATEGORIES:Community,Target,Worship,Young Families
ATTACH;FMTTYPE=image/png:https://www.templesinaidc.org/wp-content/uploads/2025/05/June-Family-Shabbat.png
GEO:38.96926;-77.070949
END:VEVENT
BEGIN:VEVENT
DTSTART;TZID=America/New_York:20250810T103000
DTEND;TZID=America/New_York:20250810T120000
DTSTAMP:20260420T182148
CREATED:20250610T124555Z
LAST-MODIFIED:20250727T143506Z
UID:10002915-1754821800-1754827200@www.templesinaidc.org
SUMMARY:Pulpit Exchange with St. Columba's
DESCRIPTION:Join us as we learn from our neighbors and experience worship in a different religious community. Rabbi Goldstein offers the sermon at St. Columba’s Episcopal Church this morning. \nWe welcome clergy from St. Columba’s at our Shabbat service on Friday\, August 1 at 6:30 pm. 
URL:https://www.templesinaidc.org/event/pulpit-exchange-with-st-columbas/
LOCATION:St. Columba’s Episcopal Church – 4201 Albemarle St NW\, Washington\, DC\, United States
CATEGORIES:Worship
GEO:38.93826;-77.091149
END:VEVENT
BEGIN:VEVENT
DTSTART;TZID=America/New_York:20250808T183000
DTEND;TZID=America/New_York:20250808T193000
DTSTAMP:20260420T182148
CREATED:20250703T135654Z
LAST-MODIFIED:20250703T135744Z
UID:10002190-1754677800-1754681400@www.templesinaidc.org
SUMMARY:Shabbat Service with Roos-Waldman Aufruf
DESCRIPTION:Join us in person or virtually for our weekly Shabbat service. Click here for livestream.  \nThis week’s service will include an aufruf for Noah Roos and Zoe Waldman. It followed by a Festive Oneg hosted by Rabbi Jon and Elizabeth Roos.
URL:https://www.templesinaidc.org/event/shabbat-service-6-11/
LOCATION:Temple Sinai – 3100 Military Road NW\, Washington\, DC\, United States
CATEGORIES:Worship
ATTACH;FMTTYPE=image/jpeg:https://www.templesinaidc.org/wp-content/uploads/2025/02/Boxcast-.jpg
GEO:38.96926;-77.070949
END:VEVENT
BEGIN:VEVENT
DTSTART;TZID=America/New_York:20250802T103000
DTEND;TZID=America/New_York:20250802T120000
DTSTAMP:20260420T182148
CREATED:20250212T171339Z
LAST-MODIFIED:20250505T132216Z
UID:10001453-1754130600-1754136000@www.templesinaidc.org
SUMMARY:Kehillat Shabbat Service
DESCRIPTION:These lay-led services offer opportunities to chant a few verses of Torah or Haftarah in a supportive atmosphere. Participants can also sign up to deliver a d’var Torah (analysis of the weekly Torah portion) that leads to a group discussion. \nClick here for livestream
URL:https://www.templesinaidc.org/event/kehillat-shabbat-service-23/2025-08-02/
LOCATION:Temple Sinai – 3100 Military Road NW\, Washington\, DC\, United States
CATEGORIES:Worship
ATTACH;FMTTYPE=image/png:https://www.templesinaidc.org/wp-content/uploads/2025/02/Beit-Am.png
GEO:38.96926;-77.070949
END:VEVENT
BEGIN:VEVENT
DTSTART;TZID=America/New_York:20250801T183000
DTEND;TZID=America/New_York:20250801T193000
DTSTAMP:20260420T182148
CREATED:20250610T124826Z
LAST-MODIFIED:20250728T151048Z
UID:10002189-1754073000-1754076600@www.templesinaidc.org
SUMMARY:Shabbat Service: Pulpit Exchange with St. Columba's
DESCRIPTION:Join us in person or virtually for our weekly Shabbat service. Click here for livestream.  \nServices are preceded by an oneg beginning at 6:00 pm. Tonight’s oneg is sponsored by James Petrick and Barbara Fredericks in celebration of the naming of Hannah Brinley Petrick. \nThis week\, we welcome clergy and members from St. Columba’s Episcopal Church as part of our annual pulpit exchange. On Sunday\, August 10\, join Rabbi Goldstein at St. Columba’s for their weekly worship service.
URL:https://www.templesinaidc.org/event/shabbat-service-6-8/
LOCATION:Temple Sinai – 3100 Military Road NW\, Washington\, DC\, United States
CATEGORIES:Worship
ATTACH;FMTTYPE=image/jpeg:https://www.templesinaidc.org/wp-content/uploads/2025/02/Boxcast-.jpg
GEO:38.96926;-77.070949
END:VEVENT
BEGIN:VEVENT
DTSTART;TZID=America/New_York:20250726T093000
DTEND;TZID=America/New_York:20250726T103000
DTSTAMP:20260420T182148
CREATED:20250714T194323Z
LAST-MODIFIED:20250714T194526Z
UID:10003557-1753522200-1753525800@www.templesinaidc.org
SUMMARY:Tot Shabbat Playdate
DESCRIPTION:Join us for a tot-friendly service led by our clergy followed by time on the playground. We’ll have challah\, juice\, bagels\, and coffee too! \nRSVP here. \n\nBest for children ages 0-5 and their families.
URL:https://www.templesinaidc.org/event/tot-shabbat-playdate-5-3/2025-07-26/
LOCATION:Temple Sinai – 3100 Military Road NW\, Washington\, DC\, United States
CATEGORIES:Worship,Young Families
ATTACH;FMTTYPE=image/jpeg:https://www.templesinaidc.org/wp-content/uploads/2025/02/Tot-Shabbat-Playdate-scaled.jpg
GEO:38.96926;-77.070949
END:VEVENT
BEGIN:VEVENT
DTSTART;TZID=America/New_York:20250725T183000
DTEND;TZID=America/New_York:20250725T193000
DTSTAMP:20260420T182148
CREATED:20250213T141737Z
LAST-MODIFIED:20260218T210832Z
UID:10002188-1753468200-1753471800@www.templesinaidc.org
SUMMARY:Shabbat Service
DESCRIPTION:Join us in person or virtually for our weekly Shabbat service. Click here for livestream.  \nServices are preceded by an oneg beginning at 6:00 pm.
URL:https://www.templesinaidc.org/event/shabbat-service-6/2025-07-25/
LOCATION:Temple Sinai – 3100 Military Road NW\, Washington\, DC\, United States
CATEGORIES:Worship
ATTACH;FMTTYPE=image/jpeg:https://www.templesinaidc.org/wp-content/uploads/2025/02/Boxcast-.jpg
GEO:38.96926;-77.070949
END:VEVENT
BEGIN:VEVENT
DTSTART;TZID=America/New_York:20250719T103000
DTEND;TZID=America/New_York:20250719T120000
DTSTAMP:20260420T182148
CREATED:20250212T171449Z
LAST-MODIFIED:20250407T154902Z
UID:10001573-1752921000-1752926400@www.templesinaidc.org
SUMMARY:Kehillat Shabbat Service
DESCRIPTION:These lay-led services offer opportunities to chant a few verses of Torah or Haftarah in a supportive atmosphere. Participants can also sign up to deliver a d’var Torah (analysis of the weekly Torah portion) that leads to a group discussion. \nLivestream links are posted on our website weekly
URL:https://www.templesinaidc.org/event/kehillat-shabbat-service-24/2025-07-19/
LOCATION:Temple Sinai – 3100 Military Road NW\, Washington\, DC\, United States
CATEGORIES:Worship
GEO:38.96926;-77.070949
END:VEVENT
BEGIN:VEVENT
DTSTART;TZID=America/New_York:20250718T183000
DTEND;TZID=America/New_York:20250718T193000
DTSTAMP:20260420T182149
CREATED:20250701T175420Z
LAST-MODIFIED:20250701T175421Z
UID:10002187-1752863400-1752867000@www.templesinaidc.org
SUMMARY:Shabbat Service
DESCRIPTION:Join us in person or virtually for our weekly Shabbat service. Click here for livestream.  \nServices are preceded by an oneg beginning at 6:00 pm. Tonight’s oneg is sponsored by Lee Howard and Aaron Flynn in celebration of Lee’s conversion.
URL:https://www.templesinaidc.org/event/shabbat-service-6-10/
LOCATION:Temple Sinai – 3100 Military Road NW\, Washington\, DC\, United States
CATEGORIES:Worship
ATTACH;FMTTYPE=image/jpeg:https://www.templesinaidc.org/wp-content/uploads/2025/02/Boxcast-.jpg
GEO:38.96926;-77.070949
END:VEVENT
BEGIN:VEVENT
DTSTART;TZID=America/New_York:20250712T091500
DTEND;TZID=America/New_York:20250712T101500
DTSTAMP:20260420T182149
CREATED:20250703T114320Z
LAST-MODIFIED:20250703T114322Z
UID:10000868-1752311700-1752315300@www.templesinaidc.org
SUMMARY:Torah Study & Kaddish Minyan
DESCRIPTION:Join us in person or virtually every Saturday morning for a discussion of the Torah reading for the week led by our clergy. No RSVP necessary. \nThis week’s session will be followed by a brief Shabbat morning service at 10:15 am that provides those who are saying Kaddish an opportunity to be in community. \nVisit the Google Classroom \nClick to join via Zoom (Meeting ID: 839 7118 5697)
URL:https://www.templesinaidc.org/event/torah-study-119-4/
LOCATION:Temple Sinai – 3100 Military Road NW\, Washington\, DC\, United States
CATEGORIES:Adult Education,Worship
ATTACH;FMTTYPE=image/jpeg:https://www.templesinaidc.org/wp-content/uploads/2025/02/IMG-450-scaled.jpg
GEO:38.96926;-77.070949
END:VEVENT
BEGIN:VEVENT
DTSTART;TZID=America/New_York:20250711T163000
DTEND;TZID=America/New_York:20250711T193000
DTSTAMP:20260420T182149
CREATED:20250609T192421Z
LAST-MODIFIED:20250612T172035Z
UID:10003009-1752251400-1752262200@www.templesinaidc.org
SUMMARY:Family Shabbat: BBQ
DESCRIPTION:4:30 pm: Playground time\n5:00 pm: Tot Shabbat service in the amphitheater\n5:30 pm: Casual BBQ dinner and fun activities\n6:30 pm: All-ages Shabbat service\n7:30 pm: Ice cream treats \nWe look forward to seeing you for whatever parts of the evening work for your family! \nRSVP for dinner \nView service livestream \nThe cost for dinner is $18 per family to ensure this program can continue to thrive. Additional donations are welcome and a zero-cost option is available if this is more appropriate for your family.
URL:https://www.templesinaidc.org/event/family-shabbat/
LOCATION:Temple Sinai – 3100 Military Road NW\, Washington\, DC\, United States
CATEGORIES:Community,Target,Worship,Young Families
ATTACH;FMTTYPE=image/png:https://www.templesinaidc.org/wp-content/uploads/2025/06/Family-Shabbat-July-2025.png
GEO:38.96926;-77.070949
END:VEVENT
BEGIN:VEVENT
DTSTART;TZID=America/New_York:20250705T103000
DTEND;TZID=America/New_York:20250705T120000
DTSTAMP:20260420T182149
CREATED:20250212T171339Z
LAST-MODIFIED:20250505T132216Z
UID:10001452-1751711400-1751716800@www.templesinaidc.org
SUMMARY:Kehillat Shabbat Service
DESCRIPTION:These lay-led services offer opportunities to chant a few verses of Torah or Haftarah in a supportive atmosphere. Participants can also sign up to deliver a d’var Torah (analysis of the weekly Torah portion) that leads to a group discussion. \nClick here for livestream
URL:https://www.templesinaidc.org/event/kehillat-shabbat-service-23/2025-07-05/
LOCATION:Temple Sinai – 3100 Military Road NW\, Washington\, DC\, United States
CATEGORIES:Worship
ATTACH;FMTTYPE=image/png:https://www.templesinaidc.org/wp-content/uploads/2025/02/Beit-Am.png
GEO:38.96926;-77.070949
END:VEVENT
END:VCALENDAR