BEGIN:VCALENDAR
VERSION:2.0
PRODID:-//Temple Sinai - ECPv6.15.20//NONSGML v1.0//EN
CALSCALE:GREGORIAN
METHOD:PUBLISH
X-ORIGINAL-URL:https://www.templesinaidc.org
X-WR-CALDESC:Events for Temple Sinai
REFRESH-INTERVAL;VALUE=DURATION:PT1H
X-Robots-Tag:noindex
X-PUBLISHED-TTL:PT1H
BEGIN:VTIMEZONE
TZID:America/New_York
BEGIN:DAYLIGHT
TZOFFSETFROM:-0500
TZOFFSETTO:-0400
TZNAME:EDT
DTSTART:20260308T070000
END:DAYLIGHT
BEGIN:STANDARD
TZOFFSETFROM:-0400
TZOFFSETTO:-0500
TZNAME:EST
DTSTART:20261101T060000
END:STANDARD
BEGIN:DAYLIGHT
TZOFFSETFROM:-0500
TZOFFSETTO:-0400
TZNAME:EDT
DTSTART:20270314T070000
END:DAYLIGHT
BEGIN:STANDARD
TZOFFSETFROM:-0400
TZOFFSETTO:-0500
TZNAME:EST
DTSTART:20271107T060000
END:STANDARD
BEGIN:DAYLIGHT
TZOFFSETFROM:-0500
TZOFFSETTO:-0400
TZNAME:EDT
DTSTART:20280312T070000
END:DAYLIGHT
BEGIN:STANDARD
TZOFFSETFROM:-0400
TZOFFSETTO:-0500
TZNAME:EST
DTSTART:20281105T060000
END:STANDARD
BEGIN:DAYLIGHT
TZOFFSETFROM:-0500
TZOFFSETTO:-0400
TZNAME:EDT
DTSTART:20290311T070000
END:DAYLIGHT
BEGIN:STANDARD
TZOFFSETFROM:-0400
TZOFFSETTO:-0500
TZNAME:EST
DTSTART:20291104T060000
END:STANDARD
END:VTIMEZONE
BEGIN:VEVENT
DTSTART;TZID=America/New_York:20270924T183000
DTEND;TZID=America/New_York:20270924T193000
DTSTAMP:20260421T044517
CREATED:20250213T141737Z
LAST-MODIFIED:20260218T210832Z
UID:10002301-1821810600-1821814200@www.templesinaidc.org
SUMMARY:Shabbat Service
DESCRIPTION:Join us in person or virtually for our weekly Shabbat service. Click here for livestream.  \nServices are preceded by an oneg beginning at 6:00 pm.
URL:https://www.templesinaidc.org/event/shabbat-service-6/2027-09-24/
LOCATION:Temple Sinai – 3100 Military Road NW\, Washington\, DC\, United States
CATEGORIES:Worship
ATTACH;FMTTYPE=image/jpeg:https://www.templesinaidc.org/wp-content/uploads/2025/02/Boxcast-.jpg
GEO:38.96926;-77.070949
END:VEVENT
BEGIN:VEVENT
DTSTART;TZID=America/New_York:20270925T093000
DTEND;TZID=America/New_York:20270925T103000
DTSTAMP:20260421T044517
CREATED:20250714T194323Z
LAST-MODIFIED:20250714T194526Z
UID:10003523-1821864600-1821868200@www.templesinaidc.org
SUMMARY:Tot Shabbat Playdate
DESCRIPTION:Join us for a tot-friendly service led by our clergy followed by time on the playground. We’ll have challah\, juice\, bagels\, and coffee too! \nRSVP here. \n\nBest for children ages 0-5 and their families.
URL:https://www.templesinaidc.org/event/tot-shabbat-playdate-5-3/2027-09-25/
LOCATION:Temple Sinai – 3100 Military Road NW\, Washington\, DC\, United States
CATEGORIES:Worship,Young Families
ATTACH;FMTTYPE=image/jpeg:https://www.templesinaidc.org/wp-content/uploads/2025/02/Tot-Shabbat-Playdate-scaled.jpg
GEO:38.96926;-77.070949
END:VEVENT
BEGIN:VEVENT
DTSTART;TZID=America/New_York:20271001T183000
DTEND;TZID=America/New_York:20271001T193000
DTSTAMP:20260421T044517
CREATED:20250213T141737Z
LAST-MODIFIED:20260218T210832Z
UID:10002302-1822415400-1822419000@www.templesinaidc.org
SUMMARY:Shabbat Service
DESCRIPTION:Join us in person or virtually for our weekly Shabbat service. Click here for livestream.  \nServices are preceded by an oneg beginning at 6:00 pm.
URL:https://www.templesinaidc.org/event/shabbat-service-6/2027-10-01/
LOCATION:Temple Sinai – 3100 Military Road NW\, Washington\, DC\, United States
CATEGORIES:Worship
ATTACH;FMTTYPE=image/jpeg:https://www.templesinaidc.org/wp-content/uploads/2025/02/Boxcast-.jpg
GEO:38.96926;-77.070949
END:VEVENT
BEGIN:VEVENT
DTSTART;TZID=America/New_York:20271002T103000
DTEND;TZID=America/New_York:20271002T120000
DTSTAMP:20260421T044517
CREATED:20250212T171339Z
LAST-MODIFIED:20250505T132216Z
UID:10001479-1822473000-1822478400@www.templesinaidc.org
SUMMARY:Kehillat Shabbat Service
DESCRIPTION:These lay-led services offer opportunities to chant a few verses of Torah or Haftarah in a supportive atmosphere. Participants can also sign up to deliver a d’var Torah (analysis of the weekly Torah portion) that leads to a group discussion. \nClick here for livestream
URL:https://www.templesinaidc.org/event/kehillat-shabbat-service-23/2027-10-02/
LOCATION:Temple Sinai – 3100 Military Road NW\, Washington\, DC\, United States
CATEGORIES:Worship
ATTACH;FMTTYPE=image/png:https://www.templesinaidc.org/wp-content/uploads/2025/02/Beit-Am.png
GEO:38.96926;-77.070949
END:VEVENT
BEGIN:VEVENT
DTSTART;TZID=America/New_York:20271008T183000
DTEND;TZID=America/New_York:20271008T193000
DTSTAMP:20260421T044517
CREATED:20250213T141737Z
LAST-MODIFIED:20260218T210832Z
UID:10002303-1823020200-1823023800@www.templesinaidc.org
SUMMARY:Shabbat Service
DESCRIPTION:Join us in person or virtually for our weekly Shabbat service. Click here for livestream.  \nServices are preceded by an oneg beginning at 6:00 pm.
URL:https://www.templesinaidc.org/event/shabbat-service-6/2027-10-08/
LOCATION:Temple Sinai – 3100 Military Road NW\, Washington\, DC\, United States
CATEGORIES:Worship
ATTACH;FMTTYPE=image/jpeg:https://www.templesinaidc.org/wp-content/uploads/2025/02/Boxcast-.jpg
GEO:38.96926;-77.070949
END:VEVENT
BEGIN:VEVENT
DTSTART;TZID=America/New_York:20271015T183000
DTEND;TZID=America/New_York:20271015T193000
DTSTAMP:20260421T044517
CREATED:20250213T141737Z
LAST-MODIFIED:20260218T210832Z
UID:10002304-1823625000-1823628600@www.templesinaidc.org
SUMMARY:Shabbat Service
DESCRIPTION:Join us in person or virtually for our weekly Shabbat service. Click here for livestream.  \nServices are preceded by an oneg beginning at 6:00 pm.
URL:https://www.templesinaidc.org/event/shabbat-service-6/2027-10-15/
LOCATION:Temple Sinai – 3100 Military Road NW\, Washington\, DC\, United States
CATEGORIES:Worship
ATTACH;FMTTYPE=image/jpeg:https://www.templesinaidc.org/wp-content/uploads/2025/02/Boxcast-.jpg
GEO:38.96926;-77.070949
END:VEVENT
BEGIN:VEVENT
DTSTART;TZID=America/New_York:20271016T103000
DTEND;TZID=America/New_York:20271016T120000
DTSTAMP:20260421T044517
CREATED:20250212T171449Z
LAST-MODIFIED:20250407T154902Z
UID:10001600-1823682600-1823688000@www.templesinaidc.org
SUMMARY:Kehillat Shabbat Service
DESCRIPTION:These lay-led services offer opportunities to chant a few verses of Torah or Haftarah in a supportive atmosphere. Participants can also sign up to deliver a d’var Torah (analysis of the weekly Torah portion) that leads to a group discussion. \nLivestream links are posted on our website weekly
URL:https://www.templesinaidc.org/event/kehillat-shabbat-service-24/2027-10-16/
LOCATION:Temple Sinai – 3100 Military Road NW\, Washington\, DC\, United States
CATEGORIES:Worship
GEO:38.96926;-77.070949
END:VEVENT
BEGIN:VEVENT
DTSTART;TZID=America/New_York:20271022T183000
DTEND;TZID=America/New_York:20271022T193000
DTSTAMP:20260421T044517
CREATED:20250213T141737Z
LAST-MODIFIED:20260218T210832Z
UID:10002305-1824229800-1824233400@www.templesinaidc.org
SUMMARY:Shabbat Service
DESCRIPTION:Join us in person or virtually for our weekly Shabbat service. Click here for livestream.  \nServices are preceded by an oneg beginning at 6:00 pm.
URL:https://www.templesinaidc.org/event/shabbat-service-6/2027-10-22/
LOCATION:Temple Sinai – 3100 Military Road NW\, Washington\, DC\, United States
CATEGORIES:Worship
ATTACH;FMTTYPE=image/jpeg:https://www.templesinaidc.org/wp-content/uploads/2025/02/Boxcast-.jpg
GEO:38.96926;-77.070949
END:VEVENT
BEGIN:VEVENT
DTSTART;TZID=America/New_York:20271023T093000
DTEND;TZID=America/New_York:20271023T103000
DTSTAMP:20260421T044517
CREATED:20250714T194323Z
LAST-MODIFIED:20250714T194526Z
UID:10003524-1824283800-1824287400@www.templesinaidc.org
SUMMARY:Tot Shabbat Playdate
DESCRIPTION:Join us for a tot-friendly service led by our clergy followed by time on the playground. We’ll have challah\, juice\, bagels\, and coffee too! \nRSVP here. \n\nBest for children ages 0-5 and their families.
URL:https://www.templesinaidc.org/event/tot-shabbat-playdate-5-3/2027-10-23/
LOCATION:Temple Sinai – 3100 Military Road NW\, Washington\, DC\, United States
CATEGORIES:Worship,Young Families
ATTACH;FMTTYPE=image/jpeg:https://www.templesinaidc.org/wp-content/uploads/2025/02/Tot-Shabbat-Playdate-scaled.jpg
GEO:38.96926;-77.070949
END:VEVENT
BEGIN:VEVENT
DTSTART;TZID=America/New_York:20271029T183000
DTEND;TZID=America/New_York:20271029T193000
DTSTAMP:20260421T044517
CREATED:20250213T141737Z
LAST-MODIFIED:20260218T210832Z
UID:10002306-1824834600-1824838200@www.templesinaidc.org
SUMMARY:Shabbat Service
DESCRIPTION:Join us in person or virtually for our weekly Shabbat service. Click here for livestream.  \nServices are preceded by an oneg beginning at 6:00 pm.
URL:https://www.templesinaidc.org/event/shabbat-service-6/2027-10-29/
LOCATION:Temple Sinai – 3100 Military Road NW\, Washington\, DC\, United States
CATEGORIES:Worship
ATTACH;FMTTYPE=image/jpeg:https://www.templesinaidc.org/wp-content/uploads/2025/02/Boxcast-.jpg
GEO:38.96926;-77.070949
END:VEVENT
BEGIN:VEVENT
DTSTART;TZID=America/New_York:20271029T183000
DTEND;TZID=America/New_York:20271029T193000
DTSTAMP:20260421T044517
CREATED:20250610T130222Z
LAST-MODIFIED:20250807T130421Z
UID:10003045-1824834600-1824838200@www.templesinaidc.org
SUMMARY:Shabbat Healing Service
DESCRIPTION:Join us in person or virtually for a service that will offer the opportunity for communal singing\, reflective meditation\, and an extended healing liturgy. \nClick here for livestream.  \n\nServices are preceded by an oneg beginning at 6:00 pm.
URL:https://www.templesinaidc.org/event/shabbat-healing-service/2027-10-29/
LOCATION:Temple Sinai – 3100 Military Road NW\, Washington\, DC\, United States
CATEGORIES:Support Groups,Worship
ATTACH;FMTTYPE=image/jpeg:https://www.templesinaidc.org/wp-content/uploads/2025/02/Boxcast-.jpg
GEO:38.96926;-77.070949
END:VEVENT
BEGIN:VEVENT
DTSTART;TZID=America/New_York:20271105T183000
DTEND;TZID=America/New_York:20271105T193000
DTSTAMP:20260421T044517
CREATED:20250213T141737Z
LAST-MODIFIED:20260218T210832Z
UID:10002307-1825439400-1825443000@www.templesinaidc.org
SUMMARY:Shabbat Service
DESCRIPTION:Join us in person or virtually for our weekly Shabbat service. Click here for livestream.  \nServices are preceded by an oneg beginning at 6:00 pm.
URL:https://www.templesinaidc.org/event/shabbat-service-6/2027-11-05/
LOCATION:Temple Sinai – 3100 Military Road NW\, Washington\, DC\, United States
CATEGORIES:Worship
ATTACH;FMTTYPE=image/jpeg:https://www.templesinaidc.org/wp-content/uploads/2025/02/Boxcast-.jpg
GEO:38.96926;-77.070949
END:VEVENT
BEGIN:VEVENT
DTSTART;TZID=America/New_York:20271106T103000
DTEND;TZID=America/New_York:20271106T120000
DTSTAMP:20260421T044517
CREATED:20250212T171339Z
LAST-MODIFIED:20250505T132216Z
UID:10001480-1825497000-1825502400@www.templesinaidc.org
SUMMARY:Kehillat Shabbat Service
DESCRIPTION:These lay-led services offer opportunities to chant a few verses of Torah or Haftarah in a supportive atmosphere. Participants can also sign up to deliver a d’var Torah (analysis of the weekly Torah portion) that leads to a group discussion. \nClick here for livestream
URL:https://www.templesinaidc.org/event/kehillat-shabbat-service-23/2027-11-06/
LOCATION:Temple Sinai – 3100 Military Road NW\, Washington\, DC\, United States
CATEGORIES:Worship
ATTACH;FMTTYPE=image/png:https://www.templesinaidc.org/wp-content/uploads/2025/02/Beit-Am.png
GEO:38.96926;-77.070949
END:VEVENT
BEGIN:VEVENT
DTSTART;TZID=America/New_York:20271112T183000
DTEND;TZID=America/New_York:20271112T193000
DTSTAMP:20260421T044517
CREATED:20250213T141737Z
LAST-MODIFIED:20260218T210832Z
UID:10002308-1826044200-1826047800@www.templesinaidc.org
SUMMARY:Shabbat Service
DESCRIPTION:Join us in person or virtually for our weekly Shabbat service. Click here for livestream.  \nServices are preceded by an oneg beginning at 6:00 pm.
URL:https://www.templesinaidc.org/event/shabbat-service-6/2027-11-12/
LOCATION:Temple Sinai – 3100 Military Road NW\, Washington\, DC\, United States
CATEGORIES:Worship
ATTACH;FMTTYPE=image/jpeg:https://www.templesinaidc.org/wp-content/uploads/2025/02/Boxcast-.jpg
GEO:38.96926;-77.070949
END:VEVENT
BEGIN:VEVENT
DTSTART;TZID=America/New_York:20271119T183000
DTEND;TZID=America/New_York:20271119T193000
DTSTAMP:20260421T044517
CREATED:20250213T141737Z
LAST-MODIFIED:20260218T210832Z
UID:10002309-1826649000-1826652600@www.templesinaidc.org
SUMMARY:Shabbat Service
DESCRIPTION:Join us in person or virtually for our weekly Shabbat service. Click here for livestream.  \nServices are preceded by an oneg beginning at 6:00 pm.
URL:https://www.templesinaidc.org/event/shabbat-service-6/2027-11-19/
LOCATION:Temple Sinai – 3100 Military Road NW\, Washington\, DC\, United States
CATEGORIES:Worship
ATTACH;FMTTYPE=image/jpeg:https://www.templesinaidc.org/wp-content/uploads/2025/02/Boxcast-.jpg
GEO:38.96926;-77.070949
END:VEVENT
BEGIN:VEVENT
DTSTART;TZID=America/New_York:20271120T103000
DTEND;TZID=America/New_York:20271120T120000
DTSTAMP:20260421T044517
CREATED:20250212T171449Z
LAST-MODIFIED:20250407T154902Z
UID:10001601-1826706600-1826712000@www.templesinaidc.org
SUMMARY:Kehillat Shabbat Service
DESCRIPTION:These lay-led services offer opportunities to chant a few verses of Torah or Haftarah in a supportive atmosphere. Participants can also sign up to deliver a d’var Torah (analysis of the weekly Torah portion) that leads to a group discussion. \nLivestream links are posted on our website weekly
URL:https://www.templesinaidc.org/event/kehillat-shabbat-service-24/2027-11-20/
LOCATION:Temple Sinai – 3100 Military Road NW\, Washington\, DC\, United States
CATEGORIES:Worship
GEO:38.96926;-77.070949
END:VEVENT
BEGIN:VEVENT
DTSTART;TZID=America/New_York:20271126T183000
DTEND;TZID=America/New_York:20271126T193000
DTSTAMP:20260421T044517
CREATED:20250213T141737Z
LAST-MODIFIED:20260218T210832Z
UID:10002310-1827253800-1827257400@www.templesinaidc.org
SUMMARY:Shabbat Service
DESCRIPTION:Join us in person or virtually for our weekly Shabbat service. Click here for livestream.  \nServices are preceded by an oneg beginning at 6:00 pm.
URL:https://www.templesinaidc.org/event/shabbat-service-6/2027-11-26/
LOCATION:Temple Sinai – 3100 Military Road NW\, Washington\, DC\, United States
CATEGORIES:Worship
ATTACH;FMTTYPE=image/jpeg:https://www.templesinaidc.org/wp-content/uploads/2025/02/Boxcast-.jpg
GEO:38.96926;-77.070949
END:VEVENT
BEGIN:VEVENT
DTSTART;TZID=America/New_York:20271127T093000
DTEND;TZID=America/New_York:20271127T103000
DTSTAMP:20260421T044517
CREATED:20250714T194323Z
LAST-MODIFIED:20250714T194526Z
UID:10003525-1827307800-1827311400@www.templesinaidc.org
SUMMARY:Tot Shabbat Playdate
DESCRIPTION:Join us for a tot-friendly service led by our clergy followed by time on the playground. We’ll have challah\, juice\, bagels\, and coffee too! \nRSVP here. \n\nBest for children ages 0-5 and their families.
URL:https://www.templesinaidc.org/event/tot-shabbat-playdate-5-3/2027-11-27/
LOCATION:Temple Sinai – 3100 Military Road NW\, Washington\, DC\, United States
CATEGORIES:Worship,Young Families
ATTACH;FMTTYPE=image/jpeg:https://www.templesinaidc.org/wp-content/uploads/2025/02/Tot-Shabbat-Playdate-scaled.jpg
GEO:38.96926;-77.070949
END:VEVENT
BEGIN:VEVENT
DTSTART;TZID=America/New_York:20271203T183000
DTEND;TZID=America/New_York:20271203T193000
DTSTAMP:20260421T044517
CREATED:20250213T141737Z
LAST-MODIFIED:20260218T210832Z
UID:10002311-1827858600-1827862200@www.templesinaidc.org
SUMMARY:Shabbat Service
DESCRIPTION:Join us in person or virtually for our weekly Shabbat service. Click here for livestream.  \nServices are preceded by an oneg beginning at 6:00 pm.
URL:https://www.templesinaidc.org/event/shabbat-service-6/2027-12-03/
LOCATION:Temple Sinai – 3100 Military Road NW\, Washington\, DC\, United States
CATEGORIES:Worship
ATTACH;FMTTYPE=image/jpeg:https://www.templesinaidc.org/wp-content/uploads/2025/02/Boxcast-.jpg
GEO:38.96926;-77.070949
END:VEVENT
BEGIN:VEVENT
DTSTART;TZID=America/New_York:20271204T103000
DTEND;TZID=America/New_York:20271204T120000
DTSTAMP:20260421T044517
CREATED:20250212T171339Z
LAST-MODIFIED:20250505T132216Z
UID:10001481-1827916200-1827921600@www.templesinaidc.org
SUMMARY:Kehillat Shabbat Service
DESCRIPTION:These lay-led services offer opportunities to chant a few verses of Torah or Haftarah in a supportive atmosphere. Participants can also sign up to deliver a d’var Torah (analysis of the weekly Torah portion) that leads to a group discussion. \nClick here for livestream
URL:https://www.templesinaidc.org/event/kehillat-shabbat-service-23/2027-12-04/
LOCATION:Temple Sinai – 3100 Military Road NW\, Washington\, DC\, United States
CATEGORIES:Worship
ATTACH;FMTTYPE=image/png:https://www.templesinaidc.org/wp-content/uploads/2025/02/Beit-Am.png
GEO:38.96926;-77.070949
END:VEVENT
BEGIN:VEVENT
DTSTART;TZID=America/New_York:20271210T183000
DTEND;TZID=America/New_York:20271210T193000
DTSTAMP:20260421T044517
CREATED:20250213T141737Z
LAST-MODIFIED:20260218T210832Z
UID:10002312-1828463400-1828467000@www.templesinaidc.org
SUMMARY:Shabbat Service
DESCRIPTION:Join us in person or virtually for our weekly Shabbat service. Click here for livestream.  \nServices are preceded by an oneg beginning at 6:00 pm.
URL:https://www.templesinaidc.org/event/shabbat-service-6/2027-12-10/
LOCATION:Temple Sinai – 3100 Military Road NW\, Washington\, DC\, United States
CATEGORIES:Worship
ATTACH;FMTTYPE=image/jpeg:https://www.templesinaidc.org/wp-content/uploads/2025/02/Boxcast-.jpg
GEO:38.96926;-77.070949
END:VEVENT
BEGIN:VEVENT
DTSTART;TZID=America/New_York:20271217T183000
DTEND;TZID=America/New_York:20271217T193000
DTSTAMP:20260421T044517
CREATED:20250213T141737Z
LAST-MODIFIED:20260218T210832Z
UID:10002313-1829068200-1829071800@www.templesinaidc.org
SUMMARY:Shabbat Service
DESCRIPTION:Join us in person or virtually for our weekly Shabbat service. Click here for livestream.  \nServices are preceded by an oneg beginning at 6:00 pm.
URL:https://www.templesinaidc.org/event/shabbat-service-6/2027-12-17/
LOCATION:Temple Sinai – 3100 Military Road NW\, Washington\, DC\, United States
CATEGORIES:Worship
ATTACH;FMTTYPE=image/jpeg:https://www.templesinaidc.org/wp-content/uploads/2025/02/Boxcast-.jpg
GEO:38.96926;-77.070949
END:VEVENT
BEGIN:VEVENT
DTSTART;TZID=America/New_York:20271218T103000
DTEND;TZID=America/New_York:20271218T120000
DTSTAMP:20260421T044517
CREATED:20250212T171449Z
LAST-MODIFIED:20250407T154902Z
UID:10001602-1829125800-1829131200@www.templesinaidc.org
SUMMARY:Kehillat Shabbat Service
DESCRIPTION:These lay-led services offer opportunities to chant a few verses of Torah or Haftarah in a supportive atmosphere. Participants can also sign up to deliver a d’var Torah (analysis of the weekly Torah portion) that leads to a group discussion. \nLivestream links are posted on our website weekly
URL:https://www.templesinaidc.org/event/kehillat-shabbat-service-24/2027-12-18/
LOCATION:Temple Sinai – 3100 Military Road NW\, Washington\, DC\, United States
CATEGORIES:Worship
GEO:38.96926;-77.070949
END:VEVENT
BEGIN:VEVENT
DTSTART;TZID=America/New_York:20271224T183000
DTEND;TZID=America/New_York:20271224T193000
DTSTAMP:20260421T044517
CREATED:20250213T141737Z
LAST-MODIFIED:20260218T210832Z
UID:10002314-1829673000-1829676600@www.templesinaidc.org
SUMMARY:Shabbat Service
DESCRIPTION:Join us in person or virtually for our weekly Shabbat service. Click here for livestream.  \nServices are preceded by an oneg beginning at 6:00 pm.
URL:https://www.templesinaidc.org/event/shabbat-service-6/2027-12-24/
LOCATION:Temple Sinai – 3100 Military Road NW\, Washington\, DC\, United States
CATEGORIES:Worship
ATTACH;FMTTYPE=image/jpeg:https://www.templesinaidc.org/wp-content/uploads/2025/02/Boxcast-.jpg
GEO:38.96926;-77.070949
END:VEVENT
BEGIN:VEVENT
DTSTART;TZID=America/New_York:20271225T093000
DTEND;TZID=America/New_York:20271225T103000
DTSTAMP:20260421T044517
CREATED:20250714T194323Z
LAST-MODIFIED:20250714T194526Z
UID:10003526-1829727000-1829730600@www.templesinaidc.org
SUMMARY:Tot Shabbat Playdate
DESCRIPTION:Join us for a tot-friendly service led by our clergy followed by time on the playground. We’ll have challah\, juice\, bagels\, and coffee too! \nRSVP here. \n\nBest for children ages 0-5 and their families.
URL:https://www.templesinaidc.org/event/tot-shabbat-playdate-5-3/2027-12-25/
LOCATION:Temple Sinai – 3100 Military Road NW\, Washington\, DC\, United States
CATEGORIES:Worship,Young Families
ATTACH;FMTTYPE=image/jpeg:https://www.templesinaidc.org/wp-content/uploads/2025/02/Tot-Shabbat-Playdate-scaled.jpg
GEO:38.96926;-77.070949
END:VEVENT
BEGIN:VEVENT
DTSTART;TZID=America/New_York:20271231T183000
DTEND;TZID=America/New_York:20271231T193000
DTSTAMP:20260421T044517
CREATED:20250213T141737Z
LAST-MODIFIED:20260218T210832Z
UID:10002315-1830277800-1830281400@www.templesinaidc.org
SUMMARY:Shabbat Service
DESCRIPTION:Join us in person or virtually for our weekly Shabbat service. Click here for livestream.  \nServices are preceded by an oneg beginning at 6:00 pm.
URL:https://www.templesinaidc.org/event/shabbat-service-6/2027-12-31/
LOCATION:Temple Sinai – 3100 Military Road NW\, Washington\, DC\, United States
CATEGORIES:Worship
ATTACH;FMTTYPE=image/jpeg:https://www.templesinaidc.org/wp-content/uploads/2025/02/Boxcast-.jpg
GEO:38.96926;-77.070949
END:VEVENT
BEGIN:VEVENT
DTSTART;TZID=America/New_York:20271231T183000
DTEND;TZID=America/New_York:20271231T193000
DTSTAMP:20260421T044517
CREATED:20250610T130222Z
LAST-MODIFIED:20250807T130421Z
UID:10003046-1830277800-1830281400@www.templesinaidc.org
SUMMARY:Shabbat Healing Service
DESCRIPTION:Join us in person or virtually for a service that will offer the opportunity for communal singing\, reflective meditation\, and an extended healing liturgy. \nClick here for livestream.  \n\nServices are preceded by an oneg beginning at 6:00 pm.
URL:https://www.templesinaidc.org/event/shabbat-healing-service/2027-12-31/
LOCATION:Temple Sinai – 3100 Military Road NW\, Washington\, DC\, United States
CATEGORIES:Support Groups,Worship
ATTACH;FMTTYPE=image/jpeg:https://www.templesinaidc.org/wp-content/uploads/2025/02/Boxcast-.jpg
GEO:38.96926;-77.070949
END:VEVENT
BEGIN:VEVENT
DTSTART;TZID=America/New_York:20280101T103000
DTEND;TZID=America/New_York:20280101T120000
DTSTAMP:20260421T044517
CREATED:20250212T171339Z
LAST-MODIFIED:20250505T132216Z
UID:10001482-1830335400-1830340800@www.templesinaidc.org
SUMMARY:Kehillat Shabbat Service
DESCRIPTION:These lay-led services offer opportunities to chant a few verses of Torah or Haftarah in a supportive atmosphere. Participants can also sign up to deliver a d’var Torah (analysis of the weekly Torah portion) that leads to a group discussion. \nClick here for livestream
URL:https://www.templesinaidc.org/event/kehillat-shabbat-service-23/2028-01-01/
LOCATION:Temple Sinai – 3100 Military Road NW\, Washington\, DC\, United States
CATEGORIES:Worship
ATTACH;FMTTYPE=image/png:https://www.templesinaidc.org/wp-content/uploads/2025/02/Beit-Am.png
GEO:38.96926;-77.070949
END:VEVENT
BEGIN:VEVENT
DTSTART;TZID=America/New_York:20280107T183000
DTEND;TZID=America/New_York:20280107T193000
DTSTAMP:20260421T044517
CREATED:20250213T141737Z
LAST-MODIFIED:20260218T210832Z
UID:10002316-1830882600-1830886200@www.templesinaidc.org
SUMMARY:Shabbat Service
DESCRIPTION:Join us in person or virtually for our weekly Shabbat service. Click here for livestream.  \nServices are preceded by an oneg beginning at 6:00 pm.
URL:https://www.templesinaidc.org/event/shabbat-service-6/2028-01-07/
LOCATION:Temple Sinai – 3100 Military Road NW\, Washington\, DC\, United States
CATEGORIES:Worship
ATTACH;FMTTYPE=image/jpeg:https://www.templesinaidc.org/wp-content/uploads/2025/02/Boxcast-.jpg
GEO:38.96926;-77.070949
END:VEVENT
BEGIN:VEVENT
DTSTART;TZID=America/New_York:20280114T183000
DTEND;TZID=America/New_York:20280114T193000
DTSTAMP:20260421T044517
CREATED:20250213T141737Z
LAST-MODIFIED:20260218T210832Z
UID:10002317-1831487400-1831491000@www.templesinaidc.org
SUMMARY:Shabbat Service
DESCRIPTION:Join us in person or virtually for our weekly Shabbat service. Click here for livestream.  \nServices are preceded by an oneg beginning at 6:00 pm.
URL:https://www.templesinaidc.org/event/shabbat-service-6/2028-01-14/
LOCATION:Temple Sinai – 3100 Military Road NW\, Washington\, DC\, United States
CATEGORIES:Worship
ATTACH;FMTTYPE=image/jpeg:https://www.templesinaidc.org/wp-content/uploads/2025/02/Boxcast-.jpg
GEO:38.96926;-77.070949
END:VEVENT
END:VCALENDAR