BEGIN:VCALENDAR
VERSION:2.0
PRODID:-//Temple Sinai - ECPv6.15.20//NONSGML v1.0//EN
CALSCALE:GREGORIAN
METHOD:PUBLISH
X-ORIGINAL-URL:https://www.templesinaidc.org
X-WR-CALDESC:Events for Temple Sinai
REFRESH-INTERVAL;VALUE=DURATION:PT1H
X-Robots-Tag:noindex
X-PUBLISHED-TTL:PT1H
BEGIN:VTIMEZONE
TZID:America/New_York
BEGIN:DAYLIGHT
TZOFFSETFROM:-0500
TZOFFSETTO:-0400
TZNAME:EDT
DTSTART:20260308T070000
END:DAYLIGHT
BEGIN:STANDARD
TZOFFSETFROM:-0400
TZOFFSETTO:-0500
TZNAME:EST
DTSTART:20261101T060000
END:STANDARD
BEGIN:DAYLIGHT
TZOFFSETFROM:-0500
TZOFFSETTO:-0400
TZNAME:EDT
DTSTART:20270314T070000
END:DAYLIGHT
BEGIN:STANDARD
TZOFFSETFROM:-0400
TZOFFSETTO:-0500
TZNAME:EST
DTSTART:20271107T060000
END:STANDARD
BEGIN:DAYLIGHT
TZOFFSETFROM:-0500
TZOFFSETTO:-0400
TZNAME:EDT
DTSTART:20280312T070000
END:DAYLIGHT
BEGIN:STANDARD
TZOFFSETFROM:-0400
TZOFFSETTO:-0500
TZNAME:EST
DTSTART:20281105T060000
END:STANDARD
BEGIN:DAYLIGHT
TZOFFSETFROM:-0500
TZOFFSETTO:-0400
TZNAME:EDT
DTSTART:20290311T070000
END:DAYLIGHT
BEGIN:STANDARD
TZOFFSETFROM:-0400
TZOFFSETTO:-0500
TZNAME:EST
DTSTART:20291104T060000
END:STANDARD
END:VTIMEZONE
BEGIN:VEVENT
DTSTART;TZID=America/New_York:20271225T093000
DTEND;TZID=America/New_York:20271225T103000
DTSTAMP:20260419T080753
CREATED:20250714T194323Z
LAST-MODIFIED:20250714T194526Z
UID:10003526-1829727000-1829730600@www.templesinaidc.org
SUMMARY:Tot Shabbat Playdate
DESCRIPTION:Join us for a tot-friendly service led by our clergy followed by time on the playground. We’ll have challah\, juice\, bagels\, and coffee too! \nRSVP here. \n\nBest for children ages 0-5 and their families.
URL:https://www.templesinaidc.org/event/tot-shabbat-playdate-5-3/2027-12-25/
LOCATION:Temple Sinai – 3100 Military Road NW\, Washington\, DC\, United States
CATEGORIES:Worship,Young Families
ATTACH;FMTTYPE=image/jpeg:https://www.templesinaidc.org/wp-content/uploads/2025/02/Tot-Shabbat-Playdate-scaled.jpg
GEO:38.96926;-77.070949
END:VEVENT
BEGIN:VEVENT
DTSTART;TZID=America/New_York:20271231T183000
DTEND;TZID=America/New_York:20271231T193000
DTSTAMP:20260419T080753
CREATED:20250213T141737Z
LAST-MODIFIED:20260218T210832Z
UID:10002315-1830277800-1830281400@www.templesinaidc.org
SUMMARY:Shabbat Service
DESCRIPTION:Join us in person or virtually for our weekly Shabbat service. Click here for livestream.  \nServices are preceded by an oneg beginning at 6:00 pm.
URL:https://www.templesinaidc.org/event/shabbat-service-6/2027-12-31/
LOCATION:Temple Sinai – 3100 Military Road NW\, Washington\, DC\, United States
CATEGORIES:Worship
ATTACH;FMTTYPE=image/jpeg:https://www.templesinaidc.org/wp-content/uploads/2025/02/Boxcast-.jpg
GEO:38.96926;-77.070949
END:VEVENT
BEGIN:VEVENT
DTSTART;TZID=America/New_York:20271231T183000
DTEND;TZID=America/New_York:20271231T193000
DTSTAMP:20260419T080753
CREATED:20250610T130222Z
LAST-MODIFIED:20250807T130421Z
UID:10003046-1830277800-1830281400@www.templesinaidc.org
SUMMARY:Shabbat Healing Service
DESCRIPTION:Join us in person or virtually for a service that will offer the opportunity for communal singing\, reflective meditation\, and an extended healing liturgy. \nClick here for livestream.  \n\nServices are preceded by an oneg beginning at 6:00 pm.
URL:https://www.templesinaidc.org/event/shabbat-healing-service/2027-12-31/
LOCATION:Temple Sinai – 3100 Military Road NW\, Washington\, DC\, United States
CATEGORIES:Support Groups,Worship
ATTACH;FMTTYPE=image/jpeg:https://www.templesinaidc.org/wp-content/uploads/2025/02/Boxcast-.jpg
GEO:38.96926;-77.070949
END:VEVENT
BEGIN:VEVENT
DTSTART;TZID=America/New_York:20280101T103000
DTEND;TZID=America/New_York:20280101T120000
DTSTAMP:20260419T080753
CREATED:20250212T171339Z
LAST-MODIFIED:20250505T132216Z
UID:10001482-1830335400-1830340800@www.templesinaidc.org
SUMMARY:Kehillat Shabbat Service
DESCRIPTION:These lay-led services offer opportunities to chant a few verses of Torah or Haftarah in a supportive atmosphere. Participants can also sign up to deliver a d’var Torah (analysis of the weekly Torah portion) that leads to a group discussion. \nClick here for livestream
URL:https://www.templesinaidc.org/event/kehillat-shabbat-service-23/2028-01-01/
LOCATION:Temple Sinai – 3100 Military Road NW\, Washington\, DC\, United States
CATEGORIES:Worship
ATTACH;FMTTYPE=image/png:https://www.templesinaidc.org/wp-content/uploads/2025/02/Beit-Am.png
GEO:38.96926;-77.070949
END:VEVENT
BEGIN:VEVENT
DTSTART;TZID=America/New_York:20280107T183000
DTEND;TZID=America/New_York:20280107T193000
DTSTAMP:20260419T080753
CREATED:20250213T141737Z
LAST-MODIFIED:20260218T210832Z
UID:10002316-1830882600-1830886200@www.templesinaidc.org
SUMMARY:Shabbat Service
DESCRIPTION:Join us in person or virtually for our weekly Shabbat service. Click here for livestream.  \nServices are preceded by an oneg beginning at 6:00 pm.
URL:https://www.templesinaidc.org/event/shabbat-service-6/2028-01-07/
LOCATION:Temple Sinai – 3100 Military Road NW\, Washington\, DC\, United States
CATEGORIES:Worship
ATTACH;FMTTYPE=image/jpeg:https://www.templesinaidc.org/wp-content/uploads/2025/02/Boxcast-.jpg
GEO:38.96926;-77.070949
END:VEVENT
BEGIN:VEVENT
DTSTART;TZID=America/New_York:20280114T183000
DTEND;TZID=America/New_York:20280114T193000
DTSTAMP:20260419T080753
CREATED:20250213T141737Z
LAST-MODIFIED:20260218T210832Z
UID:10002317-1831487400-1831491000@www.templesinaidc.org
SUMMARY:Shabbat Service
DESCRIPTION:Join us in person or virtually for our weekly Shabbat service. Click here for livestream.  \nServices are preceded by an oneg beginning at 6:00 pm.
URL:https://www.templesinaidc.org/event/shabbat-service-6/2028-01-14/
LOCATION:Temple Sinai – 3100 Military Road NW\, Washington\, DC\, United States
CATEGORIES:Worship
ATTACH;FMTTYPE=image/jpeg:https://www.templesinaidc.org/wp-content/uploads/2025/02/Boxcast-.jpg
GEO:38.96926;-77.070949
END:VEVENT
BEGIN:VEVENT
DTSTART;TZID=America/New_York:20280115T103000
DTEND;TZID=America/New_York:20280115T120000
DTSTAMP:20260419T080753
CREATED:20250212T171449Z
LAST-MODIFIED:20250407T154902Z
UID:10001603-1831545000-1831550400@www.templesinaidc.org
SUMMARY:Kehillat Shabbat Service
DESCRIPTION:These lay-led services offer opportunities to chant a few verses of Torah or Haftarah in a supportive atmosphere. Participants can also sign up to deliver a d’var Torah (analysis of the weekly Torah portion) that leads to a group discussion. \nLivestream links are posted on our website weekly
URL:https://www.templesinaidc.org/event/kehillat-shabbat-service-24/2028-01-15/
LOCATION:Temple Sinai – 3100 Military Road NW\, Washington\, DC\, United States
CATEGORIES:Worship
GEO:38.96926;-77.070949
END:VEVENT
BEGIN:VEVENT
DTSTART;TZID=America/New_York:20280121T183000
DTEND;TZID=America/New_York:20280121T193000
DTSTAMP:20260419T080753
CREATED:20250213T141737Z
LAST-MODIFIED:20260218T210832Z
UID:10002318-1832092200-1832095800@www.templesinaidc.org
SUMMARY:Shabbat Service
DESCRIPTION:Join us in person or virtually for our weekly Shabbat service. Click here for livestream.  \nServices are preceded by an oneg beginning at 6:00 pm.
URL:https://www.templesinaidc.org/event/shabbat-service-6/2028-01-21/
LOCATION:Temple Sinai – 3100 Military Road NW\, Washington\, DC\, United States
CATEGORIES:Worship
ATTACH;FMTTYPE=image/jpeg:https://www.templesinaidc.org/wp-content/uploads/2025/02/Boxcast-.jpg
GEO:38.96926;-77.070949
END:VEVENT
BEGIN:VEVENT
DTSTART;TZID=America/New_York:20280122T093000
DTEND;TZID=America/New_York:20280122T103000
DTSTAMP:20260419T080753
CREATED:20250714T194323Z
LAST-MODIFIED:20250714T194526Z
UID:10003527-1832146200-1832149800@www.templesinaidc.org
SUMMARY:Tot Shabbat Playdate
DESCRIPTION:Join us for a tot-friendly service led by our clergy followed by time on the playground. We’ll have challah\, juice\, bagels\, and coffee too! \nRSVP here. \n\nBest for children ages 0-5 and their families.
URL:https://www.templesinaidc.org/event/tot-shabbat-playdate-5-3/2028-01-22/
LOCATION:Temple Sinai – 3100 Military Road NW\, Washington\, DC\, United States
CATEGORIES:Worship,Young Families
ATTACH;FMTTYPE=image/jpeg:https://www.templesinaidc.org/wp-content/uploads/2025/02/Tot-Shabbat-Playdate-scaled.jpg
GEO:38.96926;-77.070949
END:VEVENT
BEGIN:VEVENT
DTSTART;TZID=America/New_York:20280128T183000
DTEND;TZID=America/New_York:20280128T193000
DTSTAMP:20260419T080753
CREATED:20250213T141737Z
LAST-MODIFIED:20260218T210832Z
UID:10002319-1832697000-1832700600@www.templesinaidc.org
SUMMARY:Shabbat Service
DESCRIPTION:Join us in person or virtually for our weekly Shabbat service. Click here for livestream.  \nServices are preceded by an oneg beginning at 6:00 pm.
URL:https://www.templesinaidc.org/event/shabbat-service-6/2028-01-28/
LOCATION:Temple Sinai – 3100 Military Road NW\, Washington\, DC\, United States
CATEGORIES:Worship
ATTACH;FMTTYPE=image/jpeg:https://www.templesinaidc.org/wp-content/uploads/2025/02/Boxcast-.jpg
GEO:38.96926;-77.070949
END:VEVENT
BEGIN:VEVENT
DTSTART;TZID=America/New_York:20280204T183000
DTEND;TZID=America/New_York:20280204T193000
DTSTAMP:20260419T080753
CREATED:20250213T141737Z
LAST-MODIFIED:20260218T210832Z
UID:10002320-1833301800-1833305400@www.templesinaidc.org
SUMMARY:Shabbat Service
DESCRIPTION:Join us in person or virtually for our weekly Shabbat service. Click here for livestream.  \nServices are preceded by an oneg beginning at 6:00 pm.
URL:https://www.templesinaidc.org/event/shabbat-service-6/2028-02-04/
LOCATION:Temple Sinai – 3100 Military Road NW\, Washington\, DC\, United States
CATEGORIES:Worship
ATTACH;FMTTYPE=image/jpeg:https://www.templesinaidc.org/wp-content/uploads/2025/02/Boxcast-.jpg
GEO:38.96926;-77.070949
END:VEVENT
BEGIN:VEVENT
DTSTART;TZID=America/New_York:20280205T103000
DTEND;TZID=America/New_York:20280205T120000
DTSTAMP:20260419T080753
CREATED:20250212T171339Z
LAST-MODIFIED:20250505T132216Z
UID:10001483-1833359400-1833364800@www.templesinaidc.org
SUMMARY:Kehillat Shabbat Service
DESCRIPTION:These lay-led services offer opportunities to chant a few verses of Torah or Haftarah in a supportive atmosphere. Participants can also sign up to deliver a d’var Torah (analysis of the weekly Torah portion) that leads to a group discussion. \nClick here for livestream
URL:https://www.templesinaidc.org/event/kehillat-shabbat-service-23/2028-02-05/
LOCATION:Temple Sinai – 3100 Military Road NW\, Washington\, DC\, United States
CATEGORIES:Worship
ATTACH;FMTTYPE=image/png:https://www.templesinaidc.org/wp-content/uploads/2025/02/Beit-Am.png
GEO:38.96926;-77.070949
END:VEVENT
BEGIN:VEVENT
DTSTART;TZID=America/New_York:20280211T183000
DTEND;TZID=America/New_York:20280211T193000
DTSTAMP:20260419T080753
CREATED:20250213T141737Z
LAST-MODIFIED:20260218T210832Z
UID:10002321-1833906600-1833910200@www.templesinaidc.org
SUMMARY:Shabbat Service
DESCRIPTION:Join us in person or virtually for our weekly Shabbat service. Click here for livestream.  \nServices are preceded by an oneg beginning at 6:00 pm.
URL:https://www.templesinaidc.org/event/shabbat-service-6/2028-02-11/
LOCATION:Temple Sinai – 3100 Military Road NW\, Washington\, DC\, United States
CATEGORIES:Worship
ATTACH;FMTTYPE=image/jpeg:https://www.templesinaidc.org/wp-content/uploads/2025/02/Boxcast-.jpg
GEO:38.96926;-77.070949
END:VEVENT
BEGIN:VEVENT
DTSTART;TZID=America/New_York:20280218T183000
DTEND;TZID=America/New_York:20280218T193000
DTSTAMP:20260419T080753
CREATED:20250213T141737Z
LAST-MODIFIED:20260218T210832Z
UID:10002322-1834511400-1834515000@www.templesinaidc.org
SUMMARY:Shabbat Service
DESCRIPTION:Join us in person or virtually for our weekly Shabbat service. Click here for livestream.  \nServices are preceded by an oneg beginning at 6:00 pm.
URL:https://www.templesinaidc.org/event/shabbat-service-6/2028-02-18/
LOCATION:Temple Sinai – 3100 Military Road NW\, Washington\, DC\, United States
CATEGORIES:Worship
ATTACH;FMTTYPE=image/jpeg:https://www.templesinaidc.org/wp-content/uploads/2025/02/Boxcast-.jpg
GEO:38.96926;-77.070949
END:VEVENT
BEGIN:VEVENT
DTSTART;TZID=America/New_York:20280219T103000
DTEND;TZID=America/New_York:20280219T120000
DTSTAMP:20260419T080753
CREATED:20250212T171449Z
LAST-MODIFIED:20250407T154902Z
UID:10001604-1834569000-1834574400@www.templesinaidc.org
SUMMARY:Kehillat Shabbat Service
DESCRIPTION:These lay-led services offer opportunities to chant a few verses of Torah or Haftarah in a supportive atmosphere. Participants can also sign up to deliver a d’var Torah (analysis of the weekly Torah portion) that leads to a group discussion. \nLivestream links are posted on our website weekly
URL:https://www.templesinaidc.org/event/kehillat-shabbat-service-24/2028-02-19/
LOCATION:Temple Sinai – 3100 Military Road NW\, Washington\, DC\, United States
CATEGORIES:Worship
GEO:38.96926;-77.070949
END:VEVENT
BEGIN:VEVENT
DTSTART;TZID=America/New_York:20280225T183000
DTEND;TZID=America/New_York:20280225T193000
DTSTAMP:20260419T080753
CREATED:20250213T141737Z
LAST-MODIFIED:20260218T210832Z
UID:10002323-1835116200-1835119800@www.templesinaidc.org
SUMMARY:Shabbat Service
DESCRIPTION:Join us in person or virtually for our weekly Shabbat service. Click here for livestream.  \nServices are preceded by an oneg beginning at 6:00 pm.
URL:https://www.templesinaidc.org/event/shabbat-service-6/2028-02-25/
LOCATION:Temple Sinai – 3100 Military Road NW\, Washington\, DC\, United States
CATEGORIES:Worship
ATTACH;FMTTYPE=image/jpeg:https://www.templesinaidc.org/wp-content/uploads/2025/02/Boxcast-.jpg
GEO:38.96926;-77.070949
END:VEVENT
BEGIN:VEVENT
DTSTART;TZID=America/New_York:20280226T093000
DTEND;TZID=America/New_York:20280226T103000
DTSTAMP:20260419T080753
CREATED:20250714T194323Z
LAST-MODIFIED:20250714T194526Z
UID:10003528-1835170200-1835173800@www.templesinaidc.org
SUMMARY:Tot Shabbat Playdate
DESCRIPTION:Join us for a tot-friendly service led by our clergy followed by time on the playground. We’ll have challah\, juice\, bagels\, and coffee too! \nRSVP here. \n\nBest for children ages 0-5 and their families.
URL:https://www.templesinaidc.org/event/tot-shabbat-playdate-5-3/2028-02-26/
LOCATION:Temple Sinai – 3100 Military Road NW\, Washington\, DC\, United States
CATEGORIES:Worship,Young Families
ATTACH;FMTTYPE=image/jpeg:https://www.templesinaidc.org/wp-content/uploads/2025/02/Tot-Shabbat-Playdate-scaled.jpg
GEO:38.96926;-77.070949
END:VEVENT
BEGIN:VEVENT
DTSTART;TZID=America/New_York:20280303T183000
DTEND;TZID=America/New_York:20280303T193000
DTSTAMP:20260419T080753
CREATED:20250213T141737Z
LAST-MODIFIED:20260218T210832Z
UID:10002324-1835721000-1835724600@www.templesinaidc.org
SUMMARY:Shabbat Service
DESCRIPTION:Join us in person or virtually for our weekly Shabbat service. Click here for livestream.  \nServices are preceded by an oneg beginning at 6:00 pm.
URL:https://www.templesinaidc.org/event/shabbat-service-6/2028-03-03/
LOCATION:Temple Sinai – 3100 Military Road NW\, Washington\, DC\, United States
CATEGORIES:Worship
ATTACH;FMTTYPE=image/jpeg:https://www.templesinaidc.org/wp-content/uploads/2025/02/Boxcast-.jpg
GEO:38.96926;-77.070949
END:VEVENT
BEGIN:VEVENT
DTSTART;TZID=America/New_York:20280304T103000
DTEND;TZID=America/New_York:20280304T120000
DTSTAMP:20260419T080753
CREATED:20250212T171339Z
LAST-MODIFIED:20250505T132216Z
UID:10001484-1835778600-1835784000@www.templesinaidc.org
SUMMARY:Kehillat Shabbat Service
DESCRIPTION:These lay-led services offer opportunities to chant a few verses of Torah or Haftarah in a supportive atmosphere. Participants can also sign up to deliver a d’var Torah (analysis of the weekly Torah portion) that leads to a group discussion. \nClick here for livestream
URL:https://www.templesinaidc.org/event/kehillat-shabbat-service-23/2028-03-04/
LOCATION:Temple Sinai – 3100 Military Road NW\, Washington\, DC\, United States
CATEGORIES:Worship
ATTACH;FMTTYPE=image/png:https://www.templesinaidc.org/wp-content/uploads/2025/02/Beit-Am.png
GEO:38.96926;-77.070949
END:VEVENT
BEGIN:VEVENT
DTSTART;TZID=America/New_York:20280310T183000
DTEND;TZID=America/New_York:20280310T193000
DTSTAMP:20260419T080753
CREATED:20250213T141737Z
LAST-MODIFIED:20260218T210832Z
UID:10002325-1836325800-1836329400@www.templesinaidc.org
SUMMARY:Shabbat Service
DESCRIPTION:Join us in person or virtually for our weekly Shabbat service. Click here for livestream.  \nServices are preceded by an oneg beginning at 6:00 pm.
URL:https://www.templesinaidc.org/event/shabbat-service-6/2028-03-10/
LOCATION:Temple Sinai – 3100 Military Road NW\, Washington\, DC\, United States
CATEGORIES:Worship
ATTACH;FMTTYPE=image/jpeg:https://www.templesinaidc.org/wp-content/uploads/2025/02/Boxcast-.jpg
GEO:38.96926;-77.070949
END:VEVENT
BEGIN:VEVENT
DTSTART;TZID=America/New_York:20280317T183000
DTEND;TZID=America/New_York:20280317T193000
DTSTAMP:20260419T080753
CREATED:20250213T141737Z
LAST-MODIFIED:20260218T210832Z
UID:10002326-1836930600-1836934200@www.templesinaidc.org
SUMMARY:Shabbat Service
DESCRIPTION:Join us in person or virtually for our weekly Shabbat service. Click here for livestream.  \nServices are preceded by an oneg beginning at 6:00 pm.
URL:https://www.templesinaidc.org/event/shabbat-service-6/2028-03-17/
LOCATION:Temple Sinai – 3100 Military Road NW\, Washington\, DC\, United States
CATEGORIES:Worship
ATTACH;FMTTYPE=image/jpeg:https://www.templesinaidc.org/wp-content/uploads/2025/02/Boxcast-.jpg
GEO:38.96926;-77.070949
END:VEVENT
BEGIN:VEVENT
DTSTART;TZID=America/New_York:20280318T103000
DTEND;TZID=America/New_York:20280318T120000
DTSTAMP:20260419T080753
CREATED:20250212T171449Z
LAST-MODIFIED:20250407T154902Z
UID:10001605-1836988200-1836993600@www.templesinaidc.org
SUMMARY:Kehillat Shabbat Service
DESCRIPTION:These lay-led services offer opportunities to chant a few verses of Torah or Haftarah in a supportive atmosphere. Participants can also sign up to deliver a d’var Torah (analysis of the weekly Torah portion) that leads to a group discussion. \nLivestream links are posted on our website weekly
URL:https://www.templesinaidc.org/event/kehillat-shabbat-service-24/2028-03-18/
LOCATION:Temple Sinai – 3100 Military Road NW\, Washington\, DC\, United States
CATEGORIES:Worship
GEO:38.96926;-77.070949
END:VEVENT
BEGIN:VEVENT
DTSTART;TZID=America/New_York:20280324T183000
DTEND;TZID=America/New_York:20280324T193000
DTSTAMP:20260419T080753
CREATED:20250213T141737Z
LAST-MODIFIED:20260218T210832Z
UID:10002327-1837535400-1837539000@www.templesinaidc.org
SUMMARY:Shabbat Service
DESCRIPTION:Join us in person or virtually for our weekly Shabbat service. Click here for livestream.  \nServices are preceded by an oneg beginning at 6:00 pm.
URL:https://www.templesinaidc.org/event/shabbat-service-6/2028-03-24/
LOCATION:Temple Sinai – 3100 Military Road NW\, Washington\, DC\, United States
CATEGORIES:Worship
ATTACH;FMTTYPE=image/jpeg:https://www.templesinaidc.org/wp-content/uploads/2025/02/Boxcast-.jpg
GEO:38.96926;-77.070949
END:VEVENT
BEGIN:VEVENT
DTSTART;TZID=America/New_York:20280325T093000
DTEND;TZID=America/New_York:20280325T103000
DTSTAMP:20260419T080753
CREATED:20250714T194323Z
LAST-MODIFIED:20250714T194526Z
UID:10003529-1837589400-1837593000@www.templesinaidc.org
SUMMARY:Tot Shabbat Playdate
DESCRIPTION:Join us for a tot-friendly service led by our clergy followed by time on the playground. We’ll have challah\, juice\, bagels\, and coffee too! \nRSVP here. \n\nBest for children ages 0-5 and their families.
URL:https://www.templesinaidc.org/event/tot-shabbat-playdate-5-3/2028-03-25/
LOCATION:Temple Sinai – 3100 Military Road NW\, Washington\, DC\, United States
CATEGORIES:Worship,Young Families
ATTACH;FMTTYPE=image/jpeg:https://www.templesinaidc.org/wp-content/uploads/2025/02/Tot-Shabbat-Playdate-scaled.jpg
GEO:38.96926;-77.070949
END:VEVENT
BEGIN:VEVENT
DTSTART;TZID=America/New_York:20280331T183000
DTEND;TZID=America/New_York:20280331T193000
DTSTAMP:20260419T080753
CREATED:20250213T141737Z
LAST-MODIFIED:20260218T210832Z
UID:10002328-1838140200-1838143800@www.templesinaidc.org
SUMMARY:Shabbat Service
DESCRIPTION:Join us in person or virtually for our weekly Shabbat service. Click here for livestream.  \nServices are preceded by an oneg beginning at 6:00 pm.
URL:https://www.templesinaidc.org/event/shabbat-service-6/2028-03-31/
LOCATION:Temple Sinai – 3100 Military Road NW\, Washington\, DC\, United States
CATEGORIES:Worship
ATTACH;FMTTYPE=image/jpeg:https://www.templesinaidc.org/wp-content/uploads/2025/02/Boxcast-.jpg
GEO:38.96926;-77.070949
END:VEVENT
BEGIN:VEVENT
DTSTART;TZID=America/New_York:20280331T183000
DTEND;TZID=America/New_York:20280331T193000
DTSTAMP:20260419T080753
CREATED:20250610T130222Z
LAST-MODIFIED:20250807T130421Z
UID:10003047-1838140200-1838143800@www.templesinaidc.org
SUMMARY:Shabbat Healing Service
DESCRIPTION:Join us in person or virtually for a service that will offer the opportunity for communal singing\, reflective meditation\, and an extended healing liturgy. \nClick here for livestream.  \n\nServices are preceded by an oneg beginning at 6:00 pm.
URL:https://www.templesinaidc.org/event/shabbat-healing-service/2028-03-31/
LOCATION:Temple Sinai – 3100 Military Road NW\, Washington\, DC\, United States
CATEGORIES:Support Groups,Worship
ATTACH;FMTTYPE=image/jpeg:https://www.templesinaidc.org/wp-content/uploads/2025/02/Boxcast-.jpg
GEO:38.96926;-77.070949
END:VEVENT
BEGIN:VEVENT
DTSTART;TZID=America/New_York:20280401T103000
DTEND;TZID=America/New_York:20280401T120000
DTSTAMP:20260419T080753
CREATED:20250212T171339Z
LAST-MODIFIED:20250505T132216Z
UID:10001485-1838197800-1838203200@www.templesinaidc.org
SUMMARY:Kehillat Shabbat Service
DESCRIPTION:These lay-led services offer opportunities to chant a few verses of Torah or Haftarah in a supportive atmosphere. Participants can also sign up to deliver a d’var Torah (analysis of the weekly Torah portion) that leads to a group discussion. \nClick here for livestream
URL:https://www.templesinaidc.org/event/kehillat-shabbat-service-23/2028-04-01/
LOCATION:Temple Sinai – 3100 Military Road NW\, Washington\, DC\, United States
CATEGORIES:Worship
ATTACH;FMTTYPE=image/png:https://www.templesinaidc.org/wp-content/uploads/2025/02/Beit-Am.png
GEO:38.96926;-77.070949
END:VEVENT
BEGIN:VEVENT
DTSTART;TZID=America/New_York:20280407T183000
DTEND;TZID=America/New_York:20280407T193000
DTSTAMP:20260419T080753
CREATED:20250213T141737Z
LAST-MODIFIED:20260218T210832Z
UID:10002329-1838745000-1838748600@www.templesinaidc.org
SUMMARY:Shabbat Service
DESCRIPTION:Join us in person or virtually for our weekly Shabbat service. Click here for livestream.  \nServices are preceded by an oneg beginning at 6:00 pm.
URL:https://www.templesinaidc.org/event/shabbat-service-6/2028-04-07/
LOCATION:Temple Sinai – 3100 Military Road NW\, Washington\, DC\, United States
CATEGORIES:Worship
ATTACH;FMTTYPE=image/jpeg:https://www.templesinaidc.org/wp-content/uploads/2025/02/Boxcast-.jpg
GEO:38.96926;-77.070949
END:VEVENT
BEGIN:VEVENT
DTSTART;TZID=America/New_York:20280414T183000
DTEND;TZID=America/New_York:20280414T193000
DTSTAMP:20260419T080753
CREATED:20250213T141737Z
LAST-MODIFIED:20260218T210832Z
UID:10002330-1839349800-1839353400@www.templesinaidc.org
SUMMARY:Shabbat Service
DESCRIPTION:Join us in person or virtually for our weekly Shabbat service. Click here for livestream.  \nServices are preceded by an oneg beginning at 6:00 pm.
URL:https://www.templesinaidc.org/event/shabbat-service-6/2028-04-14/
LOCATION:Temple Sinai – 3100 Military Road NW\, Washington\, DC\, United States
CATEGORIES:Worship
ATTACH;FMTTYPE=image/jpeg:https://www.templesinaidc.org/wp-content/uploads/2025/02/Boxcast-.jpg
GEO:38.96926;-77.070949
END:VEVENT
BEGIN:VEVENT
DTSTART;TZID=America/New_York:20280415T103000
DTEND;TZID=America/New_York:20280415T120000
DTSTAMP:20260419T080753
CREATED:20250212T171449Z
LAST-MODIFIED:20250407T154902Z
UID:10001606-1839407400-1839412800@www.templesinaidc.org
SUMMARY:Kehillat Shabbat Service
DESCRIPTION:These lay-led services offer opportunities to chant a few verses of Torah or Haftarah in a supportive atmosphere. Participants can also sign up to deliver a d’var Torah (analysis of the weekly Torah portion) that leads to a group discussion. \nLivestream links are posted on our website weekly
URL:https://www.templesinaidc.org/event/kehillat-shabbat-service-24/2028-04-15/
LOCATION:Temple Sinai – 3100 Military Road NW\, Washington\, DC\, United States
CATEGORIES:Worship
GEO:38.96926;-77.070949
END:VEVENT
END:VCALENDAR