BEGIN:VCALENDAR
VERSION:2.0
PRODID:-//Temple Sinai - ECPv6.15.20//NONSGML v1.0//EN
CALSCALE:GREGORIAN
METHOD:PUBLISH
X-WR-CALNAME:Temple Sinai
X-ORIGINAL-URL:https://www.templesinaidc.org
X-WR-CALDESC:Events for Temple Sinai
REFRESH-INTERVAL;VALUE=DURATION:PT1H
X-Robots-Tag:noindex
X-PUBLISHED-TTL:PT1H
BEGIN:VTIMEZONE
TZID:America/New_York
BEGIN:DAYLIGHT
TZOFFSETFROM:-0500
TZOFFSETTO:-0400
TZNAME:EDT
DTSTART:20240310T070000
END:DAYLIGHT
BEGIN:STANDARD
TZOFFSETFROM:-0400
TZOFFSETTO:-0500
TZNAME:EST
DTSTART:20241103T060000
END:STANDARD
BEGIN:DAYLIGHT
TZOFFSETFROM:-0500
TZOFFSETTO:-0400
TZNAME:EDT
DTSTART:20250309T070000
END:DAYLIGHT
BEGIN:STANDARD
TZOFFSETFROM:-0400
TZOFFSETTO:-0500
TZNAME:EST
DTSTART:20251102T060000
END:STANDARD
BEGIN:DAYLIGHT
TZOFFSETFROM:-0500
TZOFFSETTO:-0400
TZNAME:EDT
DTSTART:20260308T070000
END:DAYLIGHT
BEGIN:STANDARD
TZOFFSETFROM:-0400
TZOFFSETTO:-0500
TZNAME:EST
DTSTART:20261101T060000
END:STANDARD
BEGIN:DAYLIGHT
TZOFFSETFROM:-0500
TZOFFSETTO:-0400
TZNAME:EDT
DTSTART:20270314T070000
END:DAYLIGHT
BEGIN:STANDARD
TZOFFSETFROM:-0400
TZOFFSETTO:-0500
TZNAME:EST
DTSTART:20271107T060000
END:STANDARD
END:VTIMEZONE
BEGIN:VEVENT
DTSTART;TZID=America/New_York:20260116T183000
DTEND;TZID=America/New_York:20260116T193000
DTSTAMP:20260420T095538
CREATED:20250213T141737Z
LAST-MODIFIED:20260218T210832Z
UID:10002213-1768588200-1768591800@www.templesinaidc.org
SUMMARY:Shabbat Service
DESCRIPTION:Join us in person or virtually for our weekly Shabbat service. Click here for livestream.  \nServices are preceded by an oneg beginning at 6:00 pm.
URL:https://www.templesinaidc.org/event/shabbat-service-6/2026-01-16/
LOCATION:Temple Sinai – 3100 Military Road NW\, Washington\, DC\, United States
CATEGORIES:Worship
ATTACH;FMTTYPE=image/jpeg:https://www.templesinaidc.org/wp-content/uploads/2025/02/Boxcast-.jpg
GEO:38.96926;-77.070949
END:VEVENT
BEGIN:VEVENT
DTSTART;TZID=America/New_York:20260110T103000
DTEND;TZID=America/New_York:20260110T120000
DTSTAMP:20260420T095538
CREATED:20251212T153142Z
LAST-MODIFIED:20251212T153142Z
UID:10004009-1768041000-1768046400@www.templesinaidc.org
SUMMARY:Bar Mitzvah of Evan Cohn
DESCRIPTION:
URL:https://www.templesinaidc.org/event/bar-mitzvah-of-evan-cohn-2/
CATEGORIES:Worship
END:VEVENT
BEGIN:VEVENT
DTSTART;TZID=America/New_York:20260109T183000
DTEND;TZID=America/New_York:20260109T193000
DTSTAMP:20260420T095538
CREATED:20250213T141737Z
LAST-MODIFIED:20260218T210832Z
UID:10002212-1767983400-1767987000@www.templesinaidc.org
SUMMARY:Shabbat Service
DESCRIPTION:Join us in person or virtually for our weekly Shabbat service. Click here for livestream.  \nServices are preceded by an oneg beginning at 6:00 pm.
URL:https://www.templesinaidc.org/event/shabbat-service-6/2026-01-09/
LOCATION:Temple Sinai – 3100 Military Road NW\, Washington\, DC\, United States
CATEGORIES:Worship
ATTACH;FMTTYPE=image/jpeg:https://www.templesinaidc.org/wp-content/uploads/2025/02/Boxcast-.jpg
GEO:38.96926;-77.070949
END:VEVENT
BEGIN:VEVENT
DTSTART;TZID=America/New_York:20260104T110000
DTEND;TZID=America/New_York:20260104T130000
DTSTAMP:20260420T095538
CREATED:20251216T180931Z
LAST-MODIFIED:20251216T181546Z
UID:10004100-1767524400-1767531600@www.templesinaidc.org
SUMMARY:Home for the "Challah Days" Young Adult Brunch
DESCRIPTION:If you are between 18 and 24 and spent some of your formative years at Temple Sinai\, please join us to catch up with Sinai friends over bagels and snacks. RSVP here!
URL:https://www.templesinaidc.org/event/home-for-the-challah-days-young-adult-brunch/
LOCATION:Temple Sinai – 3100 Military Road NW\, Washington\, DC\, United States
CATEGORIES:Chanukah,Community,Spotlight
ATTACH;FMTTYPE=image/png:https://www.templesinaidc.org/wp-content/uploads/2025/12/Home-for-the-Challah-Days-Presentation-1.png
GEO:38.96926;-77.070949
END:VEVENT
BEGIN:VEVENT
DTSTART;TZID=America/New_York:20260103T103000
DTEND;TZID=America/New_York:20260103T120000
DTSTAMP:20260420T095538
CREATED:20250212T171339Z
LAST-MODIFIED:20250505T132216Z
UID:10001458-1767436200-1767441600@www.templesinaidc.org
SUMMARY:Kehillat Shabbat Service
DESCRIPTION:These lay-led services offer opportunities to chant a few verses of Torah or Haftarah in a supportive atmosphere. Participants can also sign up to deliver a d’var Torah (analysis of the weekly Torah portion) that leads to a group discussion. \nClick here for livestream
URL:https://www.templesinaidc.org/event/kehillat-shabbat-service-23/2026-01-03/
LOCATION:Temple Sinai – 3100 Military Road NW\, Washington\, DC\, United States
CATEGORIES:Worship
ATTACH;FMTTYPE=image/png:https://www.templesinaidc.org/wp-content/uploads/2025/02/Beit-Am.png
GEO:38.96926;-77.070949
END:VEVENT
BEGIN:VEVENT
DTSTART;TZID=America/New_York:20260102T183000
DTEND;TZID=America/New_York:20260102T193000
DTSTAMP:20260420T095538
CREATED:20250213T141737Z
LAST-MODIFIED:20260218T210832Z
UID:10002211-1767378600-1767382200@www.templesinaidc.org
SUMMARY:Shabbat Service
DESCRIPTION:Join us in person or virtually for our weekly Shabbat service. Click here for livestream.  \nServices are preceded by an oneg beginning at 6:00 pm.
URL:https://www.templesinaidc.org/event/shabbat-service-6/2026-01-02/
LOCATION:Temple Sinai – 3100 Military Road NW\, Washington\, DC\, United States
CATEGORIES:Worship
ATTACH;FMTTYPE=image/jpeg:https://www.templesinaidc.org/wp-content/uploads/2025/02/Boxcast-.jpg
GEO:38.96926;-77.070949
END:VEVENT
BEGIN:VEVENT
DTSTART;TZID=America/New_York:20251226T183000
DTEND;TZID=America/New_York:20251226T193000
DTSTAMP:20260420T095538
CREATED:20251105T150658Z
LAST-MODIFIED:20251203T195316Z
UID:10003991-1766773800-1766777400@www.templesinaidc.org
SUMMARY:Community Shabbat Service
DESCRIPTION:This week\, we will host our neighbors from Adas Israel\, Temple Micah\, and Washington Hebrew Congregation for our annual Community Shabbat Service. \nThe service will be preceded by an oneg at 6:00 pm. 
URL:https://www.templesinaidc.org/event/community-shabbat-service-2/
CATEGORIES:Worship
ATTACH;FMTTYPE=image/jpeg:https://www.templesinaidc.org/wp-content/uploads/2025/02/Boxcast-.jpg
LOCATION:https://www.templesinaidc.org/jewish-life/this-weeks-services/
END:VEVENT
BEGIN:VEVENT
DTSTART;TZID=America/New_York:20251220T103000
DTEND;TZID=America/New_York:20251220T120000
DTSTAMP:20260420T095538
CREATED:20250212T171449Z
LAST-MODIFIED:20250407T154902Z
UID:10001578-1766226600-1766232000@www.templesinaidc.org
SUMMARY:Kehillat Shabbat Service
DESCRIPTION:These lay-led services offer opportunities to chant a few verses of Torah or Haftarah in a supportive atmosphere. Participants can also sign up to deliver a d’var Torah (analysis of the weekly Torah portion) that leads to a group discussion. \nLivestream links are posted on our website weekly
URL:https://www.templesinaidc.org/event/kehillat-shabbat-service-24/2025-12-20/
LOCATION:Temple Sinai – 3100 Military Road NW\, Washington\, DC\, United States
CATEGORIES:Worship
GEO:38.96926;-77.070949
END:VEVENT
BEGIN:VEVENT
DTSTART;TZID=America/New_York:20251220T100000
DTEND;TZID=America/New_York:20251220T113000
DTSTAMP:20260420T095538
CREATED:20250813T141835Z
LAST-MODIFIED:20251121T171809Z
UID:10002865-1766224800-1766230200@www.templesinaidc.org
SUMMARY:Tot Chanukah Celebration
DESCRIPTION:Celebrate Chanukah with us! We will welcome local author Pamela Ehrenberg who will read her book Queen of the Hanukkah Dosas. We will also sing and dance to Chanukah favorites with Rabbi Goldstein\, make Chanukah crafts\, play dreidel\, light candles\, and eat Chanukah treats (and dosas too!). \nRSVP here \nThis event is best for children ages 0-5 and their families\, including grandparents! \n 
URL:https://www.templesinaidc.org/event/tot-chanukah-celebration/
CATEGORIES:Chanukah,Holidays,Spotlight,Young Families
ATTACH;FMTTYPE=image/jpeg:https://www.templesinaidc.org/wp-content/uploads/2025/08/Tot-Chanukah-Email.jpg
END:VEVENT
BEGIN:VEVENT
DTSTART;TZID=America/New_York:20251219T183000
DTEND;TZID=America/New_York:20251219T193000
DTSTAMP:20260420T095538
CREATED:20251117T192649Z
LAST-MODIFIED:20251208T183604Z
UID:10002209-1766169000-1766172600@www.templesinaidc.org
SUMMARY:Chanukah Shabbat Service
DESCRIPTION:It’s the 6th night of Chanukah! Wear your Chanukah gear\, bring your own menorah with 7 candles\, and join us for a spirited service filled with music and light as we celebrate Chanukah Shabbat featuring our temple band\, MMC. \nClick here for livestream.  \nServices are preceded by a festive latke & sufganiyot oneg beginning at 6:00 pm. Special thanks to Provisions Catering for providing the latkes.
URL:https://www.templesinaidc.org/event/shabbat-service-6-16/
LOCATION:Temple Sinai – 3100 Military Road NW\, Washington\, DC\, United States
CATEGORIES:Chanukah,Holidays,Worship
ATTACH;FMTTYPE=image/png:https://www.templesinaidc.org/wp-content/uploads/2025/02/Chanukah-Shabbat.png
GEO:38.96926;-77.070949
END:VEVENT
BEGIN:VEVENT
DTSTART;TZID=America/New_York:20251219T100000
DTEND;TZID=America/New_York:20251219T120000
DTSTAMP:20260420T095538
CREATED:20251205T155424Z
LAST-MODIFIED:20251205T155509Z
UID:10004081-1766138400-1766145600@www.templesinaidc.org
SUMMARY:Chanukah Shabbat with Congregation Ramot Shalom
DESCRIPTION:Join us as we celebrate Chanukah Shabbat virtually with our partner congregation\, Congregation Ramot Shalom in Be’er Sheva. \nClick to join via Zoom (Meeting ID: 870 0791 4545\, Passcode: 393049)
URL:https://www.templesinaidc.org/event/shabbat-with-congregation-ramot-shalom/
CATEGORIES:Chanukah,Israel Engagement & Social Justice,Worship
LOCATION:https://us02web.zoom.us/j/87007914545?pwd=BRbYbDiHZogeNDaskdQuWbxzyBSI2U.1
END:VEVENT
BEGIN:VEVENT
DTSTART;TZID=America/New_York:20251213T190000
DTEND;TZID=America/New_York:20251213T220000
DTSTAMP:20260420T095538
CREATED:20251031T162104Z
LAST-MODIFIED:20251118T152129Z
UID:10003990-1765652400-1765663200@www.templesinaidc.org
SUMMARY:Chanukah Glow Jam
DESCRIPTION:Black lights\, glow sticks\, neon tees\, a great DJ\, and your Chanukah favorite foods…There isn’t a better way to get ready for Chanukah than to join with teens from ALL OVER the DMV for a Chanukah Party that will be talked about for years! \n\nOpen to all Jewish 8th-12th Graders\n$36/ teen \n\nRegister \n(Finances are not a barrier to participation.  Please email Tess at tweiss@templesinaidc.org for fee reduction) \nWant to help plan?  We’re looking for teen leaders to make this event extra awesome.  Let Tess know by emailing her at tweiss@templesinaidc.org!
URL:https://www.templesinaidc.org/event/chanukah-glow-jam/
CATEGORIES:Chanukah,Holidays,Religious School,Temple Teens
ATTACH;FMTTYPE=image/png:https://www.templesinaidc.org/wp-content/uploads/2025/10/Show-Your-Glow-Graphic-TW.png
END:VEVENT
BEGIN:VEVENT
DTSTART;TZID=America/New_York:20251213T103000
DTEND;TZID=America/New_York:20251213T120000
DTSTAMP:20260420T095538
CREATED:20250407T184145Z
LAST-MODIFIED:20250421T161503Z
UID:10002673-1765621800-1765627200@www.templesinaidc.org
SUMMARY:Bar Mitzvah of Sidney Immergut
DESCRIPTION:
URL:https://www.templesinaidc.org/event/bar-mitzvah-of-sidney-immergut/
LOCATION:Temple Sinai – 3100 Military Road NW\, Washington\, DC\, United States
CATEGORIES:Worship
ATTACH;FMTTYPE=image/jpeg:https://www.templesinaidc.org/wp-content/uploads/2025/02/Boxcast-.jpg
GEO:38.96926;-77.070949
END:VEVENT
BEGIN:VEVENT
DTSTART;TZID=America/New_York:20251212T183000
DTEND;TZID=America/New_York:20251212T193000
DTSTAMP:20260420T095538
CREATED:20250213T141737Z
LAST-MODIFIED:20260218T210832Z
UID:10002208-1765564200-1765567800@www.templesinaidc.org
SUMMARY:Shabbat Service
DESCRIPTION:Join us in person or virtually for our weekly Shabbat service. Click here for livestream.  \nServices are preceded by an oneg beginning at 6:00 pm.
URL:https://www.templesinaidc.org/event/shabbat-service-6/2025-12-12/
LOCATION:Temple Sinai – 3100 Military Road NW\, Washington\, DC\, United States
CATEGORIES:Worship
ATTACH;FMTTYPE=image/jpeg:https://www.templesinaidc.org/wp-content/uploads/2025/02/Boxcast-.jpg
GEO:38.96926;-77.070949
END:VEVENT
BEGIN:VEVENT
DTSTART;TZID=America/New_York:20251206T173000
DTEND;TZID=America/New_York:20251206T184500
DTSTAMP:20260420T095538
CREATED:20250407T185217Z
LAST-MODIFIED:20250610T123724Z
UID:10002672-1765042200-1765046700@www.templesinaidc.org
SUMMARY:B'not Mitzvah of Madison Hyer and Lylah Preotle
DESCRIPTION:
URL:https://www.templesinaidc.org/event/bnot-mitzvah-of-madison-hyer-and-lylah-preotle/
LOCATION:Temple Sinai – 3100 Military Road NW\, Washington\, DC\, United States
CATEGORIES:Worship
ATTACH;FMTTYPE=image/jpeg:https://www.templesinaidc.org/wp-content/uploads/2025/02/Boxcast-.jpg
GEO:38.96926;-77.070949
END:VEVENT
BEGIN:VEVENT
DTSTART;TZID=America/New_York:20251206T103000
DTEND;TZID=America/New_York:20251206T130000
DTSTAMP:20260420T095538
CREATED:20251121T182155Z
LAST-MODIFIED:20251121T182157Z
UID:10001457-1765017000-1765026000@www.templesinaidc.org
SUMMARY:Kehillat Shabbat Service & Kiddush Luncheon
DESCRIPTION:These lay-led services offer opportunities to chant a few verses of Torah or Haftarah in a supportive atmosphere. Participants can also sign up to deliver a d’var Torah (analysis of the weekly Torah portion) that leads to a group discussion. \nClick here for livestream \n  \nThis week’s service will be followed by a Kiddush Luncheon sponsored by the Falk family in celebration of Kehillat Shabbat. Please RSVP for lunch to help us plan.
URL:https://www.templesinaidc.org/event/kehillat-shabbat-service-23-2/
LOCATION:Temple Sinai – 3100 Military Road NW\, Washington\, DC\, United States
CATEGORIES:Worship
ATTACH;FMTTYPE=image/png:https://www.templesinaidc.org/wp-content/uploads/2025/02/Beit-Am.png
GEO:38.96926;-77.070949
END:VEVENT
BEGIN:VEVENT
DTSTART;TZID=America/New_York:20251206T103000
DTEND;TZID=America/New_York:20251206T120000
DTSTAMP:20260420T095538
CREATED:20250407T185150Z
LAST-MODIFIED:20250610T123723Z
UID:10002671-1765017000-1765022400@www.templesinaidc.org
SUMMARY:B'nei Mitzvah of Alexander Suleiman and Elinor Schwartz
DESCRIPTION:
URL:https://www.templesinaidc.org/event/bnei-mitzvah-of-alexander-suleiman-and-elinor-schwartz/
LOCATION:Temple Sinai – 3100 Military Road NW\, Washington\, DC\, United States
CATEGORIES:Worship
ATTACH;FMTTYPE=image/jpeg:https://www.templesinaidc.org/wp-content/uploads/2025/02/Boxcast-.jpg
GEO:38.96926;-77.070949
END:VEVENT
BEGIN:VEVENT
DTSTART;TZID=America/New_York:20251205T183000
DTEND;TZID=America/New_York:20251205T193000
DTSTAMP:20260420T095538
CREATED:20251201T183447Z
LAST-MODIFIED:20251201T183451Z
UID:10002207-1764959400-1764963000@www.templesinaidc.org
SUMMARY:Shabbat Service
DESCRIPTION:Join us in person or virtually for our weekly Shabbat service. Click here for livestream.  \nServices are preceded by an oneg beginning at 6:00 pm. Tonight’s oneg is sponsored by the Berger\,Fox and Sandelius families in memory of Samuel “Sandy” Berger.
URL:https://www.templesinaidc.org/event/shabbat-service-6-17/
LOCATION:Temple Sinai – 3100 Military Road NW\, Washington\, DC\, United States
CATEGORIES:Worship
ATTACH;FMTTYPE=image/jpeg:https://www.templesinaidc.org/wp-content/uploads/2025/02/Boxcast-.jpg
GEO:38.96926;-77.070949
END:VEVENT
BEGIN:VEVENT
DTSTART;TZID=America/New_York:20251128T183000
DTEND;TZID=America/New_York:20251128T193000
DTSTAMP:20260420T095538
CREATED:20250213T141737Z
LAST-MODIFIED:20260218T210832Z
UID:10002206-1764354600-1764358200@www.templesinaidc.org
SUMMARY:Shabbat Service
DESCRIPTION:Join us in person or virtually for our weekly Shabbat service. Click here for livestream.  \nServices are preceded by an oneg beginning at 6:00 pm.
URL:https://www.templesinaidc.org/event/shabbat-service-6/2025-11-28/
LOCATION:Temple Sinai – 3100 Military Road NW\, Washington\, DC\, United States
CATEGORIES:Worship
ATTACH;FMTTYPE=image/jpeg:https://www.templesinaidc.org/wp-content/uploads/2025/02/Boxcast-.jpg
GEO:38.96926;-77.070949
END:VEVENT
BEGIN:VEVENT
DTSTART;TZID=America/New_York:20251122T093000
DTEND;TZID=America/New_York:20251122T103000
DTSTAMP:20260420T095538
CREATED:20250714T194323Z
LAST-MODIFIED:20250714T194526Z
UID:10003502-1763803800-1763807400@www.templesinaidc.org
SUMMARY:Tot Shabbat Playdate
DESCRIPTION:Join us for a tot-friendly service led by our clergy followed by time on the playground. We’ll have challah\, juice\, bagels\, and coffee too! \nRSVP here. \n\nBest for children ages 0-5 and their families.
URL:https://www.templesinaidc.org/event/tot-shabbat-playdate-5-3/2025-11-22/
LOCATION:Temple Sinai – 3100 Military Road NW\, Washington\, DC\, United States
CATEGORIES:Worship,Young Families
ATTACH;FMTTYPE=image/jpeg:https://www.templesinaidc.org/wp-content/uploads/2025/02/Tot-Shabbat-Playdate-scaled.jpg
GEO:38.96926;-77.070949
END:VEVENT
BEGIN:VEVENT
DTSTART;TZID=America/New_York:20251121T183000
DTEND;TZID=America/New_York:20251121T193000
DTSTAMP:20260420T095538
CREATED:20250730T161704Z
LAST-MODIFIED:20250730T161705Z
UID:10002205-1763749800-1763753400@www.templesinaidc.org
SUMMARY:Shabbat Service
DESCRIPTION:Join us in person or virtually for our weekly Shabbat service. Click here for livestream.  \nServices are preceded by an oneg beginning at 6:00 pm. Tonight’s oneg is sponsored by Liz Rose and Richard Jerome in celebration of the Auf Ruf of Rachel Jerome and Mac Dunmire
URL:https://www.templesinaidc.org/event/shabbat-service-6-12/
LOCATION:Temple Sinai – 3100 Military Road NW\, Washington\, DC\, United States
CATEGORIES:Worship
ATTACH;FMTTYPE=image/jpeg:https://www.templesinaidc.org/wp-content/uploads/2025/02/Boxcast-.jpg
GEO:38.96926;-77.070949
END:VEVENT
BEGIN:VEVENT
DTSTART;TZID=America/New_York:20251115T103000
DTEND;TZID=America/New_York:20251115T120000
DTSTAMP:20260420T095538
CREATED:20250407T185125Z
LAST-MODIFIED:20250421T161450Z
UID:10002670-1763202600-1763208000@www.templesinaidc.org
SUMMARY:B'nei Mitzvah of Charlie Frank and Ethan Berman
DESCRIPTION:
URL:https://www.templesinaidc.org/event/bnei-mitzvah-of-charlie-frank-and-ethan-berman/
LOCATION:Temple Sinai – 3100 Military Road NW\, Washington\, DC\, United States
CATEGORIES:Worship
ATTACH;FMTTYPE=image/jpeg:https://www.templesinaidc.org/wp-content/uploads/2025/02/Boxcast-.jpg
GEO:38.96926;-77.070949
END:VEVENT
BEGIN:VEVENT
DTSTART;TZID=America/New_York:20251115T103000
DTEND;TZID=America/New_York:20251115T120000
DTSTAMP:20260420T095538
CREATED:20250212T171449Z
LAST-MODIFIED:20250407T154902Z
UID:10001577-1763202600-1763208000@www.templesinaidc.org
SUMMARY:Kehillat Shabbat Service
DESCRIPTION:These lay-led services offer opportunities to chant a few verses of Torah or Haftarah in a supportive atmosphere. Participants can also sign up to deliver a d’var Torah (analysis of the weekly Torah portion) that leads to a group discussion. \nLivestream links are posted on our website weekly
URL:https://www.templesinaidc.org/event/kehillat-shabbat-service-24/2025-11-15/
LOCATION:Temple Sinai – 3100 Military Road NW\, Washington\, DC\, United States
CATEGORIES:Worship
GEO:38.96926;-77.070949
END:VEVENT
BEGIN:VEVENT
DTSTART;TZID=America/New_York:20251114T183000
DTEND;TZID=America/New_York:20251114T193000
DTSTAMP:20260420T095538
CREATED:20250213T141737Z
LAST-MODIFIED:20260218T210832Z
UID:10002204-1763145000-1763148600@www.templesinaidc.org
SUMMARY:Shabbat Service
DESCRIPTION:Join us in person or virtually for our weekly Shabbat service. Click here for livestream.  \nServices are preceded by an oneg beginning at 6:00 pm.
URL:https://www.templesinaidc.org/event/shabbat-service-6/2025-11-14/
LOCATION:Temple Sinai – 3100 Military Road NW\, Washington\, DC\, United States
CATEGORIES:Worship
ATTACH;FMTTYPE=image/jpeg:https://www.templesinaidc.org/wp-content/uploads/2025/02/Boxcast-.jpg
GEO:38.96926;-77.070949
END:VEVENT
BEGIN:VEVENT
DTSTART;TZID=America/New_York:20251114T173000
DTEND;TZID=America/New_York:20251114T183000
DTSTAMP:20260420T095538
CREATED:20250912T154055Z
LAST-MODIFIED:20250912T154108Z
UID:10003889-1763141400-1763145000@www.templesinaidc.org
SUMMARY:Family Shabbat Dinner
DESCRIPTION:Come at 5:30 pm for a casual pizza dinner and activities before the 6:30 pm Shabbat Service. \nRSVP here \nThe cost is $18 per family to ensure this program can continue to thrive. Additional donations are welcome and a zero-cost option is available if this is more appropriate for your family.
URL:https://www.templesinaidc.org/event/family-shabbat-dinner-7/
LOCATION:Temple Sinai – 3100 Military Road NW\, Washington\, DC\, United States
CATEGORIES:Community,Target,Worship,Young Families
ATTACH;FMTTYPE=image/png:https://www.templesinaidc.org/wp-content/uploads/2025/07/Family-Shabbats-2025-26.png
GEO:38.96926;-77.070949
END:VEVENT
BEGIN:VEVENT
DTSTART;TZID=America/New_York:20251108T103000
DTEND;TZID=America/New_York:20251108T120000
DTSTAMP:20260420T095538
CREATED:20250407T185059Z
LAST-MODIFIED:20250421T161450Z
UID:10002669-1762597800-1762603200@www.templesinaidc.org
SUMMARY:B'not Mitzvah of Anna and Rebecca Silverleib
DESCRIPTION:
URL:https://www.templesinaidc.org/event/bnot-mitzvah-of-anna-and-rebecca-silverleib/
LOCATION:Temple Sinai – 3100 Military Road NW\, Washington\, DC\, United States
CATEGORIES:Worship
ATTACH;FMTTYPE=image/jpeg:https://www.templesinaidc.org/wp-content/uploads/2025/02/Boxcast-.jpg
GEO:38.96926;-77.070949
END:VEVENT
BEGIN:VEVENT
DTSTART;TZID=America/New_York:20251107T183000
DTEND;TZID=America/New_York:20251107T193000
DTSTAMP:20260420T095538
CREATED:20250213T141737Z
LAST-MODIFIED:20260218T210832Z
UID:10002203-1762540200-1762543800@www.templesinaidc.org
SUMMARY:Shabbat Service
DESCRIPTION:Join us in person or virtually for our weekly Shabbat service. Click here for livestream.  \nServices are preceded by an oneg beginning at 6:00 pm.
URL:https://www.templesinaidc.org/event/shabbat-service-6/2025-11-07/
LOCATION:Temple Sinai – 3100 Military Road NW\, Washington\, DC\, United States
CATEGORIES:Worship
ATTACH;FMTTYPE=image/jpeg:https://www.templesinaidc.org/wp-content/uploads/2025/02/Boxcast-.jpg
GEO:38.96926;-77.070949
END:VEVENT
BEGIN:VEVENT
DTSTART;TZID=America/New_York:20251101T103000
DTEND;TZID=America/New_York:20251101T120000
DTSTAMP:20260420T095538
CREATED:20250407T184933Z
LAST-MODIFIED:20250421T161450Z
UID:10002668-1761993000-1761998400@www.templesinaidc.org
SUMMARY:B'nei Mitzvah of Dina and Tedi Herring
DESCRIPTION:
URL:https://www.templesinaidc.org/event/bnei-mitzvah-of-dina-and-tedi-herring/
LOCATION:Temple Sinai – 3100 Military Road NW\, Washington\, DC\, United States
CATEGORIES:Worship
ATTACH;FMTTYPE=image/jpeg:https://www.templesinaidc.org/wp-content/uploads/2025/02/Boxcast-.jpg
GEO:38.96926;-77.070949
END:VEVENT
BEGIN:VEVENT
DTSTART;TZID=America/New_York:20251101T103000
DTEND;TZID=America/New_York:20251101T120000
DTSTAMP:20260420T095538
CREATED:20250212T171339Z
LAST-MODIFIED:20250505T132216Z
UID:10001456-1761993000-1761998400@www.templesinaidc.org
SUMMARY:Kehillat Shabbat Service
DESCRIPTION:These lay-led services offer opportunities to chant a few verses of Torah or Haftarah in a supportive atmosphere. Participants can also sign up to deliver a d’var Torah (analysis of the weekly Torah portion) that leads to a group discussion. \nClick here for livestream
URL:https://www.templesinaidc.org/event/kehillat-shabbat-service-23/2025-11-01/
LOCATION:Temple Sinai – 3100 Military Road NW\, Washington\, DC\, United States
CATEGORIES:Worship
ATTACH;FMTTYPE=image/png:https://www.templesinaidc.org/wp-content/uploads/2025/02/Beit-Am.png
GEO:38.96926;-77.070949
END:VEVENT
BEGIN:VEVENT
DTSTART;TZID=America/New_York:20251031T183000
DTEND;TZID=America/New_York:20251031T193000
DTSTAMP:20260420T095538
CREATED:20251021T141459Z
LAST-MODIFIED:20251021T141505Z
UID:10003037-1761935400-1761939000@www.templesinaidc.org
SUMMARY:Shabbat Healing Service
DESCRIPTION:Join us in person or virtually for a service featuring Cantor-in-Residence David Mintz that will offer the opportunity for communal singing\, reflective meditation\, and an extended healing liturgy. \nClick here for livestream.  \n\nServices are preceded by an oneg beginning at 6:00 pm.
URL:https://www.templesinaidc.org/event/shabbat-healing-service-3/
LOCATION:Temple Sinai – 3100 Military Road NW\, Washington\, DC\, United States
CATEGORIES:Support Groups,Worship
ATTACH;FMTTYPE=image/jpeg:https://www.templesinaidc.org/wp-content/uploads/2025/02/Boxcast-.jpg
GEO:38.96926;-77.070949
END:VEVENT
END:VCALENDAR