BEGIN:VCALENDAR
VERSION:2.0
PRODID:-//Temple Sinai - ECPv6.15.20//NONSGML v1.0//EN
CALSCALE:GREGORIAN
METHOD:PUBLISH
X-ORIGINAL-URL:https://www.templesinaidc.org
X-WR-CALDESC:Events for Temple Sinai
REFRESH-INTERVAL;VALUE=DURATION:PT1H
X-Robots-Tag:noindex
X-PUBLISHED-TTL:PT1H
BEGIN:VTIMEZONE
TZID:America/New_York
BEGIN:DAYLIGHT
TZOFFSETFROM:-0500
TZOFFSETTO:-0400
TZNAME:EDT
DTSTART:20240310T070000
END:DAYLIGHT
BEGIN:STANDARD
TZOFFSETFROM:-0400
TZOFFSETTO:-0500
TZNAME:EST
DTSTART:20241103T060000
END:STANDARD
BEGIN:DAYLIGHT
TZOFFSETFROM:-0500
TZOFFSETTO:-0400
TZNAME:EDT
DTSTART:20250309T070000
END:DAYLIGHT
BEGIN:STANDARD
TZOFFSETFROM:-0400
TZOFFSETTO:-0500
TZNAME:EST
DTSTART:20251102T060000
END:STANDARD
BEGIN:DAYLIGHT
TZOFFSETFROM:-0500
TZOFFSETTO:-0400
TZNAME:EDT
DTSTART:20260308T070000
END:DAYLIGHT
BEGIN:STANDARD
TZOFFSETFROM:-0400
TZOFFSETTO:-0500
TZNAME:EST
DTSTART:20261101T060000
END:STANDARD
END:VTIMEZONE
BEGIN:VEVENT
DTSTART;TZID=America/New_York:20251114T173000
DTEND;TZID=America/New_York:20251114T183000
DTSTAMP:20260420T125026
CREATED:20250912T154055Z
LAST-MODIFIED:20250912T154108Z
UID:10003889-1763141400-1763145000@www.templesinaidc.org
SUMMARY:Family Shabbat Dinner
DESCRIPTION:Come at 5:30 pm for a casual pizza dinner and activities before the 6:30 pm Shabbat Service. \nRSVP here \nThe cost is $18 per family to ensure this program can continue to thrive. Additional donations are welcome and a zero-cost option is available if this is more appropriate for your family.
URL:https://www.templesinaidc.org/event/family-shabbat-dinner-7/
LOCATION:Temple Sinai – 3100 Military Road NW\, Washington\, DC\, United States
CATEGORIES:Community,Target,Worship,Young Families
ATTACH;FMTTYPE=image/png:https://www.templesinaidc.org/wp-content/uploads/2025/07/Family-Shabbats-2025-26.png
GEO:38.96926;-77.070949
END:VEVENT
BEGIN:VEVENT
DTSTART;TZID=America/New_York:20251108T103000
DTEND;TZID=America/New_York:20251108T120000
DTSTAMP:20260420T125026
CREATED:20250407T185059Z
LAST-MODIFIED:20250421T161450Z
UID:10002669-1762597800-1762603200@www.templesinaidc.org
SUMMARY:B'not Mitzvah of Anna and Rebecca Silverleib
DESCRIPTION:
URL:https://www.templesinaidc.org/event/bnot-mitzvah-of-anna-and-rebecca-silverleib/
LOCATION:Temple Sinai – 3100 Military Road NW\, Washington\, DC\, United States
CATEGORIES:Worship
ATTACH;FMTTYPE=image/jpeg:https://www.templesinaidc.org/wp-content/uploads/2025/02/Boxcast-.jpg
GEO:38.96926;-77.070949
END:VEVENT
BEGIN:VEVENT
DTSTART;TZID=America/New_York:20251107T183000
DTEND;TZID=America/New_York:20251107T193000
DTSTAMP:20260420T125026
CREATED:20250213T141737Z
LAST-MODIFIED:20260218T210832Z
UID:10002203-1762540200-1762543800@www.templesinaidc.org
SUMMARY:Shabbat Service
DESCRIPTION:Join us in person or virtually for our weekly Shabbat service. Click here for livestream.  \nServices are preceded by an oneg beginning at 6:00 pm.
URL:https://www.templesinaidc.org/event/shabbat-service-6/2025-11-07/
LOCATION:Temple Sinai – 3100 Military Road NW\, Washington\, DC\, United States
CATEGORIES:Worship
ATTACH;FMTTYPE=image/jpeg:https://www.templesinaidc.org/wp-content/uploads/2025/02/Boxcast-.jpg
GEO:38.96926;-77.070949
END:VEVENT
BEGIN:VEVENT
DTSTART;TZID=America/New_York:20251101T103000
DTEND;TZID=America/New_York:20251101T120000
DTSTAMP:20260420T125026
CREATED:20250407T184933Z
LAST-MODIFIED:20250421T161450Z
UID:10002668-1761993000-1761998400@www.templesinaidc.org
SUMMARY:B'nei Mitzvah of Dina and Tedi Herring
DESCRIPTION:
URL:https://www.templesinaidc.org/event/bnei-mitzvah-of-dina-and-tedi-herring/
LOCATION:Temple Sinai – 3100 Military Road NW\, Washington\, DC\, United States
CATEGORIES:Worship
ATTACH;FMTTYPE=image/jpeg:https://www.templesinaidc.org/wp-content/uploads/2025/02/Boxcast-.jpg
GEO:38.96926;-77.070949
END:VEVENT
BEGIN:VEVENT
DTSTART;TZID=America/New_York:20251101T103000
DTEND;TZID=America/New_York:20251101T120000
DTSTAMP:20260420T125026
CREATED:20250212T171339Z
LAST-MODIFIED:20250505T132216Z
UID:10001456-1761993000-1761998400@www.templesinaidc.org
SUMMARY:Kehillat Shabbat Service
DESCRIPTION:These lay-led services offer opportunities to chant a few verses of Torah or Haftarah in a supportive atmosphere. Participants can also sign up to deliver a d’var Torah (analysis of the weekly Torah portion) that leads to a group discussion. \nClick here for livestream
URL:https://www.templesinaidc.org/event/kehillat-shabbat-service-23/2025-11-01/
LOCATION:Temple Sinai – 3100 Military Road NW\, Washington\, DC\, United States
CATEGORIES:Worship
ATTACH;FMTTYPE=image/png:https://www.templesinaidc.org/wp-content/uploads/2025/02/Beit-Am.png
GEO:38.96926;-77.070949
END:VEVENT
BEGIN:VEVENT
DTSTART;TZID=America/New_York:20251031T183000
DTEND;TZID=America/New_York:20251031T193000
DTSTAMP:20260420T125026
CREATED:20251021T141459Z
LAST-MODIFIED:20251021T141505Z
UID:10003037-1761935400-1761939000@www.templesinaidc.org
SUMMARY:Shabbat Healing Service
DESCRIPTION:Join us in person or virtually for a service featuring Cantor-in-Residence David Mintz that will offer the opportunity for communal singing\, reflective meditation\, and an extended healing liturgy. \nClick here for livestream.  \n\nServices are preceded by an oneg beginning at 6:00 pm.
URL:https://www.templesinaidc.org/event/shabbat-healing-service-3/
LOCATION:Temple Sinai – 3100 Military Road NW\, Washington\, DC\, United States
CATEGORIES:Support Groups,Worship
ATTACH;FMTTYPE=image/jpeg:https://www.templesinaidc.org/wp-content/uploads/2025/02/Boxcast-.jpg
GEO:38.96926;-77.070949
END:VEVENT
BEGIN:VEVENT
DTSTART;TZID=America/New_York:20251025T103000
DTEND;TZID=America/New_York:20251025T120000
DTSTAMP:20260420T125026
CREATED:20250407T185638Z
LAST-MODIFIED:20250421T161449Z
UID:10002667-1761388200-1761393600@www.templesinaidc.org
SUMMARY:Bar Mitzvah of Zach Horowitz
DESCRIPTION:
URL:https://www.templesinaidc.org/event/bar-mitzvah-of-zach-horowitz/
LOCATION:Temple Sinai – 3100 Military Road NW\, Washington\, DC\, United States
CATEGORIES:Worship
ATTACH;FMTTYPE=image/jpeg:https://www.templesinaidc.org/wp-content/uploads/2025/02/Boxcast-.jpg
GEO:38.96926;-77.070949
END:VEVENT
BEGIN:VEVENT
DTSTART;TZID=America/New_York:20251025T093000
DTEND;TZID=America/New_York:20251025T103000
DTSTAMP:20260420T125026
CREATED:20250714T194323Z
LAST-MODIFIED:20250714T194526Z
UID:10003501-1761384600-1761388200@www.templesinaidc.org
SUMMARY:Tot Shabbat Playdate
DESCRIPTION:Join us for a tot-friendly service led by our clergy followed by time on the playground. We’ll have challah\, juice\, bagels\, and coffee too! \nRSVP here. \n\nBest for children ages 0-5 and their families.
URL:https://www.templesinaidc.org/event/tot-shabbat-playdate-5-3/2025-10-25/
LOCATION:Temple Sinai – 3100 Military Road NW\, Washington\, DC\, United States
CATEGORIES:Worship,Young Families
ATTACH;FMTTYPE=image/jpeg:https://www.templesinaidc.org/wp-content/uploads/2025/02/Tot-Shabbat-Playdate-scaled.jpg
GEO:38.96926;-77.070949
END:VEVENT
BEGIN:VEVENT
DTSTART;TZID=America/New_York:20251024T183000
DTEND;TZID=America/New_York:20251024T193000
DTSTAMP:20260420T125026
CREATED:20250213T141737Z
LAST-MODIFIED:20260218T210832Z
UID:10002201-1761330600-1761334200@www.templesinaidc.org
SUMMARY:Shabbat Service
DESCRIPTION:Join us in person or virtually for our weekly Shabbat service. Click here for livestream.  \nServices are preceded by an oneg beginning at 6:00 pm.
URL:https://www.templesinaidc.org/event/shabbat-service-6/2025-10-24/
LOCATION:Temple Sinai – 3100 Military Road NW\, Washington\, DC\, United States
CATEGORIES:Worship
ATTACH;FMTTYPE=image/jpeg:https://www.templesinaidc.org/wp-content/uploads/2025/02/Boxcast-.jpg
GEO:38.96926;-77.070949
END:VEVENT
BEGIN:VEVENT
DTSTART;TZID=America/New_York:20251018T173000
DTEND;TZID=America/New_York:20251018T190000
DTSTAMP:20260420T125026
CREATED:20251015T172928Z
LAST-MODIFIED:20251015T172928Z
UID:10003931-1760808600-1760814000@www.templesinaidc.org
SUMMARY:B'not Mitzvah of Rhodes Brown and Erin McCormack
DESCRIPTION:
URL:https://www.templesinaidc.org/event/bnot-mitzvah-of-rhodes-brown-and-erin-mccormack/
LOCATION:Temple Sinai – 3100 Military Road NW\, Washington\, DC\, United States
CATEGORIES:Worship
ATTACH;FMTTYPE=image/jpeg:https://www.templesinaidc.org/wp-content/uploads/2025/02/Boxcast-.jpg
GEO:38.96926;-77.070949
END:VEVENT
BEGIN:VEVENT
DTSTART;TZID=America/New_York:20251018T103000
DTEND;TZID=America/New_York:20251018T120000
DTSTAMP:20260420T125026
CREATED:20250407T184901Z
LAST-MODIFIED:20250421T161449Z
UID:10002666-1760783400-1760788800@www.templesinaidc.org
SUMMARY:Bar Mitzvah of Will Gordon
DESCRIPTION:
URL:https://www.templesinaidc.org/event/bar-mitzvah-of-will-gordon/
LOCATION:Temple Sinai – 3100 Military Road NW\, Washington\, DC\, United States
CATEGORIES:Worship
ATTACH;FMTTYPE=image/jpeg:https://www.templesinaidc.org/wp-content/uploads/2025/02/Boxcast-.jpg
GEO:38.96926;-77.070949
END:VEVENT
BEGIN:VEVENT
DTSTART;TZID=America/New_York:20251018T103000
DTEND;TZID=America/New_York:20251018T120000
DTSTAMP:20260420T125026
CREATED:20250212T171449Z
LAST-MODIFIED:20250407T154902Z
UID:10001576-1760783400-1760788800@www.templesinaidc.org
SUMMARY:Kehillat Shabbat Service
DESCRIPTION:These lay-led services offer opportunities to chant a few verses of Torah or Haftarah in a supportive atmosphere. Participants can also sign up to deliver a d’var Torah (analysis of the weekly Torah portion) that leads to a group discussion. \nLivestream links are posted on our website weekly
URL:https://www.templesinaidc.org/event/kehillat-shabbat-service-24/2025-10-18/
LOCATION:Temple Sinai – 3100 Military Road NW\, Washington\, DC\, United States
CATEGORIES:Worship
GEO:38.96926;-77.070949
END:VEVENT
BEGIN:VEVENT
DTSTART;TZID=America/New_York:20251017T183000
DTEND;TZID=America/New_York:20251017T193000
DTSTAMP:20260420T125026
CREATED:20250213T141737Z
LAST-MODIFIED:20260218T210832Z
UID:10002200-1760725800-1760729400@www.templesinaidc.org
SUMMARY:Shabbat Service
DESCRIPTION:Join us in person or virtually for our weekly Shabbat service. Click here for livestream.  \nServices are preceded by an oneg beginning at 6:00 pm.
URL:https://www.templesinaidc.org/event/shabbat-service-6/2025-10-17/
LOCATION:Temple Sinai – 3100 Military Road NW\, Washington\, DC\, United States
CATEGORIES:Worship
ATTACH;FMTTYPE=image/jpeg:https://www.templesinaidc.org/wp-content/uploads/2025/02/Boxcast-.jpg
GEO:38.96926;-77.070949
END:VEVENT
BEGIN:VEVENT
DTSTART;TZID=America/New_York:20251014T100000
DTEND;TZID=America/New_York:20251014T113000
DTSTAMP:20260420T125026
CREATED:20250820T193959Z
LAST-MODIFIED:20250930T193008Z
UID:10002981-1760436000-1760441400@www.templesinaidc.org
SUMMARY:Simchat Torah Community Festival Service & Kiddush Luncheon
DESCRIPTION:Join us as we gather at Temple Sinai to celebrate Simchat Torah with Temple Emanuel and Temple Shalom. The service will be followed by a kiddush luncheon.
URL:https://www.templesinaidc.org/event/simchat-torah-community-festival-service/
CATEGORIES:Holidays,Spotlight,Sukkot & Simchat Torah,Worship
END:VEVENT
BEGIN:VEVENT
DTSTART;VALUE=DATE:20251014
DTEND;VALUE=DATE:20251015
DTSTAMP:20260420T125026
CREATED:20250814T162544Z
LAST-MODIFIED:20250814T162544Z
UID:10003622-1760400000-1760486399@www.templesinaidc.org
SUMMARY:Simchat Torah (office closed)
DESCRIPTION:
URL:https://www.templesinaidc.org/event/simchat-torah-office-closed/
CATEGORIES:Holidays
END:VEVENT
BEGIN:VEVENT
DTSTART;TZID=America/New_York:20251013T183000
DTEND;TZID=America/New_York:20251013T193000
DTSTAMP:20260420T125026
CREATED:20250820T193847Z
LAST-MODIFIED:20250924T155112Z
UID:10002980-1760380200-1760383800@www.templesinaidc.org
SUMMARY:Sh’mini Atzeret/Erev Simchat Torah Celebration
DESCRIPTION:Come prepared to dance with us at a festive service celebrating the end and the beginning of our Torah reading cycle. The service will be preceded by an oneg sponsored by the Dutton-Veta family beginning at 6:00 pm. We can’t wait to celebrate with you! \nJoin service via livestream
URL:https://www.templesinaidc.org/event/shmini-atzeret-erev-simchat-torah-service/
CATEGORIES:Holidays,Spotlight,Sukkot & Simchat Torah,Worship
END:VEVENT
BEGIN:VEVENT
DTSTART;VALUE=DATE:20251013
DTEND;VALUE=DATE:20251014
DTSTAMP:20260420T125026
CREATED:20250814T162552Z
LAST-MODIFIED:20250814T162552Z
UID:10003621-1760313600-1760399999@www.templesinaidc.org
SUMMARY:Sh’mini Atzeret/Erev Simchat Torah
DESCRIPTION:
URL:https://www.templesinaidc.org/event/shmini-atzeret-erev-simchat-torah/
CATEGORIES:Holidays
END:VEVENT
BEGIN:VEVENT
DTSTART;TZID=America/New_York:20251012T190000
DTEND;TZID=America/New_York:20251012T210000
DTSTAMP:20260420T125026
CREATED:20250909T164433Z
LAST-MODIFIED:20250924T160032Z
UID:10003882-1760295600-1760302800@www.templesinaidc.org
SUMMARY:TSMRJ Szechuan and Suds in the Sukkah
DESCRIPTION:Temple Sinai Men of Reform Judaism’s big kickoff event for 5786 (2025-2026)\, to be held in the Temple’s Sukkah\, weather permitting. We will enjoy Chinese food and beer pairings while hearing about the upcoming year. (There will be plenty of time for socializing). Please RSVP to Gary Falk.
URL:https://www.templesinaidc.org/event/tsmrj-szechuan-and-suds-in-the-sukkah/
CATEGORIES:Spotlight,Sukkot & Simchat Torah,TSMRJ
ATTACH;FMTTYPE=image/jpeg:https://www.templesinaidc.org/wp-content/uploads/2025/09/TSMRJ-Sukkot-scaled.jpg
END:VEVENT
BEGIN:VEVENT
DTSTART;TZID=America/New_York:20251012T150000
DTEND;TZID=America/New_York:20251012T160000
DTSTAMP:20260420T125026
CREATED:20250909T161344Z
LAST-MODIFIED:20250930T180445Z
UID:10003873-1760281200-1760284800@www.templesinaidc.org
SUMMARY:Tot Sukkot Celebration
DESCRIPTION:Join Rabbi Goldstein in the Sukkah for a chance to sing\, dance\, shake a lulav\, decorate our Sukkah and participate in the mitzvah of eating in the Sukkah. \nRegister
URL:https://www.templesinaidc.org/event/tot-sukkot-celebration/
CATEGORIES:Holidays,Spotlight,Sukkot & Simchat Torah,Young Families
ATTACH;FMTTYPE=image/jpeg:https://www.templesinaidc.org/wp-content/uploads/2025/09/Celebrate-in-the-Sukkah-Tot-Sukkot-Party-Presentation.jpg
END:VEVENT
BEGIN:VEVENT
DTSTART;TZID=America/New_York:20251011T103000
DTEND;TZID=America/New_York:20251011T120000
DTSTAMP:20260420T125026
CREATED:20250407T184820Z
LAST-MODIFIED:20250421T161449Z
UID:10002665-1760178600-1760184000@www.templesinaidc.org
SUMMARY:B'nei Mitzvah of Aaron Richards and Lane Sowers
DESCRIPTION:
URL:https://www.templesinaidc.org/event/bnei-mitzvah-of-aaron-richards-and-lane-sowers/
LOCATION:Temple Sinai – 3100 Military Road NW\, Washington\, DC\, United States
CATEGORIES:Worship
ATTACH;FMTTYPE=image/jpeg:https://www.templesinaidc.org/wp-content/uploads/2025/02/Boxcast-.jpg
GEO:38.96926;-77.070949
END:VEVENT
BEGIN:VEVENT
DTSTART;TZID=America/New_York:20251010T183000
DTEND;TZID=America/New_York:20251010T193000
DTSTAMP:20260420T125026
CREATED:20250912T153101Z
LAST-MODIFIED:20250912T153210Z
UID:10002199-1760121000-1760124600@www.templesinaidc.org
SUMMARY:Sukkot Shabbat Service
DESCRIPTION:Join us in person or virtually for a special Sukkot Shabbat service. Click here for livestream.
URL:https://www.templesinaidc.org/event/shabbat-service-6-15/
LOCATION:Temple Sinai – 3100 Military Road NW\, Washington\, DC\, United States
CATEGORIES:Sukkot & Simchat Torah,Worship
ATTACH;FMTTYPE=image/jpeg:https://www.templesinaidc.org/wp-content/uploads/2025/02/Boxcast-.jpg
GEO:38.96926;-77.070949
END:VEVENT
BEGIN:VEVENT
DTSTART;TZID=America/New_York:20251010T173000
DTEND;TZID=America/New_York:20251010T183000
DTSTAMP:20260420T125026
CREATED:20250909T161746Z
LAST-MODIFIED:20250909T162020Z
UID:10003880-1760117400-1760121000@www.templesinaidc.org
SUMMARY:Family Shabbat Dinner
DESCRIPTION:Come at 5:30 pm for a casual pizza dinner and Sukkot-themed activities before the 6:30 pm Shabbat Service. \nRSVP here \nThe cost is $18 per family to ensure this program can continue to thrive. Additional donations are welcome and a zero-cost option is available if this is more appropriate for your family.
URL:https://www.templesinaidc.org/event/family-shabbat-dinner-5/
LOCATION:Temple Sinai – 3100 Military Road NW\, Washington\, DC\, United States
CATEGORIES:Community,Sukkot & Simchat Torah,Target,Worship,Young Families
ATTACH;FMTTYPE=image/png:https://www.templesinaidc.org/wp-content/uploads/2025/07/Family-Shabbats-2025-26.png
GEO:38.96926;-77.070949
END:VEVENT
BEGIN:VEVENT
DTSTART;TZID=America/New_York:20251009T180000
DTEND;TZID=America/New_York:20251009T203000
DTSTAMP:20260420T125026
CREATED:20250908T195829Z
LAST-MODIFIED:20250930T180428Z
UID:10003869-1760032800-1760041800@www.templesinaidc.org
SUMMARY:Adult B'nei Mitzvah Alumni Reunion in the Sukkah
DESCRIPTION:Adult B’nei Mitzvah alumni are invited to a festive potluck dinner and gathering in the Sukkah and Social Hall. \nPlease bring a dish for 8 people. As in past years\, given the large number of alumni\, attendance is limited to the participants in the program. \nPlease RSVP and direct any questions to Lafe Solomon at lafesolo@aol.com.
URL:https://www.templesinaidc.org/event/adult-bnei-mitzvah-alumni-reunion-in-the-sukkah/
CATEGORIES:Community,Spotlight,Sukkot & Simchat Torah
ATTACH;FMTTYPE=image/jpeg:https://www.templesinaidc.org/wp-content/uploads/2025/09/Reunion-4-scaled.jpg
END:VEVENT
BEGIN:VEVENT
DTSTART;TZID=America/New_York:20251008T173000
DTEND;TZID=America/New_York:20251008T200000
DTSTAMP:20260420T125026
CREATED:20250917T132913Z
LAST-MODIFIED:20250930T180459Z
UID:10003892-1759944600-1759953600@www.templesinaidc.org
SUMMARY:TSRS Parents' Sukkot Happy Hour
DESCRIPTION:You are invited to join your fellow TSRS parents for a fall potluck happy hour in the Sukkah! Please bring either a drink or appetizer to share. Spread the word– please forward to anyone who you think would be interested! Looking forward to gathering! \nRSVP
URL:https://www.templesinaidc.org/event/tsrs-parents-sukkot-happy-hour/
CATEGORIES:Spotlight,Sukkot & Simchat Torah
ATTACH;FMTTYPE=image/png:https://www.templesinaidc.org/wp-content/uploads/2025/09/TSRS-Parents-Sukkot-Gathering-1.png
END:VEVENT
BEGIN:VEVENT
DTSTART;TZID=America/New_York:20251007T100000
DTEND;TZID=America/New_York:20251007T120000
DTSTAMP:20260420T125026
CREATED:20250813T143442Z
LAST-MODIFIED:20250909T162018Z
UID:10002978-1759831200-1759838400@www.templesinaidc.org
SUMMARY:Sukkot Community Festival Service
DESCRIPTION:Join us as we gather to celebrate Sukkot with Temple Emanuel and Temple Shalom. This service is being hosted by Temple Emanuel ( 10101 Connecticut Ave\, Kensington\, MD).
URL:https://www.templesinaidc.org/event/sukkot-community-festival-service/
LOCATION:Temple Emanuel – 10101 Connecticut Ave\, Kensington\, MD\, United States
CATEGORIES:Holidays,Sukkot & Simchat Torah,Worship
GEO:39.02703;-77.077539
END:VEVENT
BEGIN:VEVENT
DTSTART;VALUE=DATE:20251007
DTEND;VALUE=DATE:20251008
DTSTAMP:20260420T125026
CREATED:20250814T162602Z
LAST-MODIFIED:20250814T162602Z
UID:10003620-1759795200-1759881599@www.templesinaidc.org
SUMMARY:Sukkot (office closed)
DESCRIPTION:
URL:https://www.templesinaidc.org/event/sukkot-office-closed/
CATEGORIES:Holidays
END:VEVENT
BEGIN:VEVENT
DTSTART;TZID=America/New_York:20251006T183000
DTEND;TZID=America/New_York:20251006T193000
DTSTAMP:20260420T125026
CREATED:20250813T143330Z
LAST-MODIFIED:20250909T162018Z
UID:10002977-1759775400-1759779000@www.templesinaidc.org
SUMMARY:Erev Sukkot Service
DESCRIPTION:Join us in person or virtually as we celebrate Sukkot! Click here for livestream.  \nServices are preceded by an oneg beginning at 6:00 pm. \n 
URL:https://www.templesinaidc.org/event/erev-sukkot-service/
CATEGORIES:Sukkot & Simchat Torah,Worship
ATTACH;FMTTYPE=image/jpeg:https://www.templesinaidc.org/wp-content/uploads/2025/08/Sukkot-Sukkah.jpg
END:VEVENT
BEGIN:VEVENT
DTSTART;VALUE=DATE:20251006
DTEND;VALUE=DATE:20251007
DTSTAMP:20260420T125026
CREATED:20250814T162611Z
LAST-MODIFIED:20250909T162629Z
UID:10003619-1759708800-1759795199@www.templesinaidc.org
SUMMARY:Erev Sukkot
DESCRIPTION:
URL:https://www.templesinaidc.org/event/erev-sukkot/
CATEGORIES:Holidays
END:VEVENT
BEGIN:VEVENT
DTSTART;TZID=America/New_York:20251004T103000
DTEND;TZID=America/New_York:20251004T120000
DTSTAMP:20260420T125026
CREATED:20250212T171339Z
LAST-MODIFIED:20250505T132216Z
UID:10001455-1759573800-1759579200@www.templesinaidc.org
SUMMARY:Kehillat Shabbat Service
DESCRIPTION:These lay-led services offer opportunities to chant a few verses of Torah or Haftarah in a supportive atmosphere. Participants can also sign up to deliver a d’var Torah (analysis of the weekly Torah portion) that leads to a group discussion. \nClick here for livestream
URL:https://www.templesinaidc.org/event/kehillat-shabbat-service-23/2025-10-04/
LOCATION:Temple Sinai – 3100 Military Road NW\, Washington\, DC\, United States
CATEGORIES:Worship
ATTACH;FMTTYPE=image/png:https://www.templesinaidc.org/wp-content/uploads/2025/02/Beit-Am.png
GEO:38.96926;-77.070949
END:VEVENT
BEGIN:VEVENT
DTSTART;TZID=America/New_York:20251003T183000
DTEND;TZID=America/New_York:20251003T193000
DTSTAMP:20260420T125026
CREATED:20250213T141737Z
LAST-MODIFIED:20260218T210832Z
UID:10002198-1759516200-1759519800@www.templesinaidc.org
SUMMARY:Shabbat Service
DESCRIPTION:Join us in person or virtually for our weekly Shabbat service. Click here for livestream.  \nServices are preceded by an oneg beginning at 6:00 pm.
URL:https://www.templesinaidc.org/event/shabbat-service-6/2025-10-03/
LOCATION:Temple Sinai – 3100 Military Road NW\, Washington\, DC\, United States
CATEGORIES:Worship
ATTACH;FMTTYPE=image/jpeg:https://www.templesinaidc.org/wp-content/uploads/2025/02/Boxcast-.jpg
GEO:38.96926;-77.070949
END:VEVENT
END:VCALENDAR