BEGIN:VCALENDAR
VERSION:2.0
PRODID:-//Temple Sinai - ECPv6.15.20//NONSGML v1.0//EN
CALSCALE:GREGORIAN
METHOD:PUBLISH
X-WR-CALNAME:Temple Sinai
X-ORIGINAL-URL:https://www.templesinaidc.org
X-WR-CALDESC:Events for Temple Sinai
REFRESH-INTERVAL;VALUE=DURATION:PT1H
X-Robots-Tag:noindex
X-PUBLISHED-TTL:PT1H
BEGIN:VTIMEZONE
TZID:America/New_York
BEGIN:DAYLIGHT
TZOFFSETFROM:-0500
TZOFFSETTO:-0400
TZNAME:EDT
DTSTART:20250309T070000
END:DAYLIGHT
BEGIN:STANDARD
TZOFFSETFROM:-0400
TZOFFSETTO:-0500
TZNAME:EST
DTSTART:20251102T060000
END:STANDARD
BEGIN:DAYLIGHT
TZOFFSETFROM:-0500
TZOFFSETTO:-0400
TZNAME:EDT
DTSTART:20260308T070000
END:DAYLIGHT
BEGIN:STANDARD
TZOFFSETFROM:-0400
TZOFFSETTO:-0500
TZNAME:EST
DTSTART:20261101T060000
END:STANDARD
BEGIN:DAYLIGHT
TZOFFSETFROM:-0500
TZOFFSETTO:-0400
TZNAME:EDT
DTSTART:20270314T070000
END:DAYLIGHT
BEGIN:STANDARD
TZOFFSETFROM:-0400
TZOFFSETTO:-0500
TZNAME:EST
DTSTART:20271107T060000
END:STANDARD
END:VTIMEZONE
BEGIN:VEVENT
DTSTART;TZID=America/New_York:20260201T180000
DTEND;TZID=America/New_York:20260201T193000
DTSTAMP:20260420T124058
CREATED:20260113T200408Z
LAST-MODIFIED:20260113T200408Z
UID:10004082-1769968800-1769974200@www.templesinaidc.org
SUMMARY:Tu BiSh'vat Seder
DESCRIPTION:Celebrate Tu BiSh’vat\, the Jewish “New Year for Trees\,” with a meaningful evening honoring nature and spiritual growth. Cantor Rhodes will lead a Tu BiSh’vat Seder followed by a vegetarian potluck dinner and an opportunity to hear from guest speaker Mike Tidwell\, Executive Director\, Chesapeake Climate Action Network. \n6:00 to 6:30: 30-minute Seder led by Cantor Rhodes \nTu B’Shvat is the Jewish “New Year for Trees.” This holiday celebrates nature’s beauty\, calls us to our responsibility to care for the earth\, and open the journey into our own spiritual growth. During the seder\, we eat symbolic fruits and nuts\, each representing aspects of the natural and spiritual world: fruits with inedible peels (protection and physicality)\, fruits with edible peels (balance of inner and outer worlds)\, nuts (spiritual potential)\, and dried fruits (wisdom and life’s cycles). We offer blessings of gratitude for the earth’s abundance\, reflecting on our connection to creation and our duty to nurture it. As we share this meal\, we renew our appreciation for nature’s gifts and commit to planting seeds of kindness\, growth\, and environmental stewardship. \n6:30 to 7:00: Potluck dinner \nAttendees are asked to bring a vegetarian side dish or dessert\, according to the first letter of the attendee’s last name. (A-P bring side dish; Q-Z bring dessert) \n7:00 to 7:30: Guest speaker\, Mike Tidwell\, Executive Director\, Chesapeake Climate Action Network \nTidwell is a journalist\, author\, and climate activist living in Takoma Park\, MD. His most recent book is an exploration of global warming’s impact in his own front yard\, called The Lost Trees of Willow Avenue: A story of Climate and Hope on One American Street (St. Martin’s Press\, March 2025). \nPlease register in advance
URL:https://www.templesinaidc.org/event/tu-bishvat-seder-2/
LOCATION:DC
CATEGORIES:Adult Education,Davis Center for Social Justice,Holidays,Spotlight
ATTACH;FMTTYPE=image/jpeg:https://www.templesinaidc.org/wp-content/uploads/2025/12/Tu-BiShvat-Seder-Graphic.jpg
END:VEVENT
BEGIN:VEVENT
DTSTART;TZID=America/New_York:20260207T103000
DTEND;TZID=America/New_York:20260207T120000
DTSTAMP:20260420T124058
CREATED:20251212T153419Z
LAST-MODIFIED:20251212T153419Z
UID:10003360-1770460200-1770465600@www.templesinaidc.org
SUMMARY:Bat Mitzvah of Hannah Lopez
DESCRIPTION:
URL:https://www.templesinaidc.org/event/bat-mitzvah-of-hannah-lopez/
LOCATION:DC
CATEGORIES:Worship
END:VEVENT
BEGIN:VEVENT
DTSTART;TZID=America/New_York:20260208T100000
DTEND;TZID=America/New_York:20260208T110000
DTSTAMP:20260420T124058
CREATED:20260105T161938Z
LAST-MODIFIED:20260105T162010Z
UID:10004085-1770544800-1770548400@www.templesinaidc.org
SUMMARY:CIESJ Book Discussion
DESCRIPTION:Temple Sinai’s Committee for Israel Engagement and Social Justice hosts a virtual discussion of of Red Hook Road by American Jewish Author Ayelet Waldman\, along with our partner congregation\, Congregation Ramot Shalom of Be’er Shevah. \nRegister to join via Zoom \n  \nRED HOOK ROAD \nA rich and rewarding story of love\, loss\, and the power of family from the bestselling author of Bad Mother and Love and Other Impossible Pursuits. In the aftermath of a devastating wedding day\, two families\, the Tetherlys and the Copakens\, find their lives unraveled by unthinkable loss. Over the course of the next four summers in Red Hook\, Maine\, they struggle to bridge differences of class and background to honor the memory of the couple\, Becca and John. As Waldman explores the unique and personal ways in which each character responds to the tragedy—from the budding romance between the two surviving children\, Ruthie and Matt\, to the struggling marriage between Iris\, a high strung professor in New York\, and her husband Daniel—she creates a powerful family portrait and a beautiful reminder of the joys of life. Elegantly written and emotionally gripping\, Red Hook Road affirms Waldman’s place among today’s most talented authors. \n 
URL:https://www.templesinaidc.org/event/ciesj-book-discussion-4/
LOCATION:https://www.templesinaidc.org/event/ciesj-book-discussion-4/
CATEGORIES:Israel Engagement & Social Justice
ATTACH;FMTTYPE=image/jpeg:https://www.templesinaidc.org/wp-content/uploads/2025/12/Red-Hook-Road-Crop.jpg
END:VEVENT
BEGIN:VEVENT
DTSTART;TZID=America/New_York:20260215T153000
DTEND;TZID=America/New_York:20260215T180000
DTSTAMP:20260420T124058
CREATED:20260121T143928Z
LAST-MODIFIED:20260121T144004Z
UID:10004184-1771169400-1771178400@www.templesinaidc.org
SUMMARY:Sinaites Ice Skating
DESCRIPTION:Join us at the Cabin John Ice Rink for ice skating and winter fun! \nParticipants are required to pay upon arrival – $9 for skating and $4 for rentals. \nRSVP
URL:https://www.templesinaidc.org/event/sinaites-ice-skating/
LOCATION:Cabin John Ice Rink\, 10610 Westlake Drive\, Rockville\, MD\, United States
CATEGORIES:Religious School,Spotlight,Temple Teens
ATTACH;FMTTYPE=image/png:https://www.templesinaidc.org/wp-content/uploads/2026/01/Sinaites-Ice-Skating-Crop.png
END:VEVENT
BEGIN:VEVENT
DTSTART;TZID=America/New_York:20260219T190000
DTEND;TZID=America/New_York:20260219T203000
DTSTAMP:20260420T124058
CREATED:20251216T174951Z
LAST-MODIFIED:20260128T212653Z
UID:10004089-1771527600-1771533000@www.templesinaidc.org
SUMMARY:Antisemitism on College Campuses: The Current State
DESCRIPTION:Please join Temple Sinai’s Antisemitism Working Group for a thoughtful and timely discussion on antisemitism on college campuses\, featuring Washington Post religion reporter Michelle Boorstein\, GW political science professor and former provost Forrest Maltzman\, and attorney Baruch Weiss. The conversation will be moderated by Mike Abramowitz. \nThis promises to be a thought-provoking evening. We hope you can join us in person  and stay for some snacks and beer after! Please email Pam Kurland with questions. \nPlease register in advance \nNote: This program is in-person only and will not be recorded.
URL:https://www.templesinaidc.org/event/antisemitism-on-college-campuses-the-current-state/
LOCATION:DC
CATEGORIES:Adult Education,Davis Center for Social Justice,Spotlight
END:VEVENT
BEGIN:VEVENT
DTSTART;TZID=America/New_York:20260221T163000
DTEND;TZID=America/New_York:20260221T173000
DTSTAMP:20260420T124058
CREATED:20260109T151848Z
LAST-MODIFIED:20260109T151848Z
UID:10004104-1771691400-1771695000@www.templesinaidc.org
SUMMARY:Tot Havdallah
DESCRIPTION:Come in your pjs for a snuggly end of Shabbat with Cantor Rachel Rhodes! \nRegister
URL:https://www.templesinaidc.org/event/tot-havdallah/
LOCATION:DC
CATEGORIES:Spotlight,Young Families
ATTACH;FMTTYPE=image/jpeg:https://www.templesinaidc.org/wp-content/uploads/2025/12/tot-havdallah-graphic.jpg
END:VEVENT
BEGIN:VEVENT
DTSTART;TZID=America/New_York:20260228T103000
DTEND;TZID=America/New_York:20260228T120000
DTSTAMP:20260420T124058
CREATED:20251212T153419Z
LAST-MODIFIED:20251212T153419Z
UID:10003361-1772274600-1772280000@www.templesinaidc.org
SUMMARY:Bar Mitzvah of Blake Chasin
DESCRIPTION:
URL:https://www.templesinaidc.org/event/bar-mitzvah-of-blake-chasin/
LOCATION:DC
CATEGORIES:Worship
END:VEVENT
BEGIN:VEVENT
DTSTART;TZID=America/New_York:20260302T183000
DTEND;TZID=America/New_York:20260302T220000
DTSTAMP:20260420T124058
CREATED:20260203T125914Z
LAST-MODIFIED:20260302T204020Z
UID:10004257-1772476200-1772488800@www.templesinaidc.org
SUMMARY:Adult Purim Celebration
DESCRIPTION:6:30-7:00 pm Open Bar\n7:00-8:15 pm Megillah Reading\n8:15-10:00 pm Dance Party \nChannel your favorite presidential era (or a campaign that fizzled out) and join us as we toast the East Wing that was with plenty of Purim spirit\, plus drinks\, music\, and hamantaschen worthy of a state dinner. \nRSVP here \nOpen to TS members 21+ \nThanks to the TSMRJ for bartending.  \nWatch livestream
URL:https://www.templesinaidc.org/event/adult-purim-celebration-2/
LOCATION:DC
CATEGORIES:Community,Holidays,Purim,Spotlight,TSMRJ
ATTACH;FMTTYPE=image/jpeg:https://www.templesinaidc.org/wp-content/uploads/2026/02/Purim-General.jpg
END:VEVENT
BEGIN:VEVENT
DTSTART;TZID=America/New_York:20260303T170000
DTEND;TZID=America/New_York:20260303T183000
DTSTAMP:20260420T124058
CREATED:20260212T173101Z
LAST-MODIFIED:20260212T180453Z
UID:10004281-1772557200-1772562600@www.templesinaidc.org
SUMMARY:Temple Teens Purim Party
DESCRIPTION:Join with your friends in grades 6-12 and enjoy hanging out\, eating good food\, and engaging in the 4 mitzvot of Purim!  5:00-6:30pm\, pizza & hamentashen included.  1.5 SSL hours available \nRSVP
URL:https://www.templesinaidc.org/event/temple-teens-purim-party/
LOCATION:DC
CATEGORIES:Purim,Religious School,Temple Teens
ATTACH;FMTTYPE=image/png:https://www.templesinaidc.org/wp-content/uploads/2026/02/2026-Temple-Teens-Purim.png
END:VEVENT
BEGIN:VEVENT
DTSTART;TZID=America/New_York:20260307T103000
DTEND;TZID=America/New_York:20260307T120000
DTSTAMP:20260420T124058
CREATED:20251212T153420Z
LAST-MODIFIED:20251212T153420Z
UID:10003362-1772879400-1772884800@www.templesinaidc.org
SUMMARY:B'nei Mitzvah of Nicholas Pipe and Maxwell Borden
DESCRIPTION:
URL:https://www.templesinaidc.org/event/bnei-mitzvah-of-nicholas-pipe-and-maxwell-borden/
LOCATION:DC
CATEGORIES:Worship
END:VEVENT
BEGIN:VEVENT
DTSTART;TZID=America/New_York:20260307T173000
DTEND;TZID=America/New_York:20260307T184500
DTSTAMP:20260420T124058
CREATED:20251212T153246Z
LAST-MODIFIED:20251212T153246Z
UID:10004090-1772904600-1772909100@www.templesinaidc.org
SUMMARY:Bar Mitzvah of Archer Weinstein
DESCRIPTION:
URL:https://www.templesinaidc.org/event/bar-mitzvah-of-archer-weinstein-2/
LOCATION:DC
CATEGORIES:Worship
END:VEVENT
BEGIN:VEVENT
DTSTART;TZID=America/New_York:20260308T100000
DTEND;TZID=America/New_York:20260308T120000
DTSTAMP:20260420T124058
CREATED:20250902T123519Z
LAST-MODIFIED:20250902T123519Z
UID:10003834-1772964000-1772971200@www.templesinaidc.org
SUMMARY:TSWRJ Board Meeting
DESCRIPTION:
URL:https://www.templesinaidc.org/event/tswrj-board-meeting-4/
LOCATION:DC
CATEGORIES:TSWRJ
END:VEVENT
BEGIN:VEVENT
DTSTART;TZID=America/New_York:20260309T130000
DTEND;TZID=America/New_York:20260309T140000
DTSTAMP:20260420T124058
CREATED:20260218T210248Z
LAST-MODIFIED:20260218T210248Z
UID:10004284-1773061200-1773064800@www.templesinaidc.org
SUMMARY:Daytimers with Robert Lieber
DESCRIPTION:United States Foreign Policy In Turbulent Times \nGuest Speaker Robert Lieber\, PhD\, Professor Emeritus of Government and International Affairs\, Georgetown University \nAmerica’s relations with allies and adversaries have displayed a dizzying series of changes. Longtime solidarity with European allies that had been a fixture of the US world role since the creation of NATO has been questioned\, and relations with Asian allies are only slightly less troubled. A rearmed Russia and an increasingly powerful China pose strategic threats\, yet the Trump administration’s policies have been ambivalent toward Moscow and seem to alternate between cooperation and conflict with Beijing. Despite a transactional approach to friends and foes\, the reality is that not only are US national security and vital interests at stake\, but also our values. \nRobert Lieber is Emeritus Professor of Government and International Affairs at Georgetown University\, where he previously served as Chair of the Government Department and interim chair of Psychology. He is author or editor of eighteen books on international relations and U.S. foreign policy\, and his essays and op-eds have appeared in journals and newspapers in the U.S.\, Europe\, and Israel. He also has served as an advisor to several presidential campaigns\, to the State Department\, and to the drafters of U.S. National Intelligence Estimates. His most recent book is INDISPENSABLE NATION: AMERICAN FOREIGN POLICY IN A TURBULENT WORLD (Yale University Press). \nJoin the Temple Sinai DayTimers for a Zoom program to learn more about United States foreign policy. There will be adequate time for questions\, comments\, and discussion following the presentation. \nRegister to join via Zoom
URL:https://www.templesinaidc.org/event/daytimers-with-robert-lieber/
LOCATION:https://templesinaidc-org.zoom.us/meeting/register/aqojWpEUSwWW1J_bLN09xQ
CATEGORIES:Adult Education,Spotlight
ATTACH;FMTTYPE=image/png:https://www.templesinaidc.org/wp-content/uploads/2026/02/Daytimers-Lieber.png
END:VEVENT
BEGIN:VEVENT
DTSTART;TZID=America/New_York:20260311T190000
DTEND;TZID=America/New_York:20260311T210000
DTSTAMP:20260420T124058
CREATED:20260107T173748Z
LAST-MODIFIED:20260107T173828Z
UID:10003811-1773255600-1773262800@www.templesinaidc.org
SUMMARY:TSMRJ Book Discussion
DESCRIPTION:The Brotherhood will host a discussion of Moses\, Man of the Mountain  by Zora Neale Hurston at the temple.  As a prequel for Passover\, we will discuss Hurston’s take on the story of Exodus\, blending “the Moses of the Old Testament with the Moses of black folklore and song to create a compelling allegory of power\, redemption\, and faith.”  Copies are available as ebooks only from the Montgomery County Library\, while the DC system has several hard copies available.  To RSVP or for questions\, contact Howard Oppenheim.
URL:https://www.templesinaidc.org/event/tsmrj-book-discussion-3/
LOCATION:DC
CATEGORIES:Adult Education,Spotlight,TSMRJ
ATTACH;FMTTYPE=image/jpeg:https://www.templesinaidc.org/wp-content/uploads/2025/09/Moses-Hurston-CROP.jpg
END:VEVENT
BEGIN:VEVENT
DTSTART;TZID=America/New_York:20260314T103000
DTEND;TZID=America/New_York:20260314T120000
DTSTAMP:20260420T124058
CREATED:20250813T144443Z
LAST-MODIFIED:20250813T144443Z
UID:10003364-1773484200-1773489600@www.templesinaidc.org
SUMMARY:Bet Mitzvah of Blue Alon-Woocher
DESCRIPTION:
URL:https://www.templesinaidc.org/event/bet-mitzvah-of-blue-alon-woocher/
LOCATION:DC
CATEGORIES:Worship
END:VEVENT
BEGIN:VEVENT
DTSTART;TZID=America/New_York:20260315T110000
DTEND;TZID=America/New_York:20260315T121500
DTSTAMP:20260420T124058
CREATED:20260220T132810Z
LAST-MODIFIED:20260310T202500Z
UID:10004267-1773572400-1773576900@www.templesinaidc.org
SUMMARY:Our Rabbi’s Report From Israel
DESCRIPTION:Rabbi Jon Roos will share insights and understandings from his recent trip (before the start of the current war with Iran) to Israel with a group of Reform Rabbis and open a conversation with attendees about Israel today\, including the current war and anything members would like to discuss. \nQuestions? Contact Helena Goldstein.
URL:https://www.templesinaidc.org/event/israel-travel-meeting/
LOCATION:DC
CATEGORIES:Adult Education,Israel Engagement & Social Justice
END:VEVENT
BEGIN:VEVENT
DTSTART;TZID=America/New_York:20260315T143000
DTEND;TZID=America/New_York:20260315T173000
DTSTAMP:20260420T124058
CREATED:20251031T133540Z
LAST-MODIFIED:20260126T193739Z
UID:10003060-1773585000-1773595800@www.templesinaidc.org
SUMMARY:TSWRJ Authors' Roundtable
DESCRIPTION:Join us at Temple Sinai for a lively Authors’ Roundtable on Sunday\, March 15\, 2026 – a chance to meet and chat with talented writers! \nTemple Sinai Women of Reform Judaism presents its Annual Authors’ Roundtable (ART) SUNDAY\, March 15\, 2:30 pm – 5:30 pm. \n\n2:30 pm – Registration opens\, refreshments served\, books on sale\n3-4:30 pm – Moderated panel\n4:30 -5:30 pm -Wine and cheese reception; books will be sold and autographed\n\nThis event will be a hybrid event: you may attend in person OR you may watch and ask questions from home. \nMitzvah Program for the ART: Please bring a new or lightly used children’s book to donate to House of Ruth. \n  \nRegister
URL:https://www.templesinaidc.org/event/tswrj-authors-roundtable-2/
LOCATION:DC
CATEGORIES:Adult Education,Spotlight,TSWRJ
ATTACH;FMTTYPE=image/png:https://www.templesinaidc.org/wp-content/uploads/2025/10/2026-ART-v2.png
END:VEVENT
BEGIN:VEVENT
DTSTART;TZID=America/New_York:20260320T183000
DTEND;TZID=America/New_York:20260320T213000
DTSTAMP:20260420T124058
CREATED:20260218T205125Z
LAST-MODIFIED:20260313T185919Z
UID:10004283-1774031400-1774042200@www.templesinaidc.org
SUMMARY:Shabbat Service & Dinner with Guest Scholar Sarah Hurwitz
DESCRIPTION:Reclaiming the Jewish Story From Those Who Blame\, Shame\, and Try to Erase Us\nJoin us for Shabbat with author and former White House speechwriter Sarah Hurwitz. Her new book\, As a Jew: Reclaiming Our Story from Those Who Blame\, Shame\, and Try to Erase Us\, is an urgent exploration of how antisemitism has shaped Jewish identity and how Jews can reclaim their tradition. She is also the author of Here All Along: Finding Meaning\, Spirituality\, and a Deeper Connection to Life–in Judaism (After Finally Choosing to Look There). \nNo registration is required for the Shabbat Service at 6:30 pm\, but please register for the dinner that will follow and an opportunity to hear from Sarah about what it means to be Jewish during a time of rising antisemitism and how Jews can live proudly\, boldly\, and joyfully. \nSchedule \n\n6:30-7:15 pm: Shabbat Service. Watch the livestream\n7:15-7:45 pm: Dinner (registration required below)\n7:45-8:45 pm: Sarah Hurwitz and Rabbi Roos in Conversation (Q&A with Sarah to follow; no livestream or recording at the author’s request. Registration required below)\n\n  \nThis program is supported by the Rabbi Mindy Portnoy Adult Education Fund in memory of Temple Sinai Rabbi Emerita\, Mindy Portnoy. \nThe Rabbi Mindy Portnoy Adult Education Fund was established by a resolution of the Temple Sinai Board of Trustees to memorialize the impact Rabbi Portnoy had on the Temple Sinai community and her legacy of continuing Jewish education for adults. The fund focuses on providing financial support for educational programming primarily targeted members above the age of 18. This evening’s program was made possible thanks to the generosity of Portnoy Fund donors–if you would like to support additional programs such as this\, please consider making a donation to the Portnoy Fund online or by mailing a donation to Temple Sinai.
URL:https://www.templesinaidc.org/event/shabbat-service-dinner-with-guest-scholar-sarah-hurwitz/
LOCATION:https://www.templesinaidc.org/event/shabbat-service-dinner-with-guest-scholar-sarah-hurwitz/
CATEGORIES:Adult Education,Learning,Spotlight,Worship
ATTACH;FMTTYPE=image/png:https://www.templesinaidc.org/wp-content/uploads/2026/02/Sarah-Hurwitz-Simple.png
END:VEVENT
BEGIN:VEVENT
DTSTART;TZID=America/New_York:20260321T103000
DTEND;TZID=America/New_York:20260321T120000
DTSTAMP:20260420T124058
CREATED:20251212T153420Z
LAST-MODIFIED:20251212T153420Z
UID:10003365-1774089000-1774094400@www.templesinaidc.org
SUMMARY:B'not Mitzvah of Carly and Juliet Spratt
DESCRIPTION:
URL:https://www.templesinaidc.org/event/bnot-mitzvah-of-carly-and-juliet-spratt/
LOCATION:DC
CATEGORIES:Worship
END:VEVENT
BEGIN:VEVENT
DTSTART;TZID=America/New_York:20260322T100000
DTEND;TZID=America/New_York:20260322T113000
DTSTAMP:20260420T124058
CREATED:20260302T193505Z
LAST-MODIFIED:20260303T152513Z
UID:10004287-1774173600-1774179000@www.templesinaidc.org
SUMMARY:Lafayette Park Clean up Playdate
DESCRIPTION:Tikkun Olam! Join us at Lafayette Park by the gazebos for a fun trash pick-up scavenger hunt and time on the playground. \nQuestions? Email Lisa Resnikoff at lresnikoff@templesinaidc.org. \nRSVP
URL:https://www.templesinaidc.org/event/lafayette-park-clean-up-playdate/
LOCATION:Lafayette Park – 5900 33rd St NW\, Washington\, DC\, United States
CATEGORIES:Social Action,Spotlight,Young Families
ATTACH;FMTTYPE=image/jpeg:https://www.templesinaidc.org/wp-content/uploads/2026/02/Lafayette-Park-Presentation.jpg
GEO:38.96926;-77.070949
END:VEVENT
BEGIN:VEVENT
DTSTART;TZID=America/New_York:20260328T103000
DTEND;TZID=America/New_York:20260328T120000
DTSTAMP:20260420T124058
CREATED:20251212T153420Z
LAST-MODIFIED:20260324T165055Z
UID:10003366-1774693800-1774699200@www.templesinaidc.org
SUMMARY:Bar Mitzvah of Jake Rich
DESCRIPTION:
URL:https://www.templesinaidc.org/event/bar-mitzvah-of-jacob-rich/
LOCATION:DC
CATEGORIES:Worship
END:VEVENT
BEGIN:VEVENT
DTSTART;VALUE=DATE:20260402
DTEND;VALUE=DATE:20260403
DTSTAMP:20260420T124058
CREATED:20250813T140131Z
LAST-MODIFIED:20250813T140131Z
UID:10003565-1775088000-1775174399@www.templesinaidc.org
SUMMARY:Passover Day 1 (office closed)
DESCRIPTION:
URL:https://www.templesinaidc.org/event/passover-day-1-office-closed/
LOCATION:DC
CATEGORIES:Holidays
END:VEVENT
BEGIN:VEVENT
DTSTART;TZID=America/New_York:20260402T100000
DTEND;TZID=America/New_York:20260402T120000
DTSTAMP:20260420T124058
CREATED:20260115T173137Z
LAST-MODIFIED:20260303T151631Z
UID:10003569-1775124000-1775131200@www.templesinaidc.org
SUMMARY:1st Day Passover Community Festival Service & Kiddush Lunch
DESCRIPTION:Join us in person or virtually as we gather with Temple Emanuel and Temple Shalom to observe the first day of Pesach with a festive service here at Temple Sinai. The service will be followed by a Kiddush lunch. \nRSVP for lunch \nJoin via livestream
URL:https://www.templesinaidc.org/event/1st-day-passover-community-festival-service-kiddush-lunch/
LOCATION:DC
CATEGORIES:Holidays,Passover,Worship
ATTACH;FMTTYPE=image/png:https://www.templesinaidc.org/wp-content/uploads/2025/02/Beit-Am.png
END:VEVENT
BEGIN:VEVENT
DTSTART;TZID=America/New_York:20260402T180000
DTEND;TZID=America/New_York:20260402T210000
DTSTAMP:20260420T124058
CREATED:20260115T174458Z
LAST-MODIFIED:20260225T145706Z
UID:10004181-1775152800-1775163600@www.templesinaidc.org
SUMMARY:Second Seder
DESCRIPTION:Rabbi Jon Roos and Cantor Rachel Rhodes will lead the reading of the Passover Story and singing of festive holiday songs. A full holiday meal will be served. \nWe will be using the Mishkan HaSeder. Copies will be provided or you may purchase your own from the TSWRJ Judaica Shop. \n\n\nRegister by Monday\, March 30 at 9:00 am \n\n\nThanks to the TSWRJ for coordinating the Second Seder. 
URL:https://www.templesinaidc.org/event/second-seder-2/
LOCATION:DC
CATEGORIES:Holidays,Passover,TSWRJ,Worship
ATTACH;FMTTYPE=image/png:https://www.templesinaidc.org/wp-content/uploads/2025/03/2nd-Seder-Eventbrite.png
END:VEVENT
BEGIN:VEVENT
DTSTART;TZID=America/New_York:20260404T100000
DTEND;TZID=America/New_York:20260404T113000
DTSTAMP:20260420T124058
CREATED:20250813T141521Z
LAST-MODIFIED:20260331T164019Z
UID:10002864-1775296800-1775302200@www.templesinaidc.org
SUMMARY:Tot Pesachpalooza
DESCRIPTION:Join us for a Pesachpalooza! A fun morning celebrating Pesach as a community of young families and featuring author Susan Kusel reading her award-winning book The Passover Guest. Every family will receive a copy of the book for Susan to sign. \nRSVP \nThis is a perfect event for parents\, grandparents\, and little ones to enjoy together. Best for children ages 0-5 and their families.
URL:https://www.templesinaidc.org/event/tot-pesachpalooza/
LOCATION:DC
CATEGORIES:Holidays,Passover,Spotlight,Young Families
ATTACH;FMTTYPE=image/jpeg:https://www.templesinaidc.org/wp-content/uploads/2025/08/tot-pesachpalooza-graphic.jpg
END:VEVENT
BEGIN:VEVENT
DTSTART;VALUE=DATE:20260408
DTEND;VALUE=DATE:20260409
DTSTAMP:20260420T124058
CREATED:20250813T140108Z
LAST-MODIFIED:20250813T140108Z
UID:10003566-1775606400-1775692799@www.templesinaidc.org
SUMMARY:Passover Day 7 (office closed)
DESCRIPTION:
URL:https://www.templesinaidc.org/event/passover-day-7-office-closed/
LOCATION:DC
CATEGORIES:Holidays
END:VEVENT
BEGIN:VEVENT
DTSTART;TZID=America/New_York:20260408T100000
DTEND;TZID=America/New_York:20260408T120000
DTSTAMP:20260420T124058
CREATED:20260115T173327Z
LAST-MODIFIED:20260115T173435Z
UID:10003571-1775642400-1775649600@www.templesinaidc.org
SUMMARY:7th Day Passover Community Festival Morning Service
DESCRIPTION:Join us as we gather to celebrate the 7th day of Pesach with Temple Emanuel and Temple Shalom. This service is hosted by Temple Shalom.
URL:https://www.templesinaidc.org/event/7th-day-passover-community-festival-morning-service-2/
LOCATION:Temple Shalom – 8401 Grubb Rd\, Chevy Chase\, MD\, United States
CATEGORIES:Holidays,Passover,Worship
GEO:38.983759;-77.079449
END:VEVENT
BEGIN:VEVENT
DTSTART;TZID=America/New_York:20260410T173000
DTEND;TZID=America/New_York:20260410T203000
DTSTAMP:20260420T124058
CREATED:20260203T170319Z
LAST-MODIFIED:20260203T195435Z
UID:10004259-1775842200-1775853000@www.templesinaidc.org
SUMMARY:Cantor Robins Celebration Shabbat
DESCRIPTION:Come help us celebrate Shabbat and Cantor Rebecca Robins’ “Bat Mitzvah” — 13 years at Temple Sinai! \nThe evening begins with a Family Shabbat Dinner at 5:30 pm\, then we’ll gather for a joyful Shabbat service at 6:30 pm. A festive oneg will follow. \nThis is a night for everyone! To help us plan\, please let us know whether you intend to attend the dinner (space is limited) or the oneg\, based on what works best for your family’s schedule\, using the registration link below. Just coming for services? You can let us know that\, too. \nThe registration form also includes options to make a donation to the Religious School Fund in honor of Cantor Robins and to contribute a message to the tribute book we’re compiling for her. Even if you can’t join us in person\, you can donate and/or add to the tribute book on the registration form. \nRegister \nWatch livestream
URL:https://www.templesinaidc.org/event/cantor-robins-celebration-shabbat/
LOCATION:https://www.templesinaidc.org/event/cantor-robins-celebration-shabbat/
CATEGORIES:Community,Music,Religious School,Spotlight,Temple Teens,Worship
ATTACH;FMTTYPE=image/png:https://www.templesinaidc.org/wp-content/uploads/2026/02/CR-Shabbat-Graphic.png
END:VEVENT
BEGIN:VEVENT
DTSTART;TZID=America/New_York:20260411T103000
DTEND;TZID=America/New_York:20260411T120000
DTSTAMP:20260420T124058
CREATED:20251212T153421Z
LAST-MODIFIED:20251212T153421Z
UID:10003367-1775903400-1775908800@www.templesinaidc.org
SUMMARY:B'nei Mitzvah of Josh Anenberg and Grant Simon
DESCRIPTION:
URL:https://www.templesinaidc.org/event/bnei-mitzvah-of-josh-anenberg-and-grant-simon/
LOCATION:DC
CATEGORIES:Worship
END:VEVENT
BEGIN:VEVENT
DTSTART;TZID=America/New_York:20260412T093000
DTEND;TZID=America/New_York:20260412T130000
DTSTAMP:20260420T124058
CREATED:20260303T174453Z
LAST-MODIFIED:20260303T174453Z
UID:10004295-1775986200-1775998800@www.templesinaidc.org
SUMMARY:TSWRJ Board Meeting & Day of Action
DESCRIPTION:On Sunday\, April 12\, Women of Reform Judaism is calling on chapters nationwide to come together for its Day of Action — and TSWRJ is answering that call. \nJoin us as we gather to help assemble Words of Our Hearts\, Temple Sinai’s collaborative art installation.  It’s a wonderful opportunity to do a mitzvah for Temple Sinai\, create something lasting alongside your Sisterhood friends\, and enjoy a light lunch together afterward. RSVP. \n\n9:30 am gather\, coffee\, tea\, snack\n10 am board meeting\n11 am work on the art project\nnoon-1 pm light lunch\n\nCheck out the video to see what we’ll be doing\, with help and guidance from TS Art Committee Chair Candace Kaller. \n 
URL:https://www.templesinaidc.org/event/tswrj-board-meeting-day-of-action/
LOCATION:DC
CATEGORIES:Spotlight,TSWRJ
END:VEVENT
END:VCALENDAR