BEGIN:VCALENDAR
VERSION:2.0
PRODID:-//Temple Sinai - ECPv6.15.20//NONSGML v1.0//EN
CALSCALE:GREGORIAN
METHOD:PUBLISH
X-WR-CALNAME:Temple Sinai
X-ORIGINAL-URL:https://www.templesinaidc.org
X-WR-CALDESC:Events for Temple Sinai
REFRESH-INTERVAL;VALUE=DURATION:PT1H
X-Robots-Tag:noindex
X-PUBLISHED-TTL:PT1H
BEGIN:VTIMEZONE
TZID:America/New_York
BEGIN:DAYLIGHT
TZOFFSETFROM:-0500
TZOFFSETTO:-0400
TZNAME:EDT
DTSTART:20250309T070000
END:DAYLIGHT
BEGIN:STANDARD
TZOFFSETFROM:-0400
TZOFFSETTO:-0500
TZNAME:EST
DTSTART:20251102T060000
END:STANDARD
BEGIN:DAYLIGHT
TZOFFSETFROM:-0500
TZOFFSETTO:-0400
TZNAME:EDT
DTSTART:20260308T070000
END:DAYLIGHT
BEGIN:STANDARD
TZOFFSETFROM:-0400
TZOFFSETTO:-0500
TZNAME:EST
DTSTART:20261101T060000
END:STANDARD
BEGIN:DAYLIGHT
TZOFFSETFROM:-0500
TZOFFSETTO:-0400
TZNAME:EDT
DTSTART:20270314T070000
END:DAYLIGHT
BEGIN:STANDARD
TZOFFSETFROM:-0400
TZOFFSETTO:-0500
TZNAME:EST
DTSTART:20271107T060000
END:STANDARD
END:VTIMEZONE
BEGIN:VEVENT
DTSTART;TZID=America/New_York:20260610T190000
DTEND;TZID=America/New_York:20260610T210000
DTSTAMP:20260420T113005
CREATED:20260417T131057Z
LAST-MODIFIED:20260417T131057Z
UID:10003812-1781118000-1781125200@www.templesinaidc.org
SUMMARY:TSMRJ Book Discussion
DESCRIPTION:Join the Temple Sinai Brotherhood Book Club at the temple for a discussion of The Genius of Israel: The Surprising Resilience of a Divided Nation in a Turbulent World by Dan Senor and Saul Singer. It’s about how “a small nation of 9 million people\, forced to fight for its existence and security since its founding and (d)riven by ethnic\, religious\, and economic divides\, (proves) resistant to so many of the societal ills plaguing other wealthy democracies.” \nThis book was written before October 7\, 2023\, but released shortly afterward\, so its perspective is not shaped by events since then\, and it may be dated. Either way\, the book should serve as a catalyst for a lively (yet amiable) discussion. Both the Montgomery County Libraries and the DC Libraries have copies available. The Brotherhood welcomes all who are interested in joining the discussion. Contact Howard Oppenheim with questions or to let him know you plan to attend. (Beer\, wine\, coffee\, and snacks are provided.)
URL:https://www.templesinaidc.org/event/tsmrj-book-discussion-4/
ATTACH;FMTTYPE=image/png:https://www.templesinaidc.org/wp-content/uploads/2025/09/Genius-of-Israel.png
END:VEVENT
BEGIN:VEVENT
DTSTART;TZID=America/New_York:20260612T173000
DTEND;TZID=America/New_York:20260612T183000
DTSTAMP:20260420T113005
CREATED:20251202T132749Z
LAST-MODIFIED:20260203T185653Z
UID:10004026-1781285400-1781289000@www.templesinaidc.org
SUMMARY:Family Shabbat Dinner
DESCRIPTION:Come at 5:30 pm for a casual pizza dinner and activities before the 6:30 pm Shabbat Service. \nRSVP here \nThe cost is $18 per family to ensure this program can continue to thrive. Additional donations are welcome and a zero-cost option is available if this is more appropriate for your family. \nQuestions? Contact Lisa Resnikoff.
URL:https://www.templesinaidc.org/event/family-shabbat-dinner-8/2026-06-12/
LOCATION:Temple Sinai – 3100 Military Road NW\, Washington\, DC\, United States
CATEGORIES:Community,Spotlight,Young Families
ATTACH;FMTTYPE=image/png:https://www.templesinaidc.org/wp-content/uploads/2025/07/Family-Shabbats-2025-26.png
GEO:38.96926;-77.070949
END:VEVENT
BEGIN:VEVENT
DTSTART;TZID=America/New_York:20260613T103000
DTEND;TZID=America/New_York:20260613T120000
DTSTAMP:20260420T113005
CREATED:20251212T153423Z
LAST-MODIFIED:20251212T153423Z
UID:10003376-1781346600-1781352000@www.templesinaidc.org
SUMMARY:B'nei Mitzvah of Anika Goldberg and Noah Sacks
DESCRIPTION:
URL:https://www.templesinaidc.org/event/bnei-mitzvah-of-anika-goldberg-and-noah-sacks/
CATEGORIES:Worship
END:VEVENT
BEGIN:VEVENT
DTSTART;TZID=America/New_York:20260617T193000
DTEND;TZID=America/New_York:20260617T213000
DTSTAMP:20260420T113005
CREATED:20250212T202348Z
LAST-MODIFIED:20250520T130740Z
UID:10001804-1781724600-1781731800@www.templesinaidc.org
SUMMARY:Board of Trustees Meeting
DESCRIPTION:
URL:https://www.templesinaidc.org/event/board-of-trustees-meeting-8/2026-06-17/
LOCATION:Temple Sinai – 3100 Military Road NW\, Washington\, DC\, United States
CATEGORIES:Community
GEO:38.96926;-77.070949
END:VEVENT
BEGIN:VEVENT
DTSTART;TZID=America/New_York:20260620T103000
DTEND;TZID=America/New_York:20260620T120000
DTSTAMP:20260420T113005
CREATED:20251212T153540Z
LAST-MODIFIED:20251212T153540Z
UID:10003377-1781951400-1781956800@www.templesinaidc.org
SUMMARY:Bat Mitzvah of Emma Stoll
DESCRIPTION:
URL:https://www.templesinaidc.org/event/bat-mitzvah-of-emma-stoll/
CATEGORIES:Worship
END:VEVENT
BEGIN:VEVENT
DTSTART;TZID=America/New_York:20260627T103000
DTEND;TZID=America/New_York:20260627T120000
DTSTAMP:20260420T113005
CREATED:20251212T153541Z
LAST-MODIFIED:20251212T153541Z
UID:10003378-1782556200-1782561600@www.templesinaidc.org
SUMMARY:Bar Mitzvah of Jacob Davison
DESCRIPTION:
URL:https://www.templesinaidc.org/event/bar-mitzvah-of-jacob-davison/
CATEGORIES:Worship
END:VEVENT
BEGIN:VEVENT
DTSTART;TZID=America/New_York:20260729T103000
DTEND;TZID=America/New_York:20260729T113000
DTSTAMP:20260420T113005
CREATED:20260407T130700Z
LAST-MODIFIED:20260407T130721Z
UID:10004343-1785321000-1785324600@www.templesinaidc.org
SUMMARY:Caregivers Drop-In Group
DESCRIPTION:Are you caregiving for a loved one? Are you seeking a safe space to talk about the stresses and challenges of caring for someone with dementia/Alzheimer’s\, stroke\, cancer and other debilitating chronic illnesses? Please join us for a monthly drop-in group\, usually on the last Wednesday of the month at 10:30 am\, informally facilitated by Sinai Cares Staff Social Worker Deborah Gordis. These sessions provide an unstructured opportunity for peer support\, sharing and connection. All are welcome. Please reach out to Deb with any questions at dgordis@templesinaidc.org.
URL:https://www.templesinaidc.org/event/caregivers-drop-in-group-9-2-2-2/2026-07-29/
CATEGORIES:Support Groups
END:VEVENT
END:VCALENDAR