BEGIN:VCALENDAR
VERSION:2.0
PRODID:-//Temple Sinai - ECPv6.15.20//NONSGML v1.0//EN
CALSCALE:GREGORIAN
METHOD:PUBLISH
X-WR-CALNAME:Temple Sinai
X-ORIGINAL-URL:https://www.templesinaidc.org
X-WR-CALDESC:Events for Temple Sinai
REFRESH-INTERVAL;VALUE=DURATION:PT1H
X-Robots-Tag:noindex
X-PUBLISHED-TTL:PT1H
BEGIN:VTIMEZONE
TZID:America/New_York
BEGIN:DAYLIGHT
TZOFFSETFROM:-0500
TZOFFSETTO:-0400
TZNAME:EDT
DTSTART:20250309T070000
END:DAYLIGHT
BEGIN:STANDARD
TZOFFSETFROM:-0400
TZOFFSETTO:-0500
TZNAME:EST
DTSTART:20251102T060000
END:STANDARD
BEGIN:DAYLIGHT
TZOFFSETFROM:-0500
TZOFFSETTO:-0400
TZNAME:EDT
DTSTART:20260308T070000
END:DAYLIGHT
BEGIN:STANDARD
TZOFFSETFROM:-0400
TZOFFSETTO:-0500
TZNAME:EST
DTSTART:20261101T060000
END:STANDARD
BEGIN:DAYLIGHT
TZOFFSETFROM:-0500
TZOFFSETTO:-0400
TZNAME:EDT
DTSTART:20270314T070000
END:DAYLIGHT
BEGIN:STANDARD
TZOFFSETFROM:-0400
TZOFFSETTO:-0500
TZNAME:EST
DTSTART:20271107T060000
END:STANDARD
BEGIN:DAYLIGHT
TZOFFSETFROM:-0500
TZOFFSETTO:-0400
TZNAME:EDT
DTSTART:20280312T070000
END:DAYLIGHT
BEGIN:STANDARD
TZOFFSETFROM:-0400
TZOFFSETTO:-0500
TZNAME:EST
DTSTART:20281105T060000
END:STANDARD
BEGIN:DAYLIGHT
TZOFFSETFROM:-0500
TZOFFSETTO:-0400
TZNAME:EDT
DTSTART:20290311T070000
END:DAYLIGHT
BEGIN:STANDARD
TZOFFSETFROM:-0400
TZOFFSETTO:-0500
TZNAME:EST
DTSTART:20291104T060000
END:STANDARD
END:VTIMEZONE
BEGIN:VEVENT
DTSTART;TZID=America/New_York:20260506T193000
DTEND;TZID=America/New_York:20260506T210000
DTSTAMP:20260425T073758
CREATED:20250212T202132Z
LAST-MODIFIED:20260309T190249Z
UID:10001742-1778095800-1778101200@www.templesinaidc.org
SUMMARY:Officers' Meeting
DESCRIPTION:
URL:https://www.templesinaidc.org/event/officers-meeting-10/2026-05-06/
CATEGORIES:Community
LOCATION:https://www.templesinaidc.org/event/officers-meeting-10/2026-05-06/
END:VEVENT
BEGIN:VEVENT
DTSTART;TZID=America/New_York:20260603T193000
DTEND;TZID=America/New_York:20260603T210000
DTSTAMP:20260425T073758
CREATED:20250212T202132Z
LAST-MODIFIED:20260309T190249Z
UID:10001743-1780515000-1780520400@www.templesinaidc.org
SUMMARY:Officers' Meeting
DESCRIPTION:
URL:https://www.templesinaidc.org/event/officers-meeting-10/2026-06-03/
CATEGORIES:Community
LOCATION:https://www.templesinaidc.org/event/officers-meeting-10/2026-06-03/
END:VEVENT
BEGIN:VEVENT
DTSTART;TZID=America/New_York:20260701T193000
DTEND;TZID=America/New_York:20260701T210000
DTSTAMP:20260425T073758
CREATED:20250212T202132Z
LAST-MODIFIED:20260309T190249Z
UID:10001744-1782934200-1782939600@www.templesinaidc.org
SUMMARY:Officers' Meeting
DESCRIPTION:
URL:https://www.templesinaidc.org/event/officers-meeting-10/2026-07-01/
CATEGORIES:Community
LOCATION:https://www.templesinaidc.org/event/officers-meeting-10/2026-07-01/
END:VEVENT
BEGIN:VEVENT
DTSTART;TZID=America/New_York:20260805T193000
DTEND;TZID=America/New_York:20260805T210000
DTSTAMP:20260425T073758
CREATED:20250212T202132Z
LAST-MODIFIED:20260309T190249Z
UID:10001745-1785958200-1785963600@www.templesinaidc.org
SUMMARY:Officers' Meeting
DESCRIPTION:
URL:https://www.templesinaidc.org/event/officers-meeting-10/2026-08-05/
CATEGORIES:Community
LOCATION:https://www.templesinaidc.org/event/officers-meeting-10/2026-08-05/
END:VEVENT
BEGIN:VEVENT
DTSTART;TZID=America/New_York:20260902T193000
DTEND;TZID=America/New_York:20260902T210000
DTSTAMP:20260425T073758
CREATED:20250212T202132Z
LAST-MODIFIED:20260309T190249Z
UID:10001746-1788377400-1788382800@www.templesinaidc.org
SUMMARY:Officers' Meeting
DESCRIPTION:
URL:https://www.templesinaidc.org/event/officers-meeting-10/2026-09-02/
CATEGORIES:Community
LOCATION:https://www.templesinaidc.org/event/officers-meeting-10/2026-09-02/
END:VEVENT
BEGIN:VEVENT
DTSTART;TZID=America/New_York:20261007T193000
DTEND;TZID=America/New_York:20261007T210000
DTSTAMP:20260425T073758
CREATED:20250212T202132Z
LAST-MODIFIED:20260309T190249Z
UID:10001747-1791401400-1791406800@www.templesinaidc.org
SUMMARY:Officers' Meeting
DESCRIPTION:
URL:https://www.templesinaidc.org/event/officers-meeting-10/2026-10-07/
CATEGORIES:Community
LOCATION:https://www.templesinaidc.org/event/officers-meeting-10/2026-10-07/
END:VEVENT
BEGIN:VEVENT
DTSTART;TZID=America/New_York:20261104T193000
DTEND;TZID=America/New_York:20261104T210000
DTSTAMP:20260425T073758
CREATED:20250212T202132Z
LAST-MODIFIED:20260309T190249Z
UID:10001748-1793820600-1793826000@www.templesinaidc.org
SUMMARY:Officers' Meeting
DESCRIPTION:
URL:https://www.templesinaidc.org/event/officers-meeting-10/2026-11-04/
CATEGORIES:Community
LOCATION:https://www.templesinaidc.org/event/officers-meeting-10/2026-11-04/
END:VEVENT
BEGIN:VEVENT
DTSTART;TZID=America/New_York:20261202T193000
DTEND;TZID=America/New_York:20261202T210000
DTSTAMP:20260425T073758
CREATED:20250212T202132Z
LAST-MODIFIED:20260309T190249Z
UID:10001749-1796239800-1796245200@www.templesinaidc.org
SUMMARY:Officers' Meeting
DESCRIPTION:
URL:https://www.templesinaidc.org/event/officers-meeting-10/2026-12-02/
CATEGORIES:Community
LOCATION:https://www.templesinaidc.org/event/officers-meeting-10/2026-12-02/
END:VEVENT
BEGIN:VEVENT
DTSTART;TZID=America/New_York:20270106T193000
DTEND;TZID=America/New_York:20270106T210000
DTSTAMP:20260425T073758
CREATED:20250212T202132Z
LAST-MODIFIED:20260309T190249Z
UID:10001750-1799263800-1799269200@www.templesinaidc.org
SUMMARY:Officers' Meeting
DESCRIPTION:
URL:https://www.templesinaidc.org/event/officers-meeting-10/2027-01-06/
CATEGORIES:Community
LOCATION:https://www.templesinaidc.org/event/officers-meeting-10/2027-01-06/
END:VEVENT
BEGIN:VEVENT
DTSTART;TZID=America/New_York:20270203T193000
DTEND;TZID=America/New_York:20270203T210000
DTSTAMP:20260425T073758
CREATED:20250212T202132Z
LAST-MODIFIED:20260309T190249Z
UID:10001751-1801683000-1801688400@www.templesinaidc.org
SUMMARY:Officers' Meeting
DESCRIPTION:
URL:https://www.templesinaidc.org/event/officers-meeting-10/2027-02-03/
CATEGORIES:Community
LOCATION:https://www.templesinaidc.org/event/officers-meeting-10/2027-02-03/
END:VEVENT
BEGIN:VEVENT
DTSTART;TZID=America/New_York:20270303T193000
DTEND;TZID=America/New_York:20270303T210000
DTSTAMP:20260425T073758
CREATED:20250212T202132Z
LAST-MODIFIED:20260309T190249Z
UID:10001752-1804102200-1804107600@www.templesinaidc.org
SUMMARY:Officers' Meeting
DESCRIPTION:
URL:https://www.templesinaidc.org/event/officers-meeting-10/2027-03-03/
CATEGORIES:Community
LOCATION:https://www.templesinaidc.org/event/officers-meeting-10/2027-03-03/
END:VEVENT
BEGIN:VEVENT
DTSTART;TZID=America/New_York:20270407T193000
DTEND;TZID=America/New_York:20270407T210000
DTSTAMP:20260425T073758
CREATED:20250212T202132Z
LAST-MODIFIED:20260309T190249Z
UID:10001753-1807126200-1807131600@www.templesinaidc.org
SUMMARY:Officers' Meeting
DESCRIPTION:
URL:https://www.templesinaidc.org/event/officers-meeting-10/2027-04-07/
CATEGORIES:Community
LOCATION:https://www.templesinaidc.org/event/officers-meeting-10/2027-04-07/
END:VEVENT
BEGIN:VEVENT
DTSTART;TZID=America/New_York:20270505T193000
DTEND;TZID=America/New_York:20270505T210000
DTSTAMP:20260425T073758
CREATED:20250212T202132Z
LAST-MODIFIED:20260309T190249Z
UID:10001754-1809545400-1809550800@www.templesinaidc.org
SUMMARY:Officers' Meeting
DESCRIPTION:
URL:https://www.templesinaidc.org/event/officers-meeting-10/2027-05-05/
CATEGORIES:Community
LOCATION:https://www.templesinaidc.org/event/officers-meeting-10/2027-05-05/
END:VEVENT
BEGIN:VEVENT
DTSTART;TZID=America/New_York:20270602T193000
DTEND;TZID=America/New_York:20270602T210000
DTSTAMP:20260425T073758
CREATED:20250212T202132Z
LAST-MODIFIED:20260309T190249Z
UID:10001755-1811964600-1811970000@www.templesinaidc.org
SUMMARY:Officers' Meeting
DESCRIPTION:
URL:https://www.templesinaidc.org/event/officers-meeting-10/2027-06-02/
CATEGORIES:Community
LOCATION:https://www.templesinaidc.org/event/officers-meeting-10/2027-06-02/
END:VEVENT
BEGIN:VEVENT
DTSTART;TZID=America/New_York:20270707T193000
DTEND;TZID=America/New_York:20270707T210000
DTSTAMP:20260425T073758
CREATED:20250212T202132Z
LAST-MODIFIED:20260309T190249Z
UID:10001756-1814988600-1814994000@www.templesinaidc.org
SUMMARY:Officers' Meeting
DESCRIPTION:
URL:https://www.templesinaidc.org/event/officers-meeting-10/2027-07-07/
CATEGORIES:Community
LOCATION:https://www.templesinaidc.org/event/officers-meeting-10/2027-07-07/
END:VEVENT
BEGIN:VEVENT
DTSTART;TZID=America/New_York:20270804T193000
DTEND;TZID=America/New_York:20270804T210000
DTSTAMP:20260425T073758
CREATED:20250212T202132Z
LAST-MODIFIED:20260309T190249Z
UID:10001757-1817407800-1817413200@www.templesinaidc.org
SUMMARY:Officers' Meeting
DESCRIPTION:
URL:https://www.templesinaidc.org/event/officers-meeting-10/2027-08-04/
CATEGORIES:Community
LOCATION:https://www.templesinaidc.org/event/officers-meeting-10/2027-08-04/
END:VEVENT
BEGIN:VEVENT
DTSTART;TZID=America/New_York:20270901T193000
DTEND;TZID=America/New_York:20270901T210000
DTSTAMP:20260425T073758
CREATED:20250212T202132Z
LAST-MODIFIED:20260309T190249Z
UID:10001758-1819827000-1819832400@www.templesinaidc.org
SUMMARY:Officers' Meeting
DESCRIPTION:
URL:https://www.templesinaidc.org/event/officers-meeting-10/2027-09-01/
CATEGORIES:Community
LOCATION:https://www.templesinaidc.org/event/officers-meeting-10/2027-09-01/
END:VEVENT
BEGIN:VEVENT
DTSTART;TZID=America/New_York:20271006T193000
DTEND;TZID=America/New_York:20271006T210000
DTSTAMP:20260425T073758
CREATED:20250212T202132Z
LAST-MODIFIED:20260309T190249Z
UID:10001759-1822851000-1822856400@www.templesinaidc.org
SUMMARY:Officers' Meeting
DESCRIPTION:
URL:https://www.templesinaidc.org/event/officers-meeting-10/2027-10-06/
CATEGORIES:Community
LOCATION:https://www.templesinaidc.org/event/officers-meeting-10/2027-10-06/
END:VEVENT
BEGIN:VEVENT
DTSTART;TZID=America/New_York:20271103T193000
DTEND;TZID=America/New_York:20271103T210000
DTSTAMP:20260425T073758
CREATED:20250212T202132Z
LAST-MODIFIED:20260309T190249Z
UID:10001760-1825270200-1825275600@www.templesinaidc.org
SUMMARY:Officers' Meeting
DESCRIPTION:
URL:https://www.templesinaidc.org/event/officers-meeting-10/2027-11-03/
CATEGORIES:Community
LOCATION:https://www.templesinaidc.org/event/officers-meeting-10/2027-11-03/
END:VEVENT
BEGIN:VEVENT
DTSTART;TZID=America/New_York:20271201T193000
DTEND;TZID=America/New_York:20271201T210000
DTSTAMP:20260425T073758
CREATED:20250212T202132Z
LAST-MODIFIED:20260309T190249Z
UID:10001761-1827689400-1827694800@www.templesinaidc.org
SUMMARY:Officers' Meeting
DESCRIPTION:
URL:https://www.templesinaidc.org/event/officers-meeting-10/2027-12-01/
CATEGORIES:Community
LOCATION:https://www.templesinaidc.org/event/officers-meeting-10/2027-12-01/
END:VEVENT
BEGIN:VEVENT
DTSTART;TZID=America/New_York:20280105T193000
DTEND;TZID=America/New_York:20280105T210000
DTSTAMP:20260425T073758
CREATED:20250212T202132Z
LAST-MODIFIED:20260309T190249Z
UID:10001762-1830713400-1830718800@www.templesinaidc.org
SUMMARY:Officers' Meeting
DESCRIPTION:
URL:https://www.templesinaidc.org/event/officers-meeting-10/2028-01-05/
CATEGORIES:Community
LOCATION:https://www.templesinaidc.org/event/officers-meeting-10/2028-01-05/
END:VEVENT
BEGIN:VEVENT
DTSTART;TZID=America/New_York:20280202T193000
DTEND;TZID=America/New_York:20280202T210000
DTSTAMP:20260425T073758
CREATED:20250212T202132Z
LAST-MODIFIED:20260309T190249Z
UID:10001763-1833132600-1833138000@www.templesinaidc.org
SUMMARY:Officers' Meeting
DESCRIPTION:
URL:https://www.templesinaidc.org/event/officers-meeting-10/2028-02-02/
CATEGORIES:Community
LOCATION:https://www.templesinaidc.org/event/officers-meeting-10/2028-02-02/
END:VEVENT
BEGIN:VEVENT
DTSTART;TZID=America/New_York:20280301T193000
DTEND;TZID=America/New_York:20280301T210000
DTSTAMP:20260425T073758
CREATED:20250212T202132Z
LAST-MODIFIED:20260309T190249Z
UID:10001764-1835551800-1835557200@www.templesinaidc.org
SUMMARY:Officers' Meeting
DESCRIPTION:
URL:https://www.templesinaidc.org/event/officers-meeting-10/2028-03-01/
CATEGORIES:Community
LOCATION:https://www.templesinaidc.org/event/officers-meeting-10/2028-03-01/
END:VEVENT
BEGIN:VEVENT
DTSTART;TZID=America/New_York:20280405T193000
DTEND;TZID=America/New_York:20280405T210000
DTSTAMP:20260425T073758
CREATED:20250212T202132Z
LAST-MODIFIED:20260309T190249Z
UID:10001765-1838575800-1838581200@www.templesinaidc.org
SUMMARY:Officers' Meeting
DESCRIPTION:
URL:https://www.templesinaidc.org/event/officers-meeting-10/2028-04-05/
CATEGORIES:Community
LOCATION:https://www.templesinaidc.org/event/officers-meeting-10/2028-04-05/
END:VEVENT
BEGIN:VEVENT
DTSTART;TZID=America/New_York:20280503T193000
DTEND;TZID=America/New_York:20280503T210000
DTSTAMP:20260425T073758
CREATED:20250212T202132Z
LAST-MODIFIED:20260309T190249Z
UID:10001766-1840995000-1841000400@www.templesinaidc.org
SUMMARY:Officers' Meeting
DESCRIPTION:
URL:https://www.templesinaidc.org/event/officers-meeting-10/2028-05-03/
CATEGORIES:Community
LOCATION:https://www.templesinaidc.org/event/officers-meeting-10/2028-05-03/
END:VEVENT
BEGIN:VEVENT
DTSTART;TZID=America/New_York:20280607T193000
DTEND;TZID=America/New_York:20280607T210000
DTSTAMP:20260425T073758
CREATED:20250212T202132Z
LAST-MODIFIED:20260309T190249Z
UID:10001767-1844019000-1844024400@www.templesinaidc.org
SUMMARY:Officers' Meeting
DESCRIPTION:
URL:https://www.templesinaidc.org/event/officers-meeting-10/2028-06-07/
CATEGORIES:Community
LOCATION:https://www.templesinaidc.org/event/officers-meeting-10/2028-06-07/
END:VEVENT
BEGIN:VEVENT
DTSTART;TZID=America/New_York:20280705T193000
DTEND;TZID=America/New_York:20280705T210000
DTSTAMP:20260425T073758
CREATED:20250212T202132Z
LAST-MODIFIED:20260309T190249Z
UID:10001768-1846438200-1846443600@www.templesinaidc.org
SUMMARY:Officers' Meeting
DESCRIPTION:
URL:https://www.templesinaidc.org/event/officers-meeting-10/2028-07-05/
CATEGORIES:Community
LOCATION:https://www.templesinaidc.org/event/officers-meeting-10/2028-07-05/
END:VEVENT
BEGIN:VEVENT
DTSTART;TZID=America/New_York:20280802T193000
DTEND;TZID=America/New_York:20280802T210000
DTSTAMP:20260425T073758
CREATED:20250212T202132Z
LAST-MODIFIED:20260309T190249Z
UID:10001769-1848857400-1848862800@www.templesinaidc.org
SUMMARY:Officers' Meeting
DESCRIPTION:
URL:https://www.templesinaidc.org/event/officers-meeting-10/2028-08-02/
CATEGORIES:Community
LOCATION:https://www.templesinaidc.org/event/officers-meeting-10/2028-08-02/
END:VEVENT
BEGIN:VEVENT
DTSTART;TZID=America/New_York:20280906T193000
DTEND;TZID=America/New_York:20280906T210000
DTSTAMP:20260425T073758
CREATED:20250212T202132Z
LAST-MODIFIED:20260309T190249Z
UID:10001770-1851881400-1851886800@www.templesinaidc.org
SUMMARY:Officers' Meeting
DESCRIPTION:
URL:https://www.templesinaidc.org/event/officers-meeting-10/2028-09-06/
CATEGORIES:Community
LOCATION:https://www.templesinaidc.org/event/officers-meeting-10/2028-09-06/
END:VEVENT
BEGIN:VEVENT
DTSTART;TZID=America/New_York:20281004T193000
DTEND;TZID=America/New_York:20281004T210000
DTSTAMP:20260425T073758
CREATED:20250212T202132Z
LAST-MODIFIED:20260309T190249Z
UID:10001771-1854300600-1854306000@www.templesinaidc.org
SUMMARY:Officers' Meeting
DESCRIPTION:
URL:https://www.templesinaidc.org/event/officers-meeting-10/2028-10-04/
CATEGORIES:Community
LOCATION:https://www.templesinaidc.org/event/officers-meeting-10/2028-10-04/
END:VEVENT
END:VCALENDAR