BEGIN:VCALENDAR
VERSION:2.0
PRODID:-//Temple Sinai - ECPv6.15.20//NONSGML v1.0//EN
CALSCALE:GREGORIAN
METHOD:PUBLISH
X-WR-CALNAME:Temple Sinai
X-ORIGINAL-URL:https://www.templesinaidc.org
X-WR-CALDESC:Events for Temple Sinai
REFRESH-INTERVAL;VALUE=DURATION:PT1H
X-Robots-Tag:noindex
X-PUBLISHED-TTL:PT1H
BEGIN:VTIMEZONE
TZID:America/New_York
BEGIN:DAYLIGHT
TZOFFSETFROM:-0500
TZOFFSETTO:-0400
TZNAME:EDT
DTSTART:20250309T070000
END:DAYLIGHT
BEGIN:STANDARD
TZOFFSETFROM:-0400
TZOFFSETTO:-0500
TZNAME:EST
DTSTART:20251102T060000
END:STANDARD
BEGIN:DAYLIGHT
TZOFFSETFROM:-0500
TZOFFSETTO:-0400
TZNAME:EDT
DTSTART:20260308T070000
END:DAYLIGHT
BEGIN:STANDARD
TZOFFSETFROM:-0400
TZOFFSETTO:-0500
TZNAME:EST
DTSTART:20261101T060000
END:STANDARD
BEGIN:DAYLIGHT
TZOFFSETFROM:-0500
TZOFFSETTO:-0400
TZNAME:EDT
DTSTART:20270314T070000
END:DAYLIGHT
BEGIN:STANDARD
TZOFFSETFROM:-0400
TZOFFSETTO:-0500
TZNAME:EST
DTSTART:20271107T060000
END:STANDARD
END:VTIMEZONE
BEGIN:VEVENT
DTSTART;TZID=America/New_York:20260424T183000
DTEND;TZID=America/New_York:20260424T193000
DTSTAMP:20260423T200207
CREATED:20250213T141737Z
LAST-MODIFIED:20260218T210832Z
UID:10002227-1777055400-1777059000@www.templesinaidc.org
SUMMARY:Shabbat Service
DESCRIPTION:Join us in person or virtually for our weekly Shabbat service. Click here for livestream.  \nServices are preceded by an oneg beginning at 6:00 pm.
URL:https://www.templesinaidc.org/event/shabbat-service-6/2026-04-24/
LOCATION:Temple Sinai – 3100 Military Road NW\, Washington\, DC\, United States
CATEGORIES:Worship
ATTACH;FMTTYPE=image/jpeg:https://www.templesinaidc.org/wp-content/uploads/2025/02/Boxcast-.jpg
GEO:38.96926;-77.070949
END:VEVENT
BEGIN:VEVENT
DTSTART;TZID=America/New_York:20260501T183000
DTEND;TZID=America/New_York:20260501T193000
DTSTAMP:20260423T200207
CREATED:20250213T141737Z
LAST-MODIFIED:20260218T210832Z
UID:10002228-1777660200-1777663800@www.templesinaidc.org
SUMMARY:Shabbat Service
DESCRIPTION:Join us in person or virtually for our weekly Shabbat service. Click here for livestream.  \nServices are preceded by an oneg beginning at 6:00 pm.
URL:https://www.templesinaidc.org/event/shabbat-service-6/2026-05-01/
LOCATION:Temple Sinai – 3100 Military Road NW\, Washington\, DC\, United States
CATEGORIES:Worship
ATTACH;FMTTYPE=image/jpeg:https://www.templesinaidc.org/wp-content/uploads/2025/02/Boxcast-.jpg
GEO:38.96926;-77.070949
END:VEVENT
BEGIN:VEVENT
DTSTART;TZID=America/New_York:20260515T183000
DTEND;TZID=America/New_York:20260515T193000
DTSTAMP:20260423T200207
CREATED:20250213T141737Z
LAST-MODIFIED:20260218T210832Z
UID:10002230-1778869800-1778873400@www.templesinaidc.org
SUMMARY:Shabbat Service
DESCRIPTION:Join us in person or virtually for our weekly Shabbat service. Click here for livestream.  \nServices are preceded by an oneg beginning at 6:00 pm.
URL:https://www.templesinaidc.org/event/shabbat-service-6/2026-05-15/
LOCATION:Temple Sinai – 3100 Military Road NW\, Washington\, DC\, United States
CATEGORIES:Worship
ATTACH;FMTTYPE=image/jpeg:https://www.templesinaidc.org/wp-content/uploads/2025/02/Boxcast-.jpg
GEO:38.96926;-77.070949
END:VEVENT
BEGIN:VEVENT
DTSTART;TZID=America/New_York:20260522T183000
DTEND;TZID=America/New_York:20260522T193000
DTSTAMP:20260423T200207
CREATED:20250213T141737Z
LAST-MODIFIED:20260218T210832Z
UID:10002231-1779474600-1779478200@www.templesinaidc.org
SUMMARY:Shabbat Service
DESCRIPTION:Join us in person or virtually for our weekly Shabbat service. Click here for livestream.  \nServices are preceded by an oneg beginning at 6:00 pm.
URL:https://www.templesinaidc.org/event/shabbat-service-6/2026-05-22/
LOCATION:Temple Sinai – 3100 Military Road NW\, Washington\, DC\, United States
CATEGORIES:Worship
ATTACH;FMTTYPE=image/jpeg:https://www.templesinaidc.org/wp-content/uploads/2025/02/Boxcast-.jpg
GEO:38.96926;-77.070949
END:VEVENT
BEGIN:VEVENT
DTSTART;TZID=America/New_York:20260529T183000
DTEND;TZID=America/New_York:20260529T193000
DTSTAMP:20260423T200207
CREATED:20250213T141737Z
LAST-MODIFIED:20260218T210832Z
UID:10002232-1780079400-1780083000@www.templesinaidc.org
SUMMARY:Shabbat Service
DESCRIPTION:Join us in person or virtually for our weekly Shabbat service. Click here for livestream.  \nServices are preceded by an oneg beginning at 6:00 pm.
URL:https://www.templesinaidc.org/event/shabbat-service-6/2026-05-29/
LOCATION:Temple Sinai – 3100 Military Road NW\, Washington\, DC\, United States
CATEGORIES:Worship
ATTACH;FMTTYPE=image/jpeg:https://www.templesinaidc.org/wp-content/uploads/2025/02/Boxcast-.jpg
GEO:38.96926;-77.070949
END:VEVENT
BEGIN:VEVENT
DTSTART;TZID=America/New_York:20260605T183000
DTEND;TZID=America/New_York:20260605T193000
DTSTAMP:20260423T200207
CREATED:20250213T141737Z
LAST-MODIFIED:20260218T210832Z
UID:10002233-1780684200-1780687800@www.templesinaidc.org
SUMMARY:Shabbat Service
DESCRIPTION:Join us in person or virtually for our weekly Shabbat service. Click here for livestream.  \nServices are preceded by an oneg beginning at 6:00 pm.
URL:https://www.templesinaidc.org/event/shabbat-service-6/2026-06-05/
LOCATION:Temple Sinai – 3100 Military Road NW\, Washington\, DC\, United States
CATEGORIES:Worship
ATTACH;FMTTYPE=image/jpeg:https://www.templesinaidc.org/wp-content/uploads/2025/02/Boxcast-.jpg
GEO:38.96926;-77.070949
END:VEVENT
BEGIN:VEVENT
DTSTART;TZID=America/New_York:20260612T183000
DTEND;TZID=America/New_York:20260612T193000
DTSTAMP:20260423T200207
CREATED:20250213T141737Z
LAST-MODIFIED:20260218T210832Z
UID:10002234-1781289000-1781292600@www.templesinaidc.org
SUMMARY:Shabbat Service
DESCRIPTION:Join us in person or virtually for our weekly Shabbat service. Click here for livestream.  \nServices are preceded by an oneg beginning at 6:00 pm.
URL:https://www.templesinaidc.org/event/shabbat-service-6/2026-06-12/
LOCATION:Temple Sinai – 3100 Military Road NW\, Washington\, DC\, United States
CATEGORIES:Worship
ATTACH;FMTTYPE=image/jpeg:https://www.templesinaidc.org/wp-content/uploads/2025/02/Boxcast-.jpg
GEO:38.96926;-77.070949
END:VEVENT
BEGIN:VEVENT
DTSTART;TZID=America/New_York:20260619T183000
DTEND;TZID=America/New_York:20260619T193000
DTSTAMP:20260423T200207
CREATED:20250213T141737Z
LAST-MODIFIED:20260218T210832Z
UID:10002235-1781893800-1781897400@www.templesinaidc.org
SUMMARY:Shabbat Service
DESCRIPTION:Join us in person or virtually for our weekly Shabbat service. Click here for livestream.  \nServices are preceded by an oneg beginning at 6:00 pm.
URL:https://www.templesinaidc.org/event/shabbat-service-6/2026-06-19/
LOCATION:Temple Sinai – 3100 Military Road NW\, Washington\, DC\, United States
CATEGORIES:Worship
ATTACH;FMTTYPE=image/jpeg:https://www.templesinaidc.org/wp-content/uploads/2025/02/Boxcast-.jpg
GEO:38.96926;-77.070949
END:VEVENT
BEGIN:VEVENT
DTSTART;TZID=America/New_York:20260626T183000
DTEND;TZID=America/New_York:20260626T193000
DTSTAMP:20260423T200207
CREATED:20250213T141737Z
LAST-MODIFIED:20260218T210832Z
UID:10002236-1782498600-1782502200@www.templesinaidc.org
SUMMARY:Shabbat Service
DESCRIPTION:Join us in person or virtually for our weekly Shabbat service. Click here for livestream.  \nServices are preceded by an oneg beginning at 6:00 pm.
URL:https://www.templesinaidc.org/event/shabbat-service-6/2026-06-26/
LOCATION:Temple Sinai – 3100 Military Road NW\, Washington\, DC\, United States
CATEGORIES:Worship
ATTACH;FMTTYPE=image/jpeg:https://www.templesinaidc.org/wp-content/uploads/2025/02/Boxcast-.jpg
GEO:38.96926;-77.070949
END:VEVENT
BEGIN:VEVENT
DTSTART;TZID=America/New_York:20260703T183000
DTEND;TZID=America/New_York:20260703T193000
DTSTAMP:20260423T200207
CREATED:20250213T141737Z
LAST-MODIFIED:20260218T210832Z
UID:10002237-1783103400-1783107000@www.templesinaidc.org
SUMMARY:Shabbat Service
DESCRIPTION:Join us in person or virtually for our weekly Shabbat service. Click here for livestream.  \nServices are preceded by an oneg beginning at 6:00 pm.
URL:https://www.templesinaidc.org/event/shabbat-service-6/2026-07-03/
LOCATION:Temple Sinai – 3100 Military Road NW\, Washington\, DC\, United States
CATEGORIES:Worship
ATTACH;FMTTYPE=image/jpeg:https://www.templesinaidc.org/wp-content/uploads/2025/02/Boxcast-.jpg
GEO:38.96926;-77.070949
END:VEVENT
BEGIN:VEVENT
DTSTART;TZID=America/New_York:20260710T183000
DTEND;TZID=America/New_York:20260710T193000
DTSTAMP:20260423T200207
CREATED:20250213T141737Z
LAST-MODIFIED:20260218T210832Z
UID:10002238-1783708200-1783711800@www.templesinaidc.org
SUMMARY:Shabbat Service
DESCRIPTION:Join us in person or virtually for our weekly Shabbat service. Click here for livestream.  \nServices are preceded by an oneg beginning at 6:00 pm.
URL:https://www.templesinaidc.org/event/shabbat-service-6/2026-07-10/
LOCATION:Temple Sinai – 3100 Military Road NW\, Washington\, DC\, United States
CATEGORIES:Worship
ATTACH;FMTTYPE=image/jpeg:https://www.templesinaidc.org/wp-content/uploads/2025/02/Boxcast-.jpg
GEO:38.96926;-77.070949
END:VEVENT
BEGIN:VEVENT
DTSTART;TZID=America/New_York:20260717T183000
DTEND;TZID=America/New_York:20260717T193000
DTSTAMP:20260423T200207
CREATED:20250213T141737Z
LAST-MODIFIED:20260218T210832Z
UID:10002239-1784313000-1784316600@www.templesinaidc.org
SUMMARY:Shabbat Service
DESCRIPTION:Join us in person or virtually for our weekly Shabbat service. Click here for livestream.  \nServices are preceded by an oneg beginning at 6:00 pm.
URL:https://www.templesinaidc.org/event/shabbat-service-6/2026-07-17/
LOCATION:Temple Sinai – 3100 Military Road NW\, Washington\, DC\, United States
CATEGORIES:Worship
ATTACH;FMTTYPE=image/jpeg:https://www.templesinaidc.org/wp-content/uploads/2025/02/Boxcast-.jpg
GEO:38.96926;-77.070949
END:VEVENT
BEGIN:VEVENT
DTSTART;TZID=America/New_York:20260724T183000
DTEND;TZID=America/New_York:20260724T193000
DTSTAMP:20260423T200207
CREATED:20250213T141737Z
LAST-MODIFIED:20260218T210832Z
UID:10002240-1784917800-1784921400@www.templesinaidc.org
SUMMARY:Shabbat Service
DESCRIPTION:Join us in person or virtually for our weekly Shabbat service. Click here for livestream.  \nServices are preceded by an oneg beginning at 6:00 pm.
URL:https://www.templesinaidc.org/event/shabbat-service-6/2026-07-24/
LOCATION:Temple Sinai – 3100 Military Road NW\, Washington\, DC\, United States
CATEGORIES:Worship
ATTACH;FMTTYPE=image/jpeg:https://www.templesinaidc.org/wp-content/uploads/2025/02/Boxcast-.jpg
GEO:38.96926;-77.070949
END:VEVENT
BEGIN:VEVENT
DTSTART;TZID=America/New_York:20260731T183000
DTEND;TZID=America/New_York:20260731T193000
DTSTAMP:20260423T200207
CREATED:20250213T141737Z
LAST-MODIFIED:20260218T210832Z
UID:10002241-1785522600-1785526200@www.templesinaidc.org
SUMMARY:Shabbat Service
DESCRIPTION:Join us in person or virtually for our weekly Shabbat service. Click here for livestream.  \nServices are preceded by an oneg beginning at 6:00 pm.
URL:https://www.templesinaidc.org/event/shabbat-service-6/2026-07-31/
LOCATION:Temple Sinai – 3100 Military Road NW\, Washington\, DC\, United States
CATEGORIES:Worship
ATTACH;FMTTYPE=image/jpeg:https://www.templesinaidc.org/wp-content/uploads/2025/02/Boxcast-.jpg
GEO:38.96926;-77.070949
END:VEVENT
BEGIN:VEVENT
DTSTART;TZID=America/New_York:20260807T183000
DTEND;TZID=America/New_York:20260807T193000
DTSTAMP:20260423T200207
CREATED:20250213T141737Z
LAST-MODIFIED:20260218T210832Z
UID:10002242-1786127400-1786131000@www.templesinaidc.org
SUMMARY:Shabbat Service
DESCRIPTION:Join us in person or virtually for our weekly Shabbat service. Click here for livestream.  \nServices are preceded by an oneg beginning at 6:00 pm.
URL:https://www.templesinaidc.org/event/shabbat-service-6/2026-08-07/
LOCATION:Temple Sinai – 3100 Military Road NW\, Washington\, DC\, United States
CATEGORIES:Worship
ATTACH;FMTTYPE=image/jpeg:https://www.templesinaidc.org/wp-content/uploads/2025/02/Boxcast-.jpg
GEO:38.96926;-77.070949
END:VEVENT
BEGIN:VEVENT
DTSTART;TZID=America/New_York:20260814T183000
DTEND;TZID=America/New_York:20260814T193000
DTSTAMP:20260423T200207
CREATED:20250213T141737Z
LAST-MODIFIED:20260218T210832Z
UID:10002243-1786732200-1786735800@www.templesinaidc.org
SUMMARY:Shabbat Service
DESCRIPTION:Join us in person or virtually for our weekly Shabbat service. Click here for livestream.  \nServices are preceded by an oneg beginning at 6:00 pm.
URL:https://www.templesinaidc.org/event/shabbat-service-6/2026-08-14/
LOCATION:Temple Sinai – 3100 Military Road NW\, Washington\, DC\, United States
CATEGORIES:Worship
ATTACH;FMTTYPE=image/jpeg:https://www.templesinaidc.org/wp-content/uploads/2025/02/Boxcast-.jpg
GEO:38.96926;-77.070949
END:VEVENT
BEGIN:VEVENT
DTSTART;TZID=America/New_York:20260821T183000
DTEND;TZID=America/New_York:20260821T193000
DTSTAMP:20260423T200207
CREATED:20250213T141737Z
LAST-MODIFIED:20260218T210832Z
UID:10002244-1787337000-1787340600@www.templesinaidc.org
SUMMARY:Shabbat Service
DESCRIPTION:Join us in person or virtually for our weekly Shabbat service. Click here for livestream.  \nServices are preceded by an oneg beginning at 6:00 pm.
URL:https://www.templesinaidc.org/event/shabbat-service-6/2026-08-21/
LOCATION:Temple Sinai – 3100 Military Road NW\, Washington\, DC\, United States
CATEGORIES:Worship
ATTACH;FMTTYPE=image/jpeg:https://www.templesinaidc.org/wp-content/uploads/2025/02/Boxcast-.jpg
GEO:38.96926;-77.070949
END:VEVENT
BEGIN:VEVENT
DTSTART;TZID=America/New_York:20260828T183000
DTEND;TZID=America/New_York:20260828T193000
DTSTAMP:20260423T200207
CREATED:20250213T141737Z
LAST-MODIFIED:20260218T210832Z
UID:10002245-1787941800-1787945400@www.templesinaidc.org
SUMMARY:Shabbat Service
DESCRIPTION:Join us in person or virtually for our weekly Shabbat service. Click here for livestream.  \nServices are preceded by an oneg beginning at 6:00 pm.
URL:https://www.templesinaidc.org/event/shabbat-service-6/2026-08-28/
LOCATION:Temple Sinai – 3100 Military Road NW\, Washington\, DC\, United States
CATEGORIES:Worship
ATTACH;FMTTYPE=image/jpeg:https://www.templesinaidc.org/wp-content/uploads/2025/02/Boxcast-.jpg
GEO:38.96926;-77.070949
END:VEVENT
BEGIN:VEVENT
DTSTART;TZID=America/New_York:20260904T183000
DTEND;TZID=America/New_York:20260904T193000
DTSTAMP:20260423T200207
CREATED:20250213T141737Z
LAST-MODIFIED:20260218T210832Z
UID:10002246-1788546600-1788550200@www.templesinaidc.org
SUMMARY:Shabbat Service
DESCRIPTION:Join us in person or virtually for our weekly Shabbat service. Click here for livestream.  \nServices are preceded by an oneg beginning at 6:00 pm.
URL:https://www.templesinaidc.org/event/shabbat-service-6/2026-09-04/
LOCATION:Temple Sinai – 3100 Military Road NW\, Washington\, DC\, United States
CATEGORIES:Worship
ATTACH;FMTTYPE=image/jpeg:https://www.templesinaidc.org/wp-content/uploads/2025/02/Boxcast-.jpg
GEO:38.96926;-77.070949
END:VEVENT
BEGIN:VEVENT
DTSTART;TZID=America/New_York:20260911T183000
DTEND;TZID=America/New_York:20260911T193000
DTSTAMP:20260423T200207
CREATED:20250213T141737Z
LAST-MODIFIED:20260218T210832Z
UID:10002247-1789151400-1789155000@www.templesinaidc.org
SUMMARY:Shabbat Service
DESCRIPTION:Join us in person or virtually for our weekly Shabbat service. Click here for livestream.  \nServices are preceded by an oneg beginning at 6:00 pm.
URL:https://www.templesinaidc.org/event/shabbat-service-6/2026-09-11/
LOCATION:Temple Sinai – 3100 Military Road NW\, Washington\, DC\, United States
CATEGORIES:Worship
ATTACH;FMTTYPE=image/jpeg:https://www.templesinaidc.org/wp-content/uploads/2025/02/Boxcast-.jpg
GEO:38.96926;-77.070949
END:VEVENT
BEGIN:VEVENT
DTSTART;TZID=America/New_York:20260918T183000
DTEND;TZID=America/New_York:20260918T193000
DTSTAMP:20260423T200207
CREATED:20250213T141737Z
LAST-MODIFIED:20260218T210832Z
UID:10002248-1789756200-1789759800@www.templesinaidc.org
SUMMARY:Shabbat Service
DESCRIPTION:Join us in person or virtually for our weekly Shabbat service. Click here for livestream.  \nServices are preceded by an oneg beginning at 6:00 pm.
URL:https://www.templesinaidc.org/event/shabbat-service-6/2026-09-18/
LOCATION:Temple Sinai – 3100 Military Road NW\, Washington\, DC\, United States
CATEGORIES:Worship
ATTACH;FMTTYPE=image/jpeg:https://www.templesinaidc.org/wp-content/uploads/2025/02/Boxcast-.jpg
GEO:38.96926;-77.070949
END:VEVENT
BEGIN:VEVENT
DTSTART;TZID=America/New_York:20260925T183000
DTEND;TZID=America/New_York:20260925T193000
DTSTAMP:20260423T200207
CREATED:20250213T141737Z
LAST-MODIFIED:20260218T210832Z
UID:10002249-1790361000-1790364600@www.templesinaidc.org
SUMMARY:Shabbat Service
DESCRIPTION:Join us in person or virtually for our weekly Shabbat service. Click here for livestream.  \nServices are preceded by an oneg beginning at 6:00 pm.
URL:https://www.templesinaidc.org/event/shabbat-service-6/2026-09-25/
LOCATION:Temple Sinai – 3100 Military Road NW\, Washington\, DC\, United States
CATEGORIES:Worship
ATTACH;FMTTYPE=image/jpeg:https://www.templesinaidc.org/wp-content/uploads/2025/02/Boxcast-.jpg
GEO:38.96926;-77.070949
END:VEVENT
BEGIN:VEVENT
DTSTART;TZID=America/New_York:20261002T183000
DTEND;TZID=America/New_York:20261002T193000
DTSTAMP:20260423T200207
CREATED:20250213T141737Z
LAST-MODIFIED:20260218T210832Z
UID:10002250-1790965800-1790969400@www.templesinaidc.org
SUMMARY:Shabbat Service
DESCRIPTION:Join us in person or virtually for our weekly Shabbat service. Click here for livestream.  \nServices are preceded by an oneg beginning at 6:00 pm.
URL:https://www.templesinaidc.org/event/shabbat-service-6/2026-10-02/
LOCATION:Temple Sinai – 3100 Military Road NW\, Washington\, DC\, United States
CATEGORIES:Worship
ATTACH;FMTTYPE=image/jpeg:https://www.templesinaidc.org/wp-content/uploads/2025/02/Boxcast-.jpg
GEO:38.96926;-77.070949
END:VEVENT
BEGIN:VEVENT
DTSTART;TZID=America/New_York:20261009T183000
DTEND;TZID=America/New_York:20261009T193000
DTSTAMP:20260423T200207
CREATED:20250213T141737Z
LAST-MODIFIED:20260218T210832Z
UID:10002251-1791570600-1791574200@www.templesinaidc.org
SUMMARY:Shabbat Service
DESCRIPTION:Join us in person or virtually for our weekly Shabbat service. Click here for livestream.  \nServices are preceded by an oneg beginning at 6:00 pm.
URL:https://www.templesinaidc.org/event/shabbat-service-6/2026-10-09/
LOCATION:Temple Sinai – 3100 Military Road NW\, Washington\, DC\, United States
CATEGORIES:Worship
ATTACH;FMTTYPE=image/jpeg:https://www.templesinaidc.org/wp-content/uploads/2025/02/Boxcast-.jpg
GEO:38.96926;-77.070949
END:VEVENT
BEGIN:VEVENT
DTSTART;TZID=America/New_York:20261016T183000
DTEND;TZID=America/New_York:20261016T193000
DTSTAMP:20260423T200207
CREATED:20250213T141737Z
LAST-MODIFIED:20260218T210832Z
UID:10002252-1792175400-1792179000@www.templesinaidc.org
SUMMARY:Shabbat Service
DESCRIPTION:Join us in person or virtually for our weekly Shabbat service. Click here for livestream.  \nServices are preceded by an oneg beginning at 6:00 pm.
URL:https://www.templesinaidc.org/event/shabbat-service-6/2026-10-16/
LOCATION:Temple Sinai – 3100 Military Road NW\, Washington\, DC\, United States
CATEGORIES:Worship
ATTACH;FMTTYPE=image/jpeg:https://www.templesinaidc.org/wp-content/uploads/2025/02/Boxcast-.jpg
GEO:38.96926;-77.070949
END:VEVENT
BEGIN:VEVENT
DTSTART;TZID=America/New_York:20261023T183000
DTEND;TZID=America/New_York:20261023T193000
DTSTAMP:20260423T200207
CREATED:20250213T141737Z
LAST-MODIFIED:20260218T210832Z
UID:10002253-1792780200-1792783800@www.templesinaidc.org
SUMMARY:Shabbat Service
DESCRIPTION:Join us in person or virtually for our weekly Shabbat service. Click here for livestream.  \nServices are preceded by an oneg beginning at 6:00 pm.
URL:https://www.templesinaidc.org/event/shabbat-service-6/2026-10-23/
LOCATION:Temple Sinai – 3100 Military Road NW\, Washington\, DC\, United States
CATEGORIES:Worship
ATTACH;FMTTYPE=image/jpeg:https://www.templesinaidc.org/wp-content/uploads/2025/02/Boxcast-.jpg
GEO:38.96926;-77.070949
END:VEVENT
BEGIN:VEVENT
DTSTART;TZID=America/New_York:20261030T183000
DTEND;TZID=America/New_York:20261030T193000
DTSTAMP:20260423T200207
CREATED:20250213T141737Z
LAST-MODIFIED:20260218T210832Z
UID:10002254-1793385000-1793388600@www.templesinaidc.org
SUMMARY:Shabbat Service
DESCRIPTION:Join us in person or virtually for our weekly Shabbat service. Click here for livestream.  \nServices are preceded by an oneg beginning at 6:00 pm.
URL:https://www.templesinaidc.org/event/shabbat-service-6/2026-10-30/
LOCATION:Temple Sinai – 3100 Military Road NW\, Washington\, DC\, United States
CATEGORIES:Worship
ATTACH;FMTTYPE=image/jpeg:https://www.templesinaidc.org/wp-content/uploads/2025/02/Boxcast-.jpg
GEO:38.96926;-77.070949
END:VEVENT
BEGIN:VEVENT
DTSTART;TZID=America/New_York:20261106T183000
DTEND;TZID=America/New_York:20261106T193000
DTSTAMP:20260423T200207
CREATED:20250213T141737Z
LAST-MODIFIED:20260218T210832Z
UID:10002255-1793989800-1793993400@www.templesinaidc.org
SUMMARY:Shabbat Service
DESCRIPTION:Join us in person or virtually for our weekly Shabbat service. Click here for livestream.  \nServices are preceded by an oneg beginning at 6:00 pm.
URL:https://www.templesinaidc.org/event/shabbat-service-6/2026-11-06/
LOCATION:Temple Sinai – 3100 Military Road NW\, Washington\, DC\, United States
CATEGORIES:Worship
ATTACH;FMTTYPE=image/jpeg:https://www.templesinaidc.org/wp-content/uploads/2025/02/Boxcast-.jpg
GEO:38.96926;-77.070949
END:VEVENT
BEGIN:VEVENT
DTSTART;TZID=America/New_York:20261113T183000
DTEND;TZID=America/New_York:20261113T193000
DTSTAMP:20260423T200207
CREATED:20250213T141737Z
LAST-MODIFIED:20260218T210832Z
UID:10002256-1794594600-1794598200@www.templesinaidc.org
SUMMARY:Shabbat Service
DESCRIPTION:Join us in person or virtually for our weekly Shabbat service. Click here for livestream.  \nServices are preceded by an oneg beginning at 6:00 pm.
URL:https://www.templesinaidc.org/event/shabbat-service-6/2026-11-13/
LOCATION:Temple Sinai – 3100 Military Road NW\, Washington\, DC\, United States
CATEGORIES:Worship
ATTACH;FMTTYPE=image/jpeg:https://www.templesinaidc.org/wp-content/uploads/2025/02/Boxcast-.jpg
GEO:38.96926;-77.070949
END:VEVENT
BEGIN:VEVENT
DTSTART;TZID=America/New_York:20261120T183000
DTEND;TZID=America/New_York:20261120T193000
DTSTAMP:20260423T200207
CREATED:20250213T141737Z
LAST-MODIFIED:20260218T210832Z
UID:10002257-1795199400-1795203000@www.templesinaidc.org
SUMMARY:Shabbat Service
DESCRIPTION:Join us in person or virtually for our weekly Shabbat service. Click here for livestream.  \nServices are preceded by an oneg beginning at 6:00 pm.
URL:https://www.templesinaidc.org/event/shabbat-service-6/2026-11-20/
LOCATION:Temple Sinai – 3100 Military Road NW\, Washington\, DC\, United States
CATEGORIES:Worship
ATTACH;FMTTYPE=image/jpeg:https://www.templesinaidc.org/wp-content/uploads/2025/02/Boxcast-.jpg
GEO:38.96926;-77.070949
END:VEVENT
END:VCALENDAR